{"text_format":"1","workbook":"xlsx","n_sheets":16,"sheets":["Coordonnées","aide ventilation","LIVRE","BILAN","Rapprochement bancaire","Gestion analytique des Projets ","Projets (suite)","remise espèces","remise chèques","pièces =","1","2","3","4","5","6"],"not_rendered":{"charts":0,"images":2,"macros":0,"external_links":0,"defined_names":1,"comments":4,"pivot_tables":0},"unopened":[],"bounds":{"document_bytes":16777216,"sheet_cells":100000,"rows_first":2000,"rows_last":500,"rows_between":2000,"halvings":0,"cell_chars":16384,"cell_head_chars":4096},"cells_cut":0,"cells_raw":0,"read":"whole","date_system":"1900"}

{"sheet":"Coordonnées","index":0,"n_rows":14,"n_cols":2,"rows_kept":14,"cut":false,"hidden":false,"merged":[[0,0,0,1],[8,0,8,1],[12,0,12,1],[13,0,13,1]]}
["Coordonnées de la coopérative scolaire :"]
["Nom de l'école :"]
["Adresse :"]
["Code postal - Ville :"]
["Mandataire (nom, prénom) :"]
["Coopérative n° :"]
["Compte BPO ou C.M.E  n° :"]
[]
["Année scolaire :"]
["de Septembre ",2023]
["à Août ",2024]
[]
["Retrouvez toutes les infos pour la gestion de votre coop :\nhttps://ad44.occe.coop/page/outils-pour-les-mandataires-1#outils\n\nRappel : ce fichier tableur doit être téléchargé à chaque début d'année scolaire !\n"]
["Excel'ComptesCoop - Version Septembre 2020"]

{"sheet":"aide ventilation","index":1,"n_rows":11,"n_cols":5,"rows_kept":11,"cut":false,"hidden":false,"merged":[[0,0,0,4],[1,0,1,1],[1,3,1,4]]}
["Ventilation des comptes de charges et produits"]
["PRODUITS",null,null,"CHARGES"]
[70700008,"Ventes de produits pour cessions :\nCe sont les produits des ventes d'objets, photos, etc\n(attention à respecter les règles des pratiques commerciales)",null,60700008,"Achats de produits pour cession :\non y inscrit le montant TTC des factures de tous les articles achetés pour être revendus en l'état, tels que :\nles photos scolaires, les livres achetés et revendus, les viennoiseries vendues dans l'école, les achats agroupés permettant d'obtenir des tarifs préférentiels"]
[70800008,"Produits des activités éducatives :\nversements des parents pour les séjours, sorties et spectacles, ventes de journaux scolaires, ventes d'objets fabriqués à l'école, participation parents aux goûters, fêtes d'école, loto, etc",null,61810008,"Charges des activités éducatives :\nToutes les dépenses liées aux activités de la coopérative :\nfrais de sorties scolaires, classes transplantées, spectacles\nachat de matériel pour fabriquer des objets dans un projet pédagogique\nachat ou abonnement à des journaux scolaires\nachat de livres pour la bibliothèque\ndéveloppement de photo lors d'activités de la coopérative"]
[74100008,"Subvention des collectivités territoriales :\nsubventions versées par la municipalité, la communauté de communes, les conseils départementaux ou régionaux, les organismes publics",null,61681008,"Assurance versée pour les activités de la coopérative :\nle montant se trouve sur la facture d'adhésion que l'OCCE vous a envoyée"]
[75511008,"autres subventions :\ncelles versées par d'autres associations (APE, ..), des entreprises (dons), agence de l'eau, ..",null,65860008,"Cotisation versée à l'OCCE :\nc'est le montant de votre adhésion à l'OCCE, il se trouve sur la facture d'adhésion que l'OCCE vous a envoyée. Ce n'est pas le montant total de votre chèque à l'OCCE puisqu'il y a aussi le montant de l'assurance."]
[75510008,"contributions financières plateforme participative :\nle montant reçu par la Trousse à Projet",null,62700008,"Frais des services bancaires :\nfrais de renue de comptes, coût de la carte de dépôt, agios, etc"]
[75620008,"Participation volontaires des familles :\nparticipation que les parents donnent en début d'année. Cette participation n'est pas obligatoire.",null,67000008,"Charges exceptionnelles :\ntoutes les dépenses imprévues :\nfleurs pour le décès d'un parent ou élève, action de solidarité, etc"]
[76700008,"Produits Financiers :\ncomme les placements sont interdits, cette colonne ne sert à rien",null,68000008,"Achats de biens durables :\nil s'agit des matériels qui peuvent être utilisés pendant plusieurs années pour les activités de la coopérative :\nappareil photos, lecteur CD, jumelles, boussoles, .."]
[77000008,"Produits exceptionnels :\nopérations imprévues (quêtes de mariages, ..), remboursement d'assurance, reversement suite à des dissolutions de coopératives ou autres associations, ..",null,68000008,"Achats de biens durables :\nil s'agit des matériels qui peuvent être utilisés pendant plusieurs années pour les activités de la coopérative :\nappareil photos, lecteur CD, jumelles, boussoles, .."]
[null,null,null,null,"plan comptable 1/09/2020"]

{"sheet":"LIVRE","index":2,"n_rows":316,"n_cols":29,"rows_kept":316,"cut":false,"hidden":false,"merged":[[0,0,0,3],[0,4,0,5],[0,6,0,8],[0,9,0,11],[0,12,4,12],[0,13,0,20],[0,22,0,28],[1,0,4,0],[1,1,4,1],[1,3,4,3],[1,4,4,4],[1,5,4,5],[1,6,4,6],[1,7,4,7],[1,8,4,8],[1,9,4,9],[1,10,4,10],[1,11,4,11],[1,21,4,21],[2,13,4,13],[2,14,4,14],[2,15,4,15],[2,16,4,16],[2,17,4,17],[2,18,4,18],[2,19,4,19],[2,20,4,20],[2,22,4,22],[2,23,4,23],[2,24,4,24],[2,25,4,25],[2,26,4,26],[2,27,4,27],[2,28,4,28],[5,0,6,0],[5,1,6,1],[5,2,6,2]]}
[{"$f":"Coordonnées!B2&\" - \"&Coordonnées!B4","v":"-"},null,null,null,"Régies d'avance",null,"BANQUE",null,null,"CAISSE",null,null,"Situation générale","PRODUITS",null,null,null,null,null,null,null,null,"CHARGES"]
["N°   P.J.","Date","Pointage","Libellé\n\nNature de l'opération  /  Numéro du chèque","Reçu la\nsomme\nde :","Versé la\nsomme\nde :","Entrées","Sorties","Situation","Entrées","Sorties","Situation",null,70700008,70800008,74100008,75511008,75510008,75620008,76700008,77000008,"validité",60700008,61810008,65860008,61681008,62700008,67000008,68000008]
[null,null,"bancaire",null,null,null,null,null,null,null,null,null,null,"Cessions\nde produits","Produits des activités éducatives","Subventions reçues collectivités locales","Autres subventions","Plateforme participative","Participations volontaires des familles","Produits financiers","Produits excep-tionnels ",null,"Achats de produits pour cession","Charges des activités éducatives","Cotisations statutaires versées à l'OCCE","assurance versée à l'OCCE","Frais bancaires","Charges excep-tionnelles","Budget de gros équipement"]
[null,null,"ou"]
[null,null,"postal"]
[null,null,"Préciser le n° de relevé","BILAN A LA DERNIERE OPERATION",{"$f":"E316","v":0},{"$f":"F316","v":0},{"$f":"G316","v":0},{"$f":"H316","v":0},{"$f":"I316","v":0},{"$f":"J316","v":0},{"$f":"K316","v":0},{"$f":"L316","v":0},{"$f":"M316","v":0},{"$f":"N316","v":0},{"$f":"O316","v":0},{"$f":"P316","v":0},{"$f":"Q316","v":0},{"$f":"R316","v":0},{"$f":"S316","v":0},{"$f":"T316","v":0},{"$f":"U316","v":0},null,{"$f":"W316","v":0},{"$f":"X316","v":0},{"$f":"Y316","v":0},{"$f":"Z316","v":0},{"$f":"AA316","v":0},{"$f":"AB316","v":0},{"$f":"AC316","v":0}]
[null,null,null,"REPORT (frapper valeur ccp/banque et/ou caisse)",null,null,null,null,null,null,null,null,{"$f":"IF(I7+L7=0,\"\",I7+L7)","v":""}]
[1,null,null,null,null,null,null,null,{"$f":"IF(D8=\"\",\"\",I7+G8-H8)","v":""},null,null,{"$f":"IF(D8=\"\",\"\",L7+J8-K8)","v":""},{"$f":"IF(D8=\"\",\"\",I8+L8)","v":""},null,null,null,null,null,null,null,null,{"$f":"IF(E8+F8+G8+H8+J8+K8=0,IF(N8+O8+P8+Q8+R8+S8+T8+U8+W8+X8+Y8+Z8+AA8+AB8+AC8>0,\"Classe\",\"\"),IF(OR(AND(E8<>0,F8=0,SUM(N8:U8)=0,SUM(W8:AC8)=0,H8+K8=0,G8+J8=E8),AND(F8<>0,E8=0,SUM(N8:U8)=0,SUM(W8:AC8)=0,G8+J8=0,H8+K8=F8),AND(E8=0,F8=0,H8+K8<>0,H8+K8=SUM(W8:AC8),SUM(N8:U8)=0,(H8+K8)<>(G8+J8)),AND(E8=0,F8=0,G8+J8<>0,G8+J8=SUM(N8:U8),SUM(W8:AC8)=0,(H8+K8)<>(G8+J8)),AND(E8=0,F8=0,J8=0,N8+O8+P8+Q8+R8+S8+T8+U8+W8+X8+Y8+Z8+AA8+AB8+AC8=0,K8<>0,K8=G8),AND(E8=0,F8=0,J8<>0,N8+O8+P8+Q8+R8+S8+T8+U8+W8+X8+Y8+Z8+AA8+AB8+AC8=0,K8=0,J8=H8)),\"OK\",\"??\"))","v":""}]
[2,null,null,null,null,null,null,null,{"$f":"IF(D9=\"\",\"\",I8+G9-H9)","v":""},null,null,{"$f":"IF(D9=\"\",\"\",L8+J9-K9)","v":""},{"$f":"IF(D9=\"\",\"\",I9+L9)","v":""},null,null,null,null,null,null,null,null,{"$f":"IF(E9+F9+G9+H9+J9+K9=0,IF(N9+O9+P9+Q9+R9+S9+T9+U9+W9+X9+Y9+Z9+AA9+AB9+AC9>0,\"Classe\",\"\"),IF(OR(AND(E9<>0,F9=0,SUM(N9:U9)=0,SUM(W9:AC9)=0,H9+K9=0,G9+J9=E9),AND(F9<>0,E9=0,SUM(N9:U9)=0,SUM(W9:AC9)=0,G9+J9=0,H9+K9=F9),AND(E9=0,F9=0,H9+K9<>0,H9+K9=SUM(W9:AC9),SUM(N9:U9)=0,(H9+K9)<>(G9+J9)),AND(E9=0,F9=0,G9+J9<>0,G9+J9=SUM(N9:U9),SUM(W9:AC9)=0,(H9+K9)<>(G9+J9)),AND(E9=0,F9=0,J9=0,N9+O9+P9+Q9+R9+S9+T9+U9+W9+X9+Y9+Z9+AA9+AB9+AC9=0,K9<>0,K9=G9),AND(E9=0,F9=0,J9<>0,N9+O9+P9+Q9+R9+S9+T9+U9+W9+X9+Y9+Z9+AA9+AB9+AC9=0,K9=0,J9=H9)),\"OK\",\"??\"))","v":""}]
[3,null,null,null,null,null,null,null,{"$f":"IF(D10=\"\",\"\",I9+G10-H10)","v":""},null,null,{"$f":"IF(D10=\"\",\"\",L9+J10-K10)","v":""},{"$f":"IF(D10=\"\",\"\",I10+L10)","v":""},null,null,null,null,null,null,null,null,{"$f":"IF(E10+F10+G10+H10+J10+K10=0,IF(N10+O10+P10+Q10+R10+S10+T10+U10+W10+X10+Y10+Z10+AA10+AB10+AC10>0,\"Classe\",\"\"),IF(OR(AND(E10<>0,F10=0,SUM(N10:U10)=0,SUM(W10:AC10)=0,H10+K10=0,G10+J10=E10),AND(F10<>0,E10=0,SUM(N10:U10)=0,SUM(W10:AC10)=0,G10+J10=0,H10+K10=F10),AND(E10=0,F10=0,H10+K10<>0,H10+K10=SUM(W10:AC10),SUM(N10:U10)=0,(H10+K10)<>(G10+J10)),AND(E10=0,F10=0,G10+J10<>0,G10+J10=SUM(N10:U10),SUM(W10:AC10)=0,(H10+K10)<>(G10+J10)),AND(E10=0,F10=0,J10=0,N10+O10+P10+Q10+R10+S10+T10+U10+W10+X10+Y10+Z10+AA10+AB10+AC10=0,K10<>0,K10=G10),AND(E10=0,F10=0,J10<>0,N10+O10+P10+Q10+R10+S10+T10+U10+W10+X10+Y10+Z10+AA10+AB10+AC10=0,K10=0,J10=H10)),\"OK\",\"??\"))","v":""}]
[4,null,null,null,null,null,null,null,{"$f":"IF(D11=\"\",\"\",I10+G11-H11)","v":""},null,null,{"$f":"IF(D11=\"\",\"\",L10+J11-K11)","v":""},{"$f":"IF(D11=\"\",\"\",I11+L11)","v":""},null,null,null,null,null,null,null,null,{"$f":"IF(E11+F11+G11+H11+J11+K11=0,IF(N11+O11+P11+Q11+R11+S11+T11+U11+W11+X11+Y11+Z11+AA11+AB11+AC11>0,\"Classe\",\"\"),IF(OR(AND(E11<>0,F11=0,SUM(N11:U11)=0,SUM(W11:AC11)=0,H11+K11=0,G11+J11=E11),AND(F11<>0,E11=0,SUM(N11:U11)=0,SUM(W11:AC11)=0,G11+J11=0,H11+K11=F11),AND(E11=0,F11=0,H11+K11<>0,H11+K11=SUM(W11:AC11),SUM(N11:U11)=0,(H11+K11)<>(G11+J11)),AND(E11=0,F11=0,G11+J11<>0,G11+J11=SUM(N11:U11),SUM(W11:AC11)=0,(H11+K11)<>(G11+J11)),AND(E11=0,F11=0,J11=0,N11+O11+P11+Q11+R11+S11+T11+U11+W11+X11+Y11+Z11+AA11+AB11+AC11=0,K11<>0,K11=G11),AND(E11=0,F11=0,J11<>0,N11+O11+P11+Q11+R11+S11+T11+U11+W11+X11+Y11+Z11+AA11+AB11+AC11=0,K11=0,J11=H11)),\"OK\",\"??\"))","v":""}]
[5,null,null,null,null,null,null,null,{"$f":"IF(D12=\"\",\"\",I11+G12-H12)","v":""},null,null,{"$f":"IF(D12=\"\",\"\",L11+J12-K12)","v":""},{"$f":"IF(D12=\"\",\"\",I12+L12)","v":""},null,null,null,null,null,null,null,null,{"$f":"IF(E12+F12+G12+H12+J12+K12=0,IF(N12+O12+P12+Q12+R12+S12+T12+U12+W12+X12+Y12+Z12+AA12+AB12+AC12>0,\"Classe\",\"\"),IF(OR(AND(E12<>0,F12=0,SUM(N12:U12)=0,SUM(W12:AC12)=0,H12+K12=0,G12+J12=E12),AND(F12<>0,E12=0,SUM(N12:U12)=0,SUM(W12:AC12)=0,G12+J12=0,H12+K12=F12),AND(E12=0,F12=0,H12+K12<>0,H12+K12=SUM(W12:AC12),SUM(N12:U12)=0,(H12+K12)<>(G12+J12)),AND(E12=0,F12=0,G12+J12<>0,G12+J12=SUM(N12:U12),SUM(W12:AC12)=0,(H12+K12)<>(G12+J12)),AND(E12=0,F12=0,J12=0,N12+O12+P12+Q12+R12+S12+T12+U12+W12+X12+Y12+Z12+AA12+AB12+AC12=0,K12<>0,K12=G12),AND(E12=0,F12=0,J12<>0,N12+O12+P12+Q12+R12+S12+T12+U12+W12+X12+Y12+Z12+AA12+AB12+AC12=0,K12=0,J12=H12)),\"OK\",\"??\"))","v":""}]
[6,null,null,null,null,null,null,null,{"$f":"IF(D13=\"\",\"\",I12+G13-H13)","v":""},null,null,{"$f":"IF(D13=\"\",\"\",L12+J13-K13)","v":""},{"$f":"IF(D13=\"\",\"\",I13+L13)","v":""},null,null,null,null,null,null,null,null,{"$f":"IF(E13+F13+G13+H13+J13+K13=0,IF(N13+O13+P13+Q13+R13+S13+T13+U13+W13+X13+Y13+Z13+AA13+AB13+AC13>0,\"Classe\",\"\"),IF(OR(AND(E13<>0,F13=0,SUM(N13:U13)=0,SUM(W13:AC13)=0,H13+K13=0,G13+J13=E13),AND(F13<>0,E13=0,SUM(N13:U13)=0,SUM(W13:AC13)=0,G13+J13=0,H13+K13=F13),AND(E13=0,F13=0,H13+K13<>0,H13+K13=SUM(W13:AC13),SUM(N13:U13)=0,(H13+K13)<>(G13+J13)),AND(E13=0,F13=0,G13+J13<>0,G13+J13=SUM(N13:U13),SUM(W13:AC13)=0,(H13+K13)<>(G13+J13)),AND(E13=0,F13=0,J13=0,N13+O13+P13+Q13+R13+S13+T13+U13+W13+X13+Y13+Z13+AA13+AB13+AC13=0,K13<>0,K13=G13),AND(E13=0,F13=0,J13<>0,N13+O13+P13+Q13+R13+S13+T13+U13+W13+X13+Y13+Z13+AA13+AB13+AC13=0,K13=0,J13=H13)),\"OK\",\"??\"))","v":""}]
[7,null,null,null,null,null,null,null,{"$f":"IF(D14=\"\",\"\",I13+G14-H14)","v":""},null,null,{"$f":"IF(D14=\"\",\"\",L13+J14-K14)","v":""},{"$f":"IF(D14=\"\",\"\",I14+L14)","v":""},null,null,null,null,null,null,null,null,{"$f":"IF(E14+F14+G14+H14+J14+K14=0,IF(N14+O14+P14+Q14+R14+S14+T14+U14+W14+X14+Y14+Z14+AA14+AB14+AC14>0,\"Classe\",\"\"),IF(OR(AND(E14<>0,F14=0,SUM(N14:U14)=0,SUM(W14:AC14)=0,H14+K14=0,G14+J14=E14),AND(F14<>0,E14=0,SUM(N14:U14)=0,SUM(W14:AC14)=0,G14+J14=0,H14+K14=F14),AND(E14=0,F14=0,H14+K14<>0,H14+K14=SUM(W14:AC14),SUM(N14:U14)=0,(H14+K14)<>(G14+J14)),AND(E14=0,F14=0,G14+J14<>0,G14+J14=SUM(N14:U14),SUM(W14:AC14)=0,(H14+K14)<>(G14+J14)),AND(E14=0,F14=0,J14=0,N14+O14+P14+Q14+R14+S14+T14+U14+W14+X14+Y14+Z14+AA14+AB14+AC14=0,K14<>0,K14=G14),AND(E14=0,F14=0,J14<>0,N14+O14+P14+Q14+R14+S14+T14+U14+W14+X14+Y14+Z14+AA14+AB14+AC14=0,K14=0,J14=H14)),\"OK\",\"??\"))","v":""}]
[8,null,null,null,null,null,null,null,{"$f":"IF(D15=\"\",\"\",I14+G15-H15)","v":""},null,null,{"$f":"IF(D15=\"\",\"\",L14+J15-K15)","v":""},{"$f":"IF(D15=\"\",\"\",I15+L15)","v":""},null,null,null,null,null,null,null,null,{"$f":"IF(E15+F15+G15+H15+J15+K15=0,IF(N15+O15+P15+Q15+R15+S15+T15+U15+W15+X15+Y15+Z15+AA15+AB15+AC15>0,\"Classe\",\"\"),IF(OR(AND(E15<>0,F15=0,SUM(N15:U15)=0,SUM(W15:AC15)=0,H15+K15=0,G15+J15=E15),AND(F15<>0,E15=0,SUM(N15:U15)=0,SUM(W15:AC15)=0,G15+J15=0,H15+K15=F15),AND(E15=0,F15=0,H15+K15<>0,H15+K15=SUM(W15:AC15),SUM(N15:U15)=0,(H15+K15)<>(G15+J15)),AND(E15=0,F15=0,G15+J15<>0,G15+J15=SUM(N15:U15),SUM(W15:AC15)=0,(H15+K15)<>(G15+J15)),AND(E15=0,F15=0,J15=0,N15+O15+P15+Q15+R15+S15+T15+U15+W15+X15+Y15+Z15+AA15+AB15+AC15=0,K15<>0,K15=G15),AND(E15=0,F15=0,J15<>0,N15+O15+P15+Q15+R15+S15+T15+U15+W15+X15+Y15+Z15+AA15+AB15+AC15=0,K15=0,J15=H15)),\"OK\",\"??\"))","v":""}]
[9,null,null,null,null,null,null,null,{"$f":"IF(D16=\"\",\"\",I15+G16-H16)","v":""},null,null,{"$f":"IF(D16=\"\",\"\",L15+J16-K16)","v":""},{"$f":"IF(D16=\"\",\"\",I16+L16)","v":""},null,null,null,null,null,null,null,null,{"$f":"IF(E16+F16+G16+H16+J16+K16=0,IF(N16+O16+P16+Q16+R16+S16+T16+U16+W16+X16+Y16+Z16+AA16+AB16+AC16>0,\"Classe\",\"\"),IF(OR(AND(E16<>0,F16=0,SUM(N16:U16)=0,SUM(W16:AC16)=0,H16+K16=0,G16+J16=E16),AND(F16<>0,E16=0,SUM(N16:U16)=0,SUM(W16:AC16)=0,G16+J16=0,H16+K16=F16),AND(E16=0,F16=0,H16+K16<>0,H16+K16=SUM(W16:AC16),SUM(N16:U16)=0,(H16+K16)<>(G16+J16)),AND(E16=0,F16=0,G16+J16<>0,G16+J16=SUM(N16:U16),SUM(W16:AC16)=0,(H16+K16)<>(G16+J16)),AND(E16=0,F16=0,J16=0,N16+O16+P16+Q16+R16+S16+T16+U16+W16+X16+Y16+Z16+AA16+AB16+AC16=0,K16<>0,K16=G16),AND(E16=0,F16=0,J16<>0,N16+O16+P16+Q16+R16+S16+T16+U16+W16+X16+Y16+Z16+AA16+AB16+AC16=0,K16=0,J16=H16)),\"OK\",\"??\"))","v":""}]
[10,null,null,null,null,null,null,null,{"$f":"IF(D17=\"\",\"\",I16+G17-H17)","v":""},null,null,{"$f":"IF(D17=\"\",\"\",L16+J17-K17)","v":""},{"$f":"IF(D17=\"\",\"\",I17+L17)","v":""},null,null,null,null,null,null,null,null,{"$f":"IF(E17+F17+G17+H17+J17+K17=0,IF(N17+O17+P17+Q17+R17+S17+T17+U17+W17+X17+Y17+Z17+AA17+AB17+AC17>0,\"Classe\",\"\"),IF(OR(AND(E17<>0,F17=0,SUM(N17:U17)=0,SUM(W17:AC17)=0,H17+K17=0,G17+J17=E17),AND(F17<>0,E17=0,SUM(N17:U17)=0,SUM(W17:AC17)=0,G17+J17=0,H17+K17=F17),AND(E17=0,F17=0,H17+K17<>0,H17+K17=SUM(W17:AC17),SUM(N17:U17)=0,(H17+K17)<>(G17+J17)),AND(E17=0,F17=0,G17+J17<>0,G17+J17=SUM(N17:U17),SUM(W17:AC17)=0,(H17+K17)<>(G17+J17)),AND(E17=0,F17=0,J17=0,N17+O17+P17+Q17+R17+S17+T17+U17+W17+X17+Y17+Z17+AA17+AB17+AC17=0,K17<>0,K17=G17),AND(E17=0,F17=0,J17<>0,N17+O17+P17+Q17+R17+S17+T17+U17+W17+X17+Y17+Z17+AA17+AB17+AC17=0,K17=0,J17=H17)),\"OK\",\"??\"))","v":""}]
[11,null,null,null,null,null,null,null,{"$f":"IF(D18=\"\",\"\",I17+G18-H18)","v":""},null,null,{"$f":"IF(D18=\"\",\"\",L17+J18-K18)","v":""},{"$f":"IF(D18=\"\",\"\",I18+L18)","v":""},null,null,null,null,null,null,null,null,{"$f":"IF(E18+F18+G18+H18+J18+K18=0,IF(N18+O18+P18+Q18+R18+S18+T18+U18+W18+X18+Y18+Z18+AA18+AB18+AC18>0,\"Classe\",\"\"),IF(OR(AND(E18<>0,F18=0,SUM(N18:U18)=0,SUM(W18:AC18)=0,H18+K18=0,G18+J18=E18),AND(F18<>0,E18=0,SUM(N18:U18)=0,SUM(W18:AC18)=0,G18+J18=0,H18+K18=F18),AND(E18=0,F18=0,H18+K18<>0,H18+K18=SUM(W18:AC18),SUM(N18:U18)=0,(H18+K18)<>(G18+J18)),AND(E18=0,F18=0,G18+J18<>0,G18+J18=SUM(N18:U18),SUM(W18:AC18)=0,(H18+K18)<>(G18+J18)),AND(E18=0,F18=0,J18=0,N18+O18+P18+Q18+R18+S18+T18+U18+W18+X18+Y18+Z18+AA18+AB18+AC18=0,K18<>0,K18=G18),AND(E18=0,F18=0,J18<>0,N18+O18+P18+Q18+R18+S18+T18+U18+W18+X18+Y18+Z18+AA18+AB18+AC18=0,K18=0,J18=H18)),\"OK\",\"??\"))","v":""}]
[12,null,null,null,null,null,null,null,{"$f":"IF(D19=\"\",\"\",I18+G19-H19)","v":""},null,null,{"$f":"IF(D19=\"\",\"\",L18+J19-K19)","v":""},{"$f":"IF(D19=\"\",\"\",I19+L19)","v":""},null,null,null,null,null,null,null,null,{"$f":"IF(E19+F19+G19+H19+J19+K19=0,IF(N19+O19+P19+Q19+R19+S19+T19+U19+W19+X19+Y19+Z19+AA19+AB19+AC19>0,\"Classe\",\"\"),IF(OR(AND(E19<>0,F19=0,SUM(N19:U19)=0,SUM(W19:AC19)=0,H19+K19=0,G19+J19=E19),AND(F19<>0,E19=0,SUM(N19:U19)=0,SUM(W19:AC19)=0,G19+J19=0,H19+K19=F19),AND(E19=0,F19=0,H19+K19<>0,H19+K19=SUM(W19:AC19),SUM(N19:U19)=0,(H19+K19)<>(G19+J19)),AND(E19=0,F19=0,G19+J19<>0,G19+J19=SUM(N19:U19),SUM(W19:AC19)=0,(H19+K19)<>(G19+J19)),AND(E19=0,F19=0,J19=0,N19+O19+P19+Q19+R19+S19+T19+U19+W19+X19+Y19+Z19+AA19+AB19+AC19=0,K19<>0,K19=G19),AND(E19=0,F19=0,J19<>0,N19+O19+P19+Q19+R19+S19+T19+U19+W19+X19+Y19+Z19+AA19+AB19+AC19=0,K19=0,J19=H19)),\"OK\",\"??\"))","v":""}]
[13,null,null,null,null,null,null,null,{"$f":"IF(D20=\"\",\"\",I19+G20-H20)","v":""},null,null,{"$f":"IF(D20=\"\",\"\",L19+J20-K20)","v":""},{"$f":"IF(D20=\"\",\"\",I20+L20)","v":""},null,null,null,null,null,null,null,null,{"$f":"IF(E20+F20+G20+H20+J20+K20=0,IF(N20+O20+P20+Q20+R20+S20+T20+U20+W20+X20+Y20+Z20+AA20+AB20+AC20>0,\"Classe\",\"\"),IF(OR(AND(E20<>0,F20=0,SUM(N20:U20)=0,SUM(W20:AC20)=0,H20+K20=0,G20+J20=E20),AND(F20<>0,E20=0,SUM(N20:U20)=0,SUM(W20:AC20)=0,G20+J20=0,H20+K20=F20),AND(E20=0,F20=0,H20+K20<>0,H20+K20=SUM(W20:AC20),SUM(N20:U20)=0,(H20+K20)<>(G20+J20)),AND(E20=0,F20=0,G20+J20<>0,G20+J20=SUM(N20:U20),SUM(W20:AC20)=0,(H20+K20)<>(G20+J20)),AND(E20=0,F20=0,J20=0,N20+O20+P20+Q20+R20+S20+T20+U20+W20+X20+Y20+Z20+AA20+AB20+AC20=0,K20<>0,K20=G20),AND(E20=0,F20=0,J20<>0,N20+O20+P20+Q20+R20+S20+T20+U20+W20+X20+Y20+Z20+AA20+AB20+AC20=0,K20=0,J20=H20)),\"OK\",\"??\"))","v":""}]
[14,null,null,null,null,null,null,null,{"$f":"IF(D21=\"\",\"\",I20+G21-H21)","v":""},null,null,{"$f":"IF(D21=\"\",\"\",L20+J21-K21)","v":""},{"$f":"IF(D21=\"\",\"\",I21+L21)","v":""},null,null,null,null,null,null,null,null,{"$f":"IF(E21+F21+G21+H21+J21+K21=0,IF(N21+O21+P21+Q21+R21+S21+T21+U21+W21+X21+Y21+Z21+AA21+AB21+AC21>0,\"Classe\",\"\"),IF(OR(AND(E21<>0,F21=0,SUM(N21:U21)=0,SUM(W21:AC21)=0,H21+K21=0,G21+J21=E21),AND(F21<>0,E21=0,SUM(N21:U21)=0,SUM(W21:AC21)=0,G21+J21=0,H21+K21=F21),AND(E21=0,F21=0,H21+K21<>0,H21+K21=SUM(W21:AC21),SUM(N21:U21)=0,(H21+K21)<>(G21+J21)),AND(E21=0,F21=0,G21+J21<>0,G21+J21=SUM(N21:U21),SUM(W21:AC21)=0,(H21+K21)<>(G21+J21)),AND(E21=0,F21=0,J21=0,N21+O21+P21+Q21+R21+S21+T21+U21+W21+X21+Y21+Z21+AA21+AB21+AC21=0,K21<>0,K21=G21),AND(E21=0,F21=0,J21<>0,N21+O21+P21+Q21+R21+S21+T21+U21+W21+X21+Y21+Z21+AA21+AB21+AC21=0,K21=0,J21=H21)),\"OK\",\"??\"))","v":""}]
[15,null,null,null,null,null,null,null,{"$f":"IF(D22=\"\",\"\",I21+G22-H22)","v":""},null,null,{"$f":"IF(D22=\"\",\"\",L21+J22-K22)","v":""},{"$f":"IF(D22=\"\",\"\",I22+L22)","v":""},null,null,null,null,null,null,null,null,{"$f":"IF(E22+F22+G22+H22+J22+K22=0,IF(N22+O22+P22+Q22+R22+S22+T22+U22+W22+X22+Y22+Z22+AA22+AB22+AC22>0,\"Classe\",\"\"),IF(OR(AND(E22<>0,F22=0,SUM(N22:U22)=0,SUM(W22:AC22)=0,H22+K22=0,G22+J22=E22),AND(F22<>0,E22=0,SUM(N22:U22)=0,SUM(W22:AC22)=0,G22+J22=0,H22+K22=F22),AND(E22=0,F22=0,H22+K22<>0,H22+K22=SUM(W22:AC22),SUM(N22:U22)=0,(H22+K22)<>(G22+J22)),AND(E22=0,F22=0,G22+J22<>0,G22+J22=SUM(N22:U22),SUM(W22:AC22)=0,(H22+K22)<>(G22+J22)),AND(E22=0,F22=0,J22=0,N22+O22+P22+Q22+R22+S22+T22+U22+W22+X22+Y22+Z22+AA22+AB22+AC22=0,K22<>0,K22=G22),AND(E22=0,F22=0,J22<>0,N22+O22+P22+Q22+R22+S22+T22+U22+W22+X22+Y22+Z22+AA22+AB22+AC22=0,K22=0,J22=H22)),\"OK\",\"??\"))","v":""}]
[16,null,null,null,null,null,null,null,{"$f":"IF(D23=\"\",\"\",I22+G23-H23)","v":""},null,null,{"$f":"IF(D23=\"\",\"\",L22+J23-K23)","v":""},{"$f":"IF(D23=\"\",\"\",I23+L23)","v":""},null,null,null,null,null,null,null,null,{"$f":"IF(E23+F23+G23+H23+J23+K23=0,IF(N23+O23+P23+Q23+R23+S23+T23+U23+W23+X23+Y23+Z23+AA23+AB23+AC23>0,\"Classe\",\"\"),IF(OR(AND(E23<>0,F23=0,SUM(N23:U23)=0,SUM(W23:AC23)=0,H23+K23=0,G23+J23=E23),AND(F23<>0,E23=0,SUM(N23:U23)=0,SUM(W23:AC23)=0,G23+J23=0,H23+K23=F23),AND(E23=0,F23=0,H23+K23<>0,H23+K23=SUM(W23:AC23),SUM(N23:U23)=0,(H23+K23)<>(G23+J23)),AND(E23=0,F23=0,G23+J23<>0,G23+J23=SUM(N23:U23),SUM(W23:AC23)=0,(H23+K23)<>(G23+J23)),AND(E23=0,F23=0,J23=0,N23+O23+P23+Q23+R23+S23+T23+U23+W23+X23+Y23+Z23+AA23+AB23+AC23=0,K23<>0,K23=G23),AND(E23=0,F23=0,J23<>0,N23+O23+P23+Q23+R23+S23+T23+U23+W23+X23+Y23+Z23+AA23+AB23+AC23=0,K23=0,J23=H23)),\"OK\",\"??\"))","v":""}]
[17,null,null,null,null,null,null,null,{"$f":"IF(D24=\"\",\"\",I23+G24-H24)","v":""},null,null,{"$f":"IF(D24=\"\",\"\",L23+J24-K24)","v":""},{"$f":"IF(D24=\"\",\"\",I24+L24)","v":""},null,null,null,null,null,null,null,null,{"$f":"IF(E24+F24+G24+H24+J24+K24=0,IF(N24+O24+P24+Q24+R24+S24+T24+U24+W24+X24+Y24+Z24+AA24+AB24+AC24>0,\"Classe\",\"\"),IF(OR(AND(E24<>0,F24=0,SUM(N24:U24)=0,SUM(W24:AC24)=0,H24+K24=0,G24+J24=E24),AND(F24<>0,E24=0,SUM(N24:U24)=0,SUM(W24:AC24)=0,G24+J24=0,H24+K24=F24),AND(E24=0,F24=0,H24+K24<>0,H24+K24=SUM(W24:AC24),SUM(N24:U24)=0,(H24+K24)<>(G24+J24)),AND(E24=0,F24=0,G24+J24<>0,G24+J24=SUM(N24:U24),SUM(W24:AC24)=0,(H24+K24)<>(G24+J24)),AND(E24=0,F24=0,J24=0,N24+O24+P24+Q24+R24+S24+T24+U24+W24+X24+Y24+Z24+AA24+AB24+AC24=0,K24<>0,K24=G24),AND(E24=0,F24=0,J24<>0,N24+O24+P24+Q24+R24+S24+T24+U24+W24+X24+Y24+Z24+AA24+AB24+AC24=0,K24=0,J24=H24)),\"OK\",\"??\"))","v":""}]
[18,null,null,null,null,null,null,null,{"$f":"IF(D25=\"\",\"\",I24+G25-H25)","v":""},null,null,{"$f":"IF(D25=\"\",\"\",L24+J25-K25)","v":""},{"$f":"IF(D25=\"\",\"\",I25+L25)","v":""},null,null,null,null,null,null,null,null,{"$f":"IF(E25+F25+G25+H25+J25+K25=0,IF(N25+O25+P25+Q25+R25+S25+T25+U25+W25+X25+Y25+Z25+AA25+AB25+AC25>0,\"Classe\",\"\"),IF(OR(AND(E25<>0,F25=0,SUM(N25:U25)=0,SUM(W25:AC25)=0,H25+K25=0,G25+J25=E25),AND(F25<>0,E25=0,SUM(N25:U25)=0,SUM(W25:AC25)=0,G25+J25=0,H25+K25=F25),AND(E25=0,F25=0,H25+K25<>0,H25+K25=SUM(W25:AC25),SUM(N25:U25)=0,(H25+K25)<>(G25+J25)),AND(E25=0,F25=0,G25+J25<>0,G25+J25=SUM(N25:U25),SUM(W25:AC25)=0,(H25+K25)<>(G25+J25)),AND(E25=0,F25=0,J25=0,N25+O25+P25+Q25+R25+S25+T25+U25+W25+X25+Y25+Z25+AA25+AB25+AC25=0,K25<>0,K25=G25),AND(E25=0,F25=0,J25<>0,N25+O25+P25+Q25+R25+S25+T25+U25+W25+X25+Y25+Z25+AA25+AB25+AC25=0,K25=0,J25=H25)),\"OK\",\"??\"))","v":""}]
[19,null,null,null,null,null,null,null,{"$f":"IF(D26=\"\",\"\",I25+G26-H26)","v":""},null,null,{"$f":"IF(D26=\"\",\"\",L25+J26-K26)","v":""},{"$f":"IF(D26=\"\",\"\",I26+L26)","v":""},null,null,null,null,null,null,null,null,{"$f":"IF(E26+F26+G26+H26+J26+K26=0,IF(N26+O26+P26+Q26+R26+S26+T26+U26+W26+X26+Y26+Z26+AA26+AB26+AC26>0,\"Classe\",\"\"),IF(OR(AND(E26<>0,F26=0,SUM(N26:U26)=0,SUM(W26:AC26)=0,H26+K26=0,G26+J26=E26),AND(F26<>0,E26=0,SUM(N26:U26)=0,SUM(W26:AC26)=0,G26+J26=0,H26+K26=F26),AND(E26=0,F26=0,H26+K26<>0,H26+K26=SUM(W26:AC26),SUM(N26:U26)=0,(H26+K26)<>(G26+J26)),AND(E26=0,F26=0,G26+J26<>0,G26+J26=SUM(N26:U26),SUM(W26:AC26)=0,(H26+K26)<>(G26+J26)),AND(E26=0,F26=0,J26=0,N26+O26+P26+Q26+R26+S26+T26+U26+W26+X26+Y26+Z26+AA26+AB26+AC26=0,K26<>0,K26=G26),AND(E26=0,F26=0,J26<>0,N26+O26+P26+Q26+R26+S26+T26+U26+W26+X26+Y26+Z26+AA26+AB26+AC26=0,K26=0,J26=H26)),\"OK\",\"??\"))","v":""}]
[20,null,null,null,null,null,null,null,{"$f":"IF(D27=\"\",\"\",I26+G27-H27)","v":""},null,null,{"$f":"IF(D27=\"\",\"\",L26+J27-K27)","v":""},{"$f":"IF(D27=\"\",\"\",I27+L27)","v":""},null,null,null,null,null,null,null,null,{"$f":"IF(E27+F27+G27+H27+J27+K27=0,IF(N27+O27+P27+Q27+R27+S27+T27+U27+W27+X27+Y27+Z27+AA27+AB27+AC27>0,\"Classe\",\"\"),IF(OR(AND(E27<>0,F27=0,SUM(N27:U27)=0,SUM(W27:AC27)=0,H27+K27=0,G27+J27=E27),AND(F27<>0,E27=0,SUM(N27:U27)=0,SUM(W27:AC27)=0,G27+J27=0,H27+K27=F27),AND(E27=0,F27=0,H27+K27<>0,H27+K27=SUM(W27:AC27),SUM(N27:U27)=0,(H27+K27)<>(G27+J27)),AND(E27=0,F27=0,G27+J27<>0,G27+J27=SUM(N27:U27),SUM(W27:AC27)=0,(H27+K27)<>(G27+J27)),AND(E27=0,F27=0,J27=0,N27+O27+P27+Q27+R27+S27+T27+U27+W27+X27+Y27+Z27+AA27+AB27+AC27=0,K27<>0,K27=G27),AND(E27=0,F27=0,J27<>0,N27+O27+P27+Q27+R27+S27+T27+U27+W27+X27+Y27+Z27+AA27+AB27+AC27=0,K27=0,J27=H27)),\"OK\",\"??\"))","v":""}]
[21,null,null,null,null,null,null,null,{"$f":"IF(D28=\"\",\"\",I27+G28-H28)","v":""},null,null,{"$f":"IF(D28=\"\",\"\",L27+J28-K28)","v":""},{"$f":"IF(D28=\"\",\"\",I28+L28)","v":""},null,null,null,null,null,null,null,null,{"$f":"IF(E28+F28+G28+H28+J28+K28=0,IF(N28+O28+P28+Q28+R28+S28+T28+U28+W28+X28+Y28+Z28+AA28+AB28+AC28>0,\"Classe\",\"\"),IF(OR(AND(E28<>0,F28=0,SUM(N28:U28)=0,SUM(W28:AC28)=0,H28+K28=0,G28+J28=E28),AND(F28<>0,E28=0,SUM(N28:U28)=0,SUM(W28:AC28)=0,G28+J28=0,H28+K28=F28),AND(E28=0,F28=0,H28+K28<>0,H28+K28=SUM(W28:AC28),SUM(N28:U28)=0,(H28+K28)<>(G28+J28)),AND(E28=0,F28=0,G28+J28<>0,G28+J28=SUM(N28:U28),SUM(W28:AC28)=0,(H28+K28)<>(G28+J28)),AND(E28=0,F28=0,J28=0,N28+O28+P28+Q28+R28+S28+T28+U28+W28+X28+Y28+Z28+AA28+AB28+AC28=0,K28<>0,K28=G28),AND(E28=0,F28=0,J28<>0,N28+O28+P28+Q28+R28+S28+T28+U28+W28+X28+Y28+Z28+AA28+AB28+AC28=0,K28=0,J28=H28)),\"OK\",\"??\"))","v":""}]
[22,null,null,null,null,null,null,null,{"$f":"IF(D29=\"\",\"\",I28+G29-H29)","v":""},null,null,{"$f":"IF(D29=\"\",\"\",L28+J29-K29)","v":""},{"$f":"IF(D29=\"\",\"\",I29+L29)","v":""},null,null,null,null,null,null,null,null,{"$f":"IF(E29+F29+G29+H29+J29+K29=0,IF(N29+O29+P29+Q29+R29+S29+T29+U29+W29+X29+Y29+Z29+AA29+AB29+AC29>0,\"Classe\",\"\"),IF(OR(AND(E29<>0,F29=0,SUM(N29:U29)=0,SUM(W29:AC29)=0,H29+K29=0,G29+J29=E29),AND(F29<>0,E29=0,SUM(N29:U29)=0,SUM(W29:AC29)=0,G29+J29=0,H29+K29=F29),AND(E29=0,F29=0,H29+K29<>0,H29+K29=SUM(W29:AC29),SUM(N29:U29)=0,(H29+K29)<>(G29+J29)),AND(E29=0,F29=0,G29+J29<>0,G29+J29=SUM(N29:U29),SUM(W29:AC29)=0,(H29+K29)<>(G29+J29)),AND(E29=0,F29=0,J29=0,N29+O29+P29+Q29+R29+S29+T29+U29+W29+X29+Y29+Z29+AA29+AB29+AC29=0,K29<>0,K29=G29),AND(E29=0,F29=0,J29<>0,N29+O29+P29+Q29+R29+S29+T29+U29+W29+X29+Y29+Z29+AA29+AB29+AC29=0,K29=0,J29=H29)),\"OK\",\"??\"))","v":""}]
[23,null,null,null,null,null,null,null,{"$f":"IF(D30=\"\",\"\",I29+G30-H30)","v":""},null,null,{"$f":"IF(D30=\"\",\"\",L29+J30-K30)","v":""},{"$f":"IF(D30=\"\",\"\",I30+L30)","v":""},null,null,null,null,null,null,null,null,{"$f":"IF(E30+F30+G30+H30+J30+K30=0,IF(N30+O30+P30+Q30+R30+S30+T30+U30+W30+X30+Y30+Z30+AA30+AB30+AC30>0,\"Classe\",\"\"),IF(OR(AND(E30<>0,F30=0,SUM(N30:U30)=0,SUM(W30:AC30)=0,H30+K30=0,G30+J30=E30),AND(F30<>0,E30=0,SUM(N30:U30)=0,SUM(W30:AC30)=0,G30+J30=0,H30+K30=F30),AND(E30=0,F30=0,H30+K30<>0,H30+K30=SUM(W30:AC30),SUM(N30:U30)=0,(H30+K30)<>(G30+J30)),AND(E30=0,F30=0,G30+J30<>0,G30+J30=SUM(N30:U30),SUM(W30:AC30)=0,(H30+K30)<>(G30+J30)),AND(E30=0,F30=0,J30=0,N30+O30+P30+Q30+R30+S30+T30+U30+W30+X30+Y30+Z30+AA30+AB30+AC30=0,K30<>0,K30=G30),AND(E30=0,F30=0,J30<>0,N30+O30+P30+Q30+R30+S30+T30+U30+W30+X30+Y30+Z30+AA30+AB30+AC30=0,K30=0,J30=H30)),\"OK\",\"??\"))","v":""}]
[24,null,null,null,null,null,null,null,{"$f":"IF(D31=\"\",\"\",I30+G31-H31)","v":""},null,null,{"$f":"IF(D31=\"\",\"\",L30+J31-K31)","v":""},{"$f":"IF(D31=\"\",\"\",I31+L31)","v":""},null,null,null,null,null,null,null,null,{"$f":"IF(E31+F31+G31+H31+J31+K31=0,IF(N31+O31+P31+Q31+R31+S31+T31+U31+W31+X31+Y31+Z31+AA31+AB31+AC31>0,\"Classe\",\"\"),IF(OR(AND(E31<>0,F31=0,SUM(N31:U31)=0,SUM(W31:AC31)=0,H31+K31=0,G31+J31=E31),AND(F31<>0,E31=0,SUM(N31:U31)=0,SUM(W31:AC31)=0,G31+J31=0,H31+K31=F31),AND(E31=0,F31=0,H31+K31<>0,H31+K31=SUM(W31:AC31),SUM(N31:U31)=0,(H31+K31)<>(G31+J31)),AND(E31=0,F31=0,G31+J31<>0,G31+J31=SUM(N31:U31),SUM(W31:AC31)=0,(H31+K31)<>(G31+J31)),AND(E31=0,F31=0,J31=0,N31+O31+P31+Q31+R31+S31+T31+U31+W31+X31+Y31+Z31+AA31+AB31+AC31=0,K31<>0,K31=G31),AND(E31=0,F31=0,J31<>0,N31+O31+P31+Q31+R31+S31+T31+U31+W31+X31+Y31+Z31+AA31+AB31+AC31=0,K31=0,J31=H31)),\"OK\",\"??\"))","v":""}]
[25,null,null,null,null,null,null,null,{"$f":"IF(D32=\"\",\"\",I31+G32-H32)","v":""},null,null,{"$f":"IF(D32=\"\",\"\",L31+J32-K32)","v":""},{"$f":"IF(D32=\"\",\"\",I32+L32)","v":""},null,null,null,null,null,null,null,null,{"$f":"IF(E32+F32+G32+H32+J32+K32=0,IF(N32+O32+P32+Q32+R32+S32+T32+U32+W32+X32+Y32+Z32+AA32+AB32+AC32>0,\"Classe\",\"\"),IF(OR(AND(E32<>0,F32=0,SUM(N32:U32)=0,SUM(W32:AC32)=0,H32+K32=0,G32+J32=E32),AND(F32<>0,E32=0,SUM(N32:U32)=0,SUM(W32:AC32)=0,G32+J32=0,H32+K32=F32),AND(E32=0,F32=0,H32+K32<>0,H32+K32=SUM(W32:AC32),SUM(N32:U32)=0,(H32+K32)<>(G32+J32)),AND(E32=0,F32=0,G32+J32<>0,G32+J32=SUM(N32:U32),SUM(W32:AC32)=0,(H32+K32)<>(G32+J32)),AND(E32=0,F32=0,J32=0,N32+O32+P32+Q32+R32+S32+T32+U32+W32+X32+Y32+Z32+AA32+AB32+AC32=0,K32<>0,K32=G32),AND(E32=0,F32=0,J32<>0,N32+O32+P32+Q32+R32+S32+T32+U32+W32+X32+Y32+Z32+AA32+AB32+AC32=0,K32=0,J32=H32)),\"OK\",\"??\"))","v":""}]
[26,null,null,null,null,null,null,null,{"$f":"IF(D33=\"\",\"\",I32+G33-H33)","v":""},null,null,{"$f":"IF(D33=\"\",\"\",L32+J33-K33)","v":""},{"$f":"IF(D33=\"\",\"\",I33+L33)","v":""},null,null,null,null,null,null,null,null,{"$f":"IF(E33+F33+G33+H33+J33+K33=0,IF(N33+O33+P33+Q33+R33+S33+T33+U33+W33+X33+Y33+Z33+AA33+AB33+AC33>0,\"Classe\",\"\"),IF(OR(AND(E33<>0,F33=0,SUM(N33:U33)=0,SUM(W33:AC33)=0,H33+K33=0,G33+J33=E33),AND(F33<>0,E33=0,SUM(N33:U33)=0,SUM(W33:AC33)=0,G33+J33=0,H33+K33=F33),AND(E33=0,F33=0,H33+K33<>0,H33+K33=SUM(W33:AC33),SUM(N33:U33)=0,(H33+K33)<>(G33+J33)),AND(E33=0,F33=0,G33+J33<>0,G33+J33=SUM(N33:U33),SUM(W33:AC33)=0,(H33+K33)<>(G33+J33)),AND(E33=0,F33=0,J33=0,N33+O33+P33+Q33+R33+S33+T33+U33+W33+X33+Y33+Z33+AA33+AB33+AC33=0,K33<>0,K33=G33),AND(E33=0,F33=0,J33<>0,N33+O33+P33+Q33+R33+S33+T33+U33+W33+X33+Y33+Z33+AA33+AB33+AC33=0,K33=0,J33=H33)),\"OK\",\"??\"))","v":""}]
[27,null,null,null,null,null,null,null,{"$f":"IF(D34=\"\",\"\",I33+G34-H34)","v":""},null,null,{"$f":"IF(D34=\"\",\"\",L33+J34-K34)","v":""},{"$f":"IF(D34=\"\",\"\",I34+L34)","v":""},null,null,null,null,null,null,null,null,{"$f":"IF(E34+F34+G34+H34+J34+K34=0,IF(N34+O34+P34+Q34+R34+S34+T34+U34+W34+X34+Y34+Z34+AA34+AB34+AC34>0,\"Classe\",\"\"),IF(OR(AND(E34<>0,F34=0,SUM(N34:U34)=0,SUM(W34:AC34)=0,H34+K34=0,G34+J34=E34),AND(F34<>0,E34=0,SUM(N34:U34)=0,SUM(W34:AC34)=0,G34+J34=0,H34+K34=F34),AND(E34=0,F34=0,H34+K34<>0,H34+K34=SUM(W34:AC34),SUM(N34:U34)=0,(H34+K34)<>(G34+J34)),AND(E34=0,F34=0,G34+J34<>0,G34+J34=SUM(N34:U34),SUM(W34:AC34)=0,(H34+K34)<>(G34+J34)),AND(E34=0,F34=0,J34=0,N34+O34+P34+Q34+R34+S34+T34+U34+W34+X34+Y34+Z34+AA34+AB34+AC34=0,K34<>0,K34=G34),AND(E34=0,F34=0,J34<>0,N34+O34+P34+Q34+R34+S34+T34+U34+W34+X34+Y34+Z34+AA34+AB34+AC34=0,K34=0,J34=H34)),\"OK\",\"??\"))","v":""}]
[28,null,null,null,null,null,null,null,{"$f":"IF(D35=\"\",\"\",I34+G35-H35)","v":""},null,null,{"$f":"IF(D35=\"\",\"\",L34+J35-K35)","v":""},{"$f":"IF(D35=\"\",\"\",I35+L35)","v":""},null,null,null,null,null,null,null,null,{"$f":"IF(E35+F35+G35+H35+J35+K35=0,IF(N35+O35+P35+Q35+R35+S35+T35+U35+W35+X35+Y35+Z35+AA35+AB35+AC35>0,\"Classe\",\"\"),IF(OR(AND(E35<>0,F35=0,SUM(N35:U35)=0,SUM(W35:AC35)=0,H35+K35=0,G35+J35=E35),AND(F35<>0,E35=0,SUM(N35:U35)=0,SUM(W35:AC35)=0,G35+J35=0,H35+K35=F35),AND(E35=0,F35=0,H35+K35<>0,H35+K35=SUM(W35:AC35),SUM(N35:U35)=0,(H35+K35)<>(G35+J35)),AND(E35=0,F35=0,G35+J35<>0,G35+J35=SUM(N35:U35),SUM(W35:AC35)=0,(H35+K35)<>(G35+J35)),AND(E35=0,F35=0,J35=0,N35+O35+P35+Q35+R35+S35+T35+U35+W35+X35+Y35+Z35+AA35+AB35+AC35=0,K35<>0,K35=G35),AND(E35=0,F35=0,J35<>0,N35+O35+P35+Q35+R35+S35+T35+U35+W35+X35+Y35+Z35+AA35+AB35+AC35=0,K35=0,J35=H35)),\"OK\",\"??\"))","v":""}]
[29,null,null,null,null,null,null,null,{"$f":"IF(D36=\"\",\"\",I35+G36-H36)","v":""},null,null,{"$f":"IF(D36=\"\",\"\",L35+J36-K36)","v":""},{"$f":"IF(D36=\"\",\"\",I36+L36)","v":""},null,null,null,null,null,null,null,null,{"$f":"IF(E36+F36+G36+H36+J36+K36=0,IF(N36+O36+P36+Q36+R36+S36+T36+U36+W36+X36+Y36+Z36+AA36+AB36+AC36>0,\"Classe\",\"\"),IF(OR(AND(E36<>0,F36=0,SUM(N36:U36)=0,SUM(W36:AC36)=0,H36+K36=0,G36+J36=E36),AND(F36<>0,E36=0,SUM(N36:U36)=0,SUM(W36:AC36)=0,G36+J36=0,H36+K36=F36),AND(E36=0,F36=0,H36+K36<>0,H36+K36=SUM(W36:AC36),SUM(N36:U36)=0,(H36+K36)<>(G36+J36)),AND(E36=0,F36=0,G36+J36<>0,G36+J36=SUM(N36:U36),SUM(W36:AC36)=0,(H36+K36)<>(G36+J36)),AND(E36=0,F36=0,J36=0,N36+O36+P36+Q36+R36+S36+T36+U36+W36+X36+Y36+Z36+AA36+AB36+AC36=0,K36<>0,K36=G36),AND(E36=0,F36=0,J36<>0,N36+O36+P36+Q36+R36+S36+T36+U36+W36+X36+Y36+Z36+AA36+AB36+AC36=0,K36=0,J36=H36)),\"OK\",\"??\"))","v":""}]
[30,null,null,null,null,null,null,null,{"$f":"IF(D37=\"\",\"\",I36+G37-H37)","v":""},null,null,{"$f":"IF(D37=\"\",\"\",L36+J37-K37)","v":""},{"$f":"IF(D37=\"\",\"\",I37+L37)","v":""},null,null,null,null,null,null,null,null,{"$f":"IF(E37+F37+G37+H37+J37+K37=0,IF(N37+O37+P37+Q37+R37+S37+T37+U37+W37+X37+Y37+Z37+AA37+AB37+AC37>0,\"Classe\",\"\"),IF(OR(AND(E37<>0,F37=0,SUM(N37:U37)=0,SUM(W37:AC37)=0,H37+K37=0,G37+J37=E37),AND(F37<>0,E37=0,SUM(N37:U37)=0,SUM(W37:AC37)=0,G37+J37=0,H37+K37=F37),AND(E37=0,F37=0,H37+K37<>0,H37+K37=SUM(W37:AC37),SUM(N37:U37)=0,(H37+K37)<>(G37+J37)),AND(E37=0,F37=0,G37+J37<>0,G37+J37=SUM(N37:U37),SUM(W37:AC37)=0,(H37+K37)<>(G37+J37)),AND(E37=0,F37=0,J37=0,N37+O37+P37+Q37+R37+S37+T37+U37+W37+X37+Y37+Z37+AA37+AB37+AC37=0,K37<>0,K37=G37),AND(E37=0,F37=0,J37<>0,N37+O37+P37+Q37+R37+S37+T37+U37+W37+X37+Y37+Z37+AA37+AB37+AC37=0,K37=0,J37=H37)),\"OK\",\"??\"))","v":""}]
[31,null,null,null,null,null,null,null,{"$f":"IF(D38=\"\",\"\",I37+G38-H38)","v":""},null,null,{"$f":"IF(D38=\"\",\"\",L37+J38-K38)","v":""},{"$f":"IF(D38=\"\",\"\",I38+L38)","v":""},null,null,null,null,null,null,null,null,{"$f":"IF(E38+F38+G38+H38+J38+K38=0,IF(N38+O38+P38+Q38+R38+S38+T38+U38+W38+X38+Y38+Z38+AA38+AB38+AC38>0,\"Classe\",\"\"),IF(OR(AND(E38<>0,F38=0,SUM(N38:U38)=0,SUM(W38:AC38)=0,H38+K38=0,G38+J38=E38),AND(F38<>0,E38=0,SUM(N38:U38)=0,SUM(W38:AC38)=0,G38+J38=0,H38+K38=F38),AND(E38=0,F38=0,H38+K38<>0,H38+K38=SUM(W38:AC38),SUM(N38:U38)=0,(H38+K38)<>(G38+J38)),AND(E38=0,F38=0,G38+J38<>0,G38+J38=SUM(N38:U38),SUM(W38:AC38)=0,(H38+K38)<>(G38+J38)),AND(E38=0,F38=0,J38=0,N38+O38+P38+Q38+R38+S38+T38+U38+W38+X38+Y38+Z38+AA38+AB38+AC38=0,K38<>0,K38=G38),AND(E38=0,F38=0,J38<>0,N38+O38+P38+Q38+R38+S38+T38+U38+W38+X38+Y38+Z38+AA38+AB38+AC38=0,K38=0,J38=H38)),\"OK\",\"??\"))","v":""}]
[32,null,null,null,null,null,null,null,{"$f":"IF(D39=\"\",\"\",I38+G39-H39)","v":""},null,null,{"$f":"IF(D39=\"\",\"\",L38+J39-K39)","v":""},{"$f":"IF(D39=\"\",\"\",I39+L39)","v":""},null,null,null,null,null,null,null,null,{"$f":"IF(E39+F39+G39+H39+J39+K39=0,IF(N39+O39+P39+Q39+R39+S39+T39+U39+W39+X39+Y39+Z39+AA39+AB39+AC39>0,\"Classe\",\"\"),IF(OR(AND(E39<>0,F39=0,SUM(N39:U39)=0,SUM(W39:AC39)=0,H39+K39=0,G39+J39=E39),AND(F39<>0,E39=0,SUM(N39:U39)=0,SUM(W39:AC39)=0,G39+J39=0,H39+K39=F39),AND(E39=0,F39=0,H39+K39<>0,H39+K39=SUM(W39:AC39),SUM(N39:U39)=0,(H39+K39)<>(G39+J39)),AND(E39=0,F39=0,G39+J39<>0,G39+J39=SUM(N39:U39),SUM(W39:AC39)=0,(H39+K39)<>(G39+J39)),AND(E39=0,F39=0,J39=0,N39+O39+P39+Q39+R39+S39+T39+U39+W39+X39+Y39+Z39+AA39+AB39+AC39=0,K39<>0,K39=G39),AND(E39=0,F39=0,J39<>0,N39+O39+P39+Q39+R39+S39+T39+U39+W39+X39+Y39+Z39+AA39+AB39+AC39=0,K39=0,J39=H39)),\"OK\",\"??\"))","v":""}]
[33,null,null,null,null,null,null,null,{"$f":"IF(D40=\"\",\"\",I39+G40-H40)","v":""},null,null,{"$f":"IF(D40=\"\",\"\",L39+J40-K40)","v":""},{"$f":"IF(D40=\"\",\"\",I40+L40)","v":""},null,null,null,null,null,null,null,null,{"$f":"IF(E40+F40+G40+H40+J40+K40=0,IF(N40+O40+P40+Q40+R40+S40+T40+U40+W40+X40+Y40+Z40+AA40+AB40+AC40>0,\"Classe\",\"\"),IF(OR(AND(E40<>0,F40=0,SUM(N40:U40)=0,SUM(W40:AC40)=0,H40+K40=0,G40+J40=E40),AND(F40<>0,E40=0,SUM(N40:U40)=0,SUM(W40:AC40)=0,G40+J40=0,H40+K40=F40),AND(E40=0,F40=0,H40+K40<>0,H40+K40=SUM(W40:AC40),SUM(N40:U40)=0,(H40+K40)<>(G40+J40)),AND(E40=0,F40=0,G40+J40<>0,G40+J40=SUM(N40:U40),SUM(W40:AC40)=0,(H40+K40)<>(G40+J40)),AND(E40=0,F40=0,J40=0,N40+O40+P40+Q40+R40+S40+T40+U40+W40+X40+Y40+Z40+AA40+AB40+AC40=0,K40<>0,K40=G40),AND(E40=0,F40=0,J40<>0,N40+O40+P40+Q40+R40+S40+T40+U40+W40+X40+Y40+Z40+AA40+AB40+AC40=0,K40=0,J40=H40)),\"OK\",\"??\"))","v":""}]
[34,null,null,null,null,null,null,null,{"$f":"IF(D41=\"\",\"\",I40+G41-H41)","v":""},null,null,{"$f":"IF(D41=\"\",\"\",L40+J41-K41)","v":""},{"$f":"IF(D41=\"\",\"\",I41+L41)","v":""},null,null,null,null,null,null,null,null,{"$f":"IF(E41+F41+G41+H41+J41+K41=0,IF(N41+O41+P41+Q41+R41+S41+T41+U41+W41+X41+Y41+Z41+AA41+AB41+AC41>0,\"Classe\",\"\"),IF(OR(AND(E41<>0,F41=0,SUM(N41:U41)=0,SUM(W41:AC41)=0,H41+K41=0,G41+J41=E41),AND(F41<>0,E41=0,SUM(N41:U41)=0,SUM(W41:AC41)=0,G41+J41=0,H41+K41=F41),AND(E41=0,F41=0,H41+K41<>0,H41+K41=SUM(W41:AC41),SUM(N41:U41)=0,(H41+K41)<>(G41+J41)),AND(E41=0,F41=0,G41+J41<>0,G41+J41=SUM(N41:U41),SUM(W41:AC41)=0,(H41+K41)<>(G41+J41)),AND(E41=0,F41=0,J41=0,N41+O41+P41+Q41+R41+S41+T41+U41+W41+X41+Y41+Z41+AA41+AB41+AC41=0,K41<>0,K41=G41),AND(E41=0,F41=0,J41<>0,N41+O41+P41+Q41+R41+S41+T41+U41+W41+X41+Y41+Z41+AA41+AB41+AC41=0,K41=0,J41=H41)),\"OK\",\"??\"))","v":""}]
[35,null,null,null,null,null,null,null,{"$f":"IF(D42=\"\",\"\",I41+G42-H42)","v":""},null,null,{"$f":"IF(D42=\"\",\"\",L41+J42-K42)","v":""},{"$f":"IF(D42=\"\",\"\",I42+L42)","v":""},null,null,null,null,null,null,null,null,{"$f":"IF(E42+F42+G42+H42+J42+K42=0,IF(N42+O42+P42+Q42+R42+S42+T42+U42+W42+X42+Y42+Z42+AA42+AB42+AC42>0,\"Classe\",\"\"),IF(OR(AND(E42<>0,F42=0,SUM(N42:U42)=0,SUM(W42:AC42)=0,H42+K42=0,G42+J42=E42),AND(F42<>0,E42=0,SUM(N42:U42)=0,SUM(W42:AC42)=0,G42+J42=0,H42+K42=F42),AND(E42=0,F42=0,H42+K42<>0,H42+K42=SUM(W42:AC42),SUM(N42:U42)=0,(H42+K42)<>(G42+J42)),AND(E42=0,F42=0,G42+J42<>0,G42+J42=SUM(N42:U42),SUM(W42:AC42)=0,(H42+K42)<>(G42+J42)),AND(E42=0,F42=0,J42=0,N42+O42+P42+Q42+R42+S42+T42+U42+W42+X42+Y42+Z42+AA42+AB42+AC42=0,K42<>0,K42=G42),AND(E42=0,F42=0,J42<>0,N42+O42+P42+Q42+R42+S42+T42+U42+W42+X42+Y42+Z42+AA42+AB42+AC42=0,K42=0,J42=H42)),\"OK\",\"??\"))","v":""}]
[36,null,null,null,null,null,null,null,{"$f":"IF(D43=\"\",\"\",I42+G43-H43)","v":""},null,null,{"$f":"IF(D43=\"\",\"\",L42+J43-K43)","v":""},{"$f":"IF(D43=\"\",\"\",I43+L43)","v":""},null,null,null,null,null,null,null,null,{"$f":"IF(E43+F43+G43+H43+J43+K43=0,IF(N43+O43+P43+Q43+R43+S43+T43+U43+W43+X43+Y43+Z43+AA43+AB43+AC43>0,\"Classe\",\"\"),IF(OR(AND(E43<>0,F43=0,SUM(N43:U43)=0,SUM(W43:AC43)=0,H43+K43=0,G43+J43=E43),AND(F43<>0,E43=0,SUM(N43:U43)=0,SUM(W43:AC43)=0,G43+J43=0,H43+K43=F43),AND(E43=0,F43=0,H43+K43<>0,H43+K43=SUM(W43:AC43),SUM(N43:U43)=0,(H43+K43)<>(G43+J43)),AND(E43=0,F43=0,G43+J43<>0,G43+J43=SUM(N43:U43),SUM(W43:AC43)=0,(H43+K43)<>(G43+J43)),AND(E43=0,F43=0,J43=0,N43+O43+P43+Q43+R43+S43+T43+U43+W43+X43+Y43+Z43+AA43+AB43+AC43=0,K43<>0,K43=G43),AND(E43=0,F43=0,J43<>0,N43+O43+P43+Q43+R43+S43+T43+U43+W43+X43+Y43+Z43+AA43+AB43+AC43=0,K43=0,J43=H43)),\"OK\",\"??\"))","v":""}]
[37,null,null,null,null,null,null,null,{"$f":"IF(D44=\"\",\"\",I43+G44-H44)","v":""},null,null,{"$f":"IF(D44=\"\",\"\",L43+J44-K44)","v":""},{"$f":"IF(D44=\"\",\"\",I44+L44)","v":""},null,null,null,null,null,null,null,null,{"$f":"IF(E44+F44+G44+H44+J44+K44=0,IF(N44+O44+P44+Q44+R44+S44+T44+U44+W44+X44+Y44+Z44+AA44+AB44+AC44>0,\"Classe\",\"\"),IF(OR(AND(E44<>0,F44=0,SUM(N44:U44)=0,SUM(W44:AC44)=0,H44+K44=0,G44+J44=E44),AND(F44<>0,E44=0,SUM(N44:U44)=0,SUM(W44:AC44)=0,G44+J44=0,H44+K44=F44),AND(E44=0,F44=0,H44+K44<>0,H44+K44=SUM(W44:AC44),SUM(N44:U44)=0,(H44+K44)<>(G44+J44)),AND(E44=0,F44=0,G44+J44<>0,G44+J44=SUM(N44:U44),SUM(W44:AC44)=0,(H44+K44)<>(G44+J44)),AND(E44=0,F44=0,J44=0,N44+O44+P44+Q44+R44+S44+T44+U44+W44+X44+Y44+Z44+AA44+AB44+AC44=0,K44<>0,K44=G44),AND(E44=0,F44=0,J44<>0,N44+O44+P44+Q44+R44+S44+T44+U44+W44+X44+Y44+Z44+AA44+AB44+AC44=0,K44=0,J44=H44)),\"OK\",\"??\"))","v":""}]
[38,null,null,null,null,null,null,null,{"$f":"IF(D45=\"\",\"\",I44+G45-H45)","v":""},null,null,{"$f":"IF(D45=\"\",\"\",L44+J45-K45)","v":""},{"$f":"IF(D45=\"\",\"\",I45+L45)","v":""},null,null,null,null,null,null,null,null,{"$f":"IF(E45+F45+G45+H45+J45+K45=0,IF(N45+O45+P45+Q45+R45+S45+T45+U45+W45+X45+Y45+Z45+AA45+AB45+AC45>0,\"Classe\",\"\"),IF(OR(AND(E45<>0,F45=0,SUM(N45:U45)=0,SUM(W45:AC45)=0,H45+K45=0,G45+J45=E45),AND(F45<>0,E45=0,SUM(N45:U45)=0,SUM(W45:AC45)=0,G45+J45=0,H45+K45=F45),AND(E45=0,F45=0,H45+K45<>0,H45+K45=SUM(W45:AC45),SUM(N45:U45)=0,(H45+K45)<>(G45+J45)),AND(E45=0,F45=0,G45+J45<>0,G45+J45=SUM(N45:U45),SUM(W45:AC45)=0,(H45+K45)<>(G45+J45)),AND(E45=0,F45=0,J45=0,N45+O45+P45+Q45+R45+S45+T45+U45+W45+X45+Y45+Z45+AA45+AB45+AC45=0,K45<>0,K45=G45),AND(E45=0,F45=0,J45<>0,N45+O45+P45+Q45+R45+S45+T45+U45+W45+X45+Y45+Z45+AA45+AB45+AC45=0,K45=0,J45=H45)),\"OK\",\"??\"))","v":""}]
[39,null,null,null,null,null,null,null,{"$f":"IF(D46=\"\",\"\",I45+G46-H46)","v":""},null,null,{"$f":"IF(D46=\"\",\"\",L45+J46-K46)","v":""},{"$f":"IF(D46=\"\",\"\",I46+L46)","v":""},null,null,null,null,null,null,null,null,{"$f":"IF(E46+F46+G46+H46+J46+K46=0,IF(N46+O46+P46+Q46+R46+S46+T46+U46+W46+X46+Y46+Z46+AA46+AB46+AC46>0,\"Classe\",\"\"),IF(OR(AND(E46<>0,F46=0,SUM(N46:U46)=0,SUM(W46:AC46)=0,H46+K46=0,G46+J46=E46),AND(F46<>0,E46=0,SUM(N46:U46)=0,SUM(W46:AC46)=0,G46+J46=0,H46+K46=F46),AND(E46=0,F46=0,H46+K46<>0,H46+K46=SUM(W46:AC46),SUM(N46:U46)=0,(H46+K46)<>(G46+J46)),AND(E46=0,F46=0,G46+J46<>0,G46+J46=SUM(N46:U46),SUM(W46:AC46)=0,(H46+K46)<>(G46+J46)),AND(E46=0,F46=0,J46=0,N46+O46+P46+Q46+R46+S46+T46+U46+W46+X46+Y46+Z46+AA46+AB46+AC46=0,K46<>0,K46=G46),AND(E46=0,F46=0,J46<>0,N46+O46+P46+Q46+R46+S46+T46+U46+W46+X46+Y46+Z46+AA46+AB46+AC46=0,K46=0,J46=H46)),\"OK\",\"??\"))","v":""}]
[40,null,null,null,null,null,null,null,{"$f":"IF(D47=\"\",\"\",I46+G47-H47)","v":""},null,null,{"$f":"IF(D47=\"\",\"\",L46+J47-K47)","v":""},{"$f":"IF(D47=\"\",\"\",I47+L47)","v":""},null,null,null,null,null,null,null,null,{"$f":"IF(E47+F47+G47+H47+J47+K47=0,IF(N47+O47+P47+Q47+R47+S47+T47+U47+W47+X47+Y47+Z47+AA47+AB47+AC47>0,\"Classe\",\"\"),IF(OR(AND(E47<>0,F47=0,SUM(N47:U47)=0,SUM(W47:AC47)=0,H47+K47=0,G47+J47=E47),AND(F47<>0,E47=0,SUM(N47:U47)=0,SUM(W47:AC47)=0,G47+J47=0,H47+K47=F47),AND(E47=0,F47=0,H47+K47<>0,H47+K47=SUM(W47:AC47),SUM(N47:U47)=0,(H47+K47)<>(G47+J47)),AND(E47=0,F47=0,G47+J47<>0,G47+J47=SUM(N47:U47),SUM(W47:AC47)=0,(H47+K47)<>(G47+J47)),AND(E47=0,F47=0,J47=0,N47+O47+P47+Q47+R47+S47+T47+U47+W47+X47+Y47+Z47+AA47+AB47+AC47=0,K47<>0,K47=G47),AND(E47=0,F47=0,J47<>0,N47+O47+P47+Q47+R47+S47+T47+U47+W47+X47+Y47+Z47+AA47+AB47+AC47=0,K47=0,J47=H47)),\"OK\",\"??\"))","v":""}]
[41,null,null,null,null,null,null,null,{"$f":"IF(D48=\"\",\"\",I47+G48-H48)","v":""},null,null,{"$f":"IF(D48=\"\",\"\",L47+J48-K48)","v":""},{"$f":"IF(D48=\"\",\"\",I48+L48)","v":""},null,null,null,null,null,null,null,null,{"$f":"IF(E48+F48+G48+H48+J48+K48=0,IF(N48+O48+P48+Q48+R48+S48+T48+U48+W48+X48+Y48+Z48+AA48+AB48+AC48>0,\"Classe\",\"\"),IF(OR(AND(E48<>0,F48=0,SUM(N48:U48)=0,SUM(W48:AC48)=0,H48+K48=0,G48+J48=E48),AND(F48<>0,E48=0,SUM(N48:U48)=0,SUM(W48:AC48)=0,G48+J48=0,H48+K48=F48),AND(E48=0,F48=0,H48+K48<>0,H48+K48=SUM(W48:AC48),SUM(N48:U48)=0,(H48+K48)<>(G48+J48)),AND(E48=0,F48=0,G48+J48<>0,G48+J48=SUM(N48:U48),SUM(W48:AC48)=0,(H48+K48)<>(G48+J48)),AND(E48=0,F48=0,J48=0,N48+O48+P48+Q48+R48+S48+T48+U48+W48+X48+Y48+Z48+AA48+AB48+AC48=0,K48<>0,K48=G48),AND(E48=0,F48=0,J48<>0,N48+O48+P48+Q48+R48+S48+T48+U48+W48+X48+Y48+Z48+AA48+AB48+AC48=0,K48=0,J48=H48)),\"OK\",\"??\"))","v":""}]
[42,null,null,null,null,null,null,null,{"$f":"IF(D49=\"\",\"\",I48+G49-H49)","v":""},null,null,{"$f":"IF(D49=\"\",\"\",L48+J49-K49)","v":""},{"$f":"IF(D49=\"\",\"\",I49+L49)","v":""},null,null,null,null,null,null,null,null,{"$f":"IF(E49+F49+G49+H49+J49+K49=0,IF(N49+O49+P49+Q49+R49+S49+T49+U49+W49+X49+Y49+Z49+AA49+AB49+AC49>0,\"Classe\",\"\"),IF(OR(AND(E49<>0,F49=0,SUM(N49:U49)=0,SUM(W49:AC49)=0,H49+K49=0,G49+J49=E49),AND(F49<>0,E49=0,SUM(N49:U49)=0,SUM(W49:AC49)=0,G49+J49=0,H49+K49=F49),AND(E49=0,F49=0,H49+K49<>0,H49+K49=SUM(W49:AC49),SUM(N49:U49)=0,(H49+K49)<>(G49+J49)),AND(E49=0,F49=0,G49+J49<>0,G49+J49=SUM(N49:U49),SUM(W49:AC49)=0,(H49+K49)<>(G49+J49)),AND(E49=0,F49=0,J49=0,N49+O49+P49+Q49+R49+S49+T49+U49+W49+X49+Y49+Z49+AA49+AB49+AC49=0,K49<>0,K49=G49),AND(E49=0,F49=0,J49<>0,N49+O49+P49+Q49+R49+S49+T49+U49+W49+X49+Y49+Z49+AA49+AB49+AC49=0,K49=0,J49=H49)),\"OK\",\"??\"))","v":""}]
[43,null,null,null,null,null,null,null,{"$f":"IF(D50=\"\",\"\",I49+G50-H50)","v":""},null,null,{"$f":"IF(D50=\"\",\"\",L49+J50-K50)","v":""},{"$f":"IF(D50=\"\",\"\",I50+L50)","v":""},null,null,null,null,null,null,null,null,{"$f":"IF(E50+F50+G50+H50+J50+K50=0,IF(N50+O50+P50+Q50+R50+S50+T50+U50+W50+X50+Y50+Z50+AA50+AB50+AC50>0,\"Classe\",\"\"),IF(OR(AND(E50<>0,F50=0,SUM(N50:U50)=0,SUM(W50:AC50)=0,H50+K50=0,G50+J50=E50),AND(F50<>0,E50=0,SUM(N50:U50)=0,SUM(W50:AC50)=0,G50+J50=0,H50+K50=F50),AND(E50=0,F50=0,H50+K50<>0,H50+K50=SUM(W50:AC50),SUM(N50:U50)=0,(H50+K50)<>(G50+J50)),AND(E50=0,F50=0,G50+J50<>0,G50+J50=SUM(N50:U50),SUM(W50:AC50)=0,(H50+K50)<>(G50+J50)),AND(E50=0,F50=0,J50=0,N50+O50+P50+Q50+R50+S50+T50+U50+W50+X50+Y50+Z50+AA50+AB50+AC50=0,K50<>0,K50=G50),AND(E50=0,F50=0,J50<>0,N50+O50+P50+Q50+R50+S50+T50+U50+W50+X50+Y50+Z50+AA50+AB50+AC50=0,K50=0,J50=H50)),\"OK\",\"??\"))","v":""}]
[44,null,null,null,null,null,null,null,{"$f":"IF(D51=\"\",\"\",I50+G51-H51)","v":""},null,null,{"$f":"IF(D51=\"\",\"\",L50+J51-K51)","v":""},{"$f":"IF(D51=\"\",\"\",I51+L51)","v":""},null,null,null,null,null,null,null,null,{"$f":"IF(E51+F51+G51+H51+J51+K51=0,IF(N51+O51+P51+Q51+R51+S51+T51+U51+W51+X51+Y51+Z51+AA51+AB51+AC51>0,\"Classe\",\"\"),IF(OR(AND(E51<>0,F51=0,SUM(N51:U51)=0,SUM(W51:AC51)=0,H51+K51=0,G51+J51=E51),AND(F51<>0,E51=0,SUM(N51:U51)=0,SUM(W51:AC51)=0,G51+J51=0,H51+K51=F51),AND(E51=0,F51=0,H51+K51<>0,H51+K51=SUM(W51:AC51),SUM(N51:U51)=0,(H51+K51)<>(G51+J51)),AND(E51=0,F51=0,G51+J51<>0,G51+J51=SUM(N51:U51),SUM(W51:AC51)=0,(H51+K51)<>(G51+J51)),AND(E51=0,F51=0,J51=0,N51+O51+P51+Q51+R51+S51+T51+U51+W51+X51+Y51+Z51+AA51+AB51+AC51=0,K51<>0,K51=G51),AND(E51=0,F51=0,J51<>0,N51+O51+P51+Q51+R51+S51+T51+U51+W51+X51+Y51+Z51+AA51+AB51+AC51=0,K51=0,J51=H51)),\"OK\",\"??\"))","v":""}]
[45,null,null,null,null,null,null,null,{"$f":"IF(D52=\"\",\"\",I51+G52-H52)","v":""},null,null,{"$f":"IF(D52=\"\",\"\",L51+J52-K52)","v":""},{"$f":"IF(D52=\"\",\"\",I52+L52)","v":""},null,null,null,null,null,null,null,null,{"$f":"IF(E52+F52+G52+H52+J52+K52=0,IF(N52+O52+P52+Q52+R52+S52+T52+U52+W52+X52+Y52+Z52+AA52+AB52+AC52>0,\"Classe\",\"\"),IF(OR(AND(E52<>0,F52=0,SUM(N52:U52)=0,SUM(W52:AC52)=0,H52+K52=0,G52+J52=E52),AND(F52<>0,E52=0,SUM(N52:U52)=0,SUM(W52:AC52)=0,G52+J52=0,H52+K52=F52),AND(E52=0,F52=0,H52+K52<>0,H52+K52=SUM(W52:AC52),SUM(N52:U52)=0,(H52+K52)<>(G52+J52)),AND(E52=0,F52=0,G52+J52<>0,G52+J52=SUM(N52:U52),SUM(W52:AC52)=0,(H52+K52)<>(G52+J52)),AND(E52=0,F52=0,J52=0,N52+O52+P52+Q52+R52+S52+T52+U52+W52+X52+Y52+Z52+AA52+AB52+AC52=0,K52<>0,K52=G52),AND(E52=0,F52=0,J52<>0,N52+O52+P52+Q52+R52+S52+T52+U52+W52+X52+Y52+Z52+AA52+AB52+AC52=0,K52=0,J52=H52)),\"OK\",\"??\"))","v":""}]
[46,null,null,null,null,null,null,null,{"$f":"IF(D53=\"\",\"\",I52+G53-H53)","v":""},null,null,{"$f":"IF(D53=\"\",\"\",L52+J53-K53)","v":""},{"$f":"IF(D53=\"\",\"\",I53+L53)","v":""},null,null,null,null,null,null,null,null,{"$f":"IF(E53+F53+G53+H53+J53+K53=0,IF(N53+O53+P53+Q53+R53+S53+T53+U53+W53+X53+Y53+Z53+AA53+AB53+AC53>0,\"Classe\",\"\"),IF(OR(AND(E53<>0,F53=0,SUM(N53:U53)=0,SUM(W53:AC53)=0,H53+K53=0,G53+J53=E53),AND(F53<>0,E53=0,SUM(N53:U53)=0,SUM(W53:AC53)=0,G53+J53=0,H53+K53=F53),AND(E53=0,F53=0,H53+K53<>0,H53+K53=SUM(W53:AC53),SUM(N53:U53)=0,(H53+K53)<>(G53+J53)),AND(E53=0,F53=0,G53+J53<>0,G53+J53=SUM(N53:U53),SUM(W53:AC53)=0,(H53+K53)<>(G53+J53)),AND(E53=0,F53=0,J53=0,N53+O53+P53+Q53+R53+S53+T53+U53+W53+X53+Y53+Z53+AA53+AB53+AC53=0,K53<>0,K53=G53),AND(E53=0,F53=0,J53<>0,N53+O53+P53+Q53+R53+S53+T53+U53+W53+X53+Y53+Z53+AA53+AB53+AC53=0,K53=0,J53=H53)),\"OK\",\"??\"))","v":""}]
[47,null,null,null,null,null,null,null,{"$f":"IF(D54=\"\",\"\",I53+G54-H54)","v":""},null,null,{"$f":"IF(D54=\"\",\"\",L53+J54-K54)","v":""},{"$f":"IF(D54=\"\",\"\",I54+L54)","v":""},null,null,null,null,null,null,null,null,{"$f":"IF(E54+F54+G54+H54+J54+K54=0,IF(N54+O54+P54+Q54+R54+S54+T54+U54+W54+X54+Y54+Z54+AA54+AB54+AC54>0,\"Classe\",\"\"),IF(OR(AND(E54<>0,F54=0,SUM(N54:U54)=0,SUM(W54:AC54)=0,H54+K54=0,G54+J54=E54),AND(F54<>0,E54=0,SUM(N54:U54)=0,SUM(W54:AC54)=0,G54+J54=0,H54+K54=F54),AND(E54=0,F54=0,H54+K54<>0,H54+K54=SUM(W54:AC54),SUM(N54:U54)=0,(H54+K54)<>(G54+J54)),AND(E54=0,F54=0,G54+J54<>0,G54+J54=SUM(N54:U54),SUM(W54:AC54)=0,(H54+K54)<>(G54+J54)),AND(E54=0,F54=0,J54=0,N54+O54+P54+Q54+R54+S54+T54+U54+W54+X54+Y54+Z54+AA54+AB54+AC54=0,K54<>0,K54=G54),AND(E54=0,F54=0,J54<>0,N54+O54+P54+Q54+R54+S54+T54+U54+W54+X54+Y54+Z54+AA54+AB54+AC54=0,K54=0,J54=H54)),\"OK\",\"??\"))","v":""}]
[48,null,null,null,null,null,null,null,{"$f":"IF(D55=\"\",\"\",I54+G55-H55)","v":""},null,null,{"$f":"IF(D55=\"\",\"\",L54+J55-K55)","v":""},{"$f":"IF(D55=\"\",\"\",I55+L55)","v":""},null,null,null,null,null,null,null,null,{"$f":"IF(E55+F55+G55+H55+J55+K55=0,IF(N55+O55+P55+Q55+R55+S55+T55+U55+W55+X55+Y55+Z55+AA55+AB55+AC55>0,\"Classe\",\"\"),IF(OR(AND(E55<>0,F55=0,SUM(N55:U55)=0,SUM(W55:AC55)=0,H55+K55=0,G55+J55=E55),AND(F55<>0,E55=0,SUM(N55:U55)=0,SUM(W55:AC55)=0,G55+J55=0,H55+K55=F55),AND(E55=0,F55=0,H55+K55<>0,H55+K55=SUM(W55:AC55),SUM(N55:U55)=0,(H55+K55)<>(G55+J55)),AND(E55=0,F55=0,G55+J55<>0,G55+J55=SUM(N55:U55),SUM(W55:AC55)=0,(H55+K55)<>(G55+J55)),AND(E55=0,F55=0,J55=0,N55+O55+P55+Q55+R55+S55+T55+U55+W55+X55+Y55+Z55+AA55+AB55+AC55=0,K55<>0,K55=G55),AND(E55=0,F55=0,J55<>0,N55+O55+P55+Q55+R55+S55+T55+U55+W55+X55+Y55+Z55+AA55+AB55+AC55=0,K55=0,J55=H55)),\"OK\",\"??\"))","v":""}]
[49,null,null,null,null,null,null,null,{"$f":"IF(D56=\"\",\"\",I55+G56-H56)","v":""},null,null,{"$f":"IF(D56=\"\",\"\",L55+J56-K56)","v":""},{"$f":"IF(D56=\"\",\"\",I56+L56)","v":""},null,null,null,null,null,null,null,null,{"$f":"IF(E56+F56+G56+H56+J56+K56=0,IF(N56+O56+P56+Q56+R56+S56+T56+U56+W56+X56+Y56+Z56+AA56+AB56+AC56>0,\"Classe\",\"\"),IF(OR(AND(E56<>0,F56=0,SUM(N56:U56)=0,SUM(W56:AC56)=0,H56+K56=0,G56+J56=E56),AND(F56<>0,E56=0,SUM(N56:U56)=0,SUM(W56:AC56)=0,G56+J56=0,H56+K56=F56),AND(E56=0,F56=0,H56+K56<>0,H56+K56=SUM(W56:AC56),SUM(N56:U56)=0,(H56+K56)<>(G56+J56)),AND(E56=0,F56=0,G56+J56<>0,G56+J56=SUM(N56:U56),SUM(W56:AC56)=0,(H56+K56)<>(G56+J56)),AND(E56=0,F56=0,J56=0,N56+O56+P56+Q56+R56+S56+T56+U56+W56+X56+Y56+Z56+AA56+AB56+AC56=0,K56<>0,K56=G56),AND(E56=0,F56=0,J56<>0,N56+O56+P56+Q56+R56+S56+T56+U56+W56+X56+Y56+Z56+AA56+AB56+AC56=0,K56=0,J56=H56)),\"OK\",\"??\"))","v":""}]
[50,null,null,null,null,null,null,null,{"$f":"IF(D57=\"\",\"\",I56+G57-H57)","v":""},null,null,{"$f":"IF(D57=\"\",\"\",L56+J57-K57)","v":""},{"$f":"IF(D57=\"\",\"\",I57+L57)","v":""},null,null,null,null,null,null,null,null,{"$f":"IF(E57+F57+G57+H57+J57+K57=0,IF(N57+O57+P57+Q57+R57+S57+T57+U57+W57+X57+Y57+Z57+AA57+AB57+AC57>0,\"Classe\",\"\"),IF(OR(AND(E57<>0,F57=0,SUM(N57:U57)=0,SUM(W57:AC57)=0,H57+K57=0,G57+J57=E57),AND(F57<>0,E57=0,SUM(N57:U57)=0,SUM(W57:AC57)=0,G57+J57=0,H57+K57=F57),AND(E57=0,F57=0,H57+K57<>0,H57+K57=SUM(W57:AC57),SUM(N57:U57)=0,(H57+K57)<>(G57+J57)),AND(E57=0,F57=0,G57+J57<>0,G57+J57=SUM(N57:U57),SUM(W57:AC57)=0,(H57+K57)<>(G57+J57)),AND(E57=0,F57=0,J57=0,N57+O57+P57+Q57+R57+S57+T57+U57+W57+X57+Y57+Z57+AA57+AB57+AC57=0,K57<>0,K57=G57),AND(E57=0,F57=0,J57<>0,N57+O57+P57+Q57+R57+S57+T57+U57+W57+X57+Y57+Z57+AA57+AB57+AC57=0,K57=0,J57=H57)),\"OK\",\"??\"))","v":""}]
[51,null,null,null,null,null,null,null,{"$f":"IF(D58=\"\",\"\",I57+G58-H58)","v":""},null,null,{"$f":"IF(D58=\"\",\"\",L57+J58-K58)","v":""},{"$f":"IF(D58=\"\",\"\",I58+L58)","v":""},null,null,null,null,null,null,null,null,{"$f":"IF(E58+F58+G58+H58+J58+K58=0,IF(N58+O58+P58+Q58+R58+S58+T58+U58+W58+X58+Y58+Z58+AA58+AB58+AC58>0,\"Classe\",\"\"),IF(OR(AND(E58<>0,F58=0,SUM(N58:U58)=0,SUM(W58:AC58)=0,H58+K58=0,G58+J58=E58),AND(F58<>0,E58=0,SUM(N58:U58)=0,SUM(W58:AC58)=0,G58+J58=0,H58+K58=F58),AND(E58=0,F58=0,H58+K58<>0,H58+K58=SUM(W58:AC58),SUM(N58:U58)=0,(H58+K58)<>(G58+J58)),AND(E58=0,F58=0,G58+J58<>0,G58+J58=SUM(N58:U58),SUM(W58:AC58)=0,(H58+K58)<>(G58+J58)),AND(E58=0,F58=0,J58=0,N58+O58+P58+Q58+R58+S58+T58+U58+W58+X58+Y58+Z58+AA58+AB58+AC58=0,K58<>0,K58=G58),AND(E58=0,F58=0,J58<>0,N58+O58+P58+Q58+R58+S58+T58+U58+W58+X58+Y58+Z58+AA58+AB58+AC58=0,K58=0,J58=H58)),\"OK\",\"??\"))","v":""}]
[52,null,null,null,null,null,null,null,{"$f":"IF(D59=\"\",\"\",I58+G59-H59)","v":""},null,null,{"$f":"IF(D59=\"\",\"\",L58+J59-K59)","v":""},{"$f":"IF(D59=\"\",\"\",I59+L59)","v":""},null,null,null,null,null,null,null,null,{"$f":"IF(E59+F59+G59+H59+J59+K59=0,IF(N59+O59+P59+Q59+R59+S59+T59+U59+W59+X59+Y59+Z59+AA59+AB59+AC59>0,\"Classe\",\"\"),IF(OR(AND(E59<>0,F59=0,SUM(N59:U59)=0,SUM(W59:AC59)=0,H59+K59=0,G59+J59=E59),AND(F59<>0,E59=0,SUM(N59:U59)=0,SUM(W59:AC59)=0,G59+J59=0,H59+K59=F59),AND(E59=0,F59=0,H59+K59<>0,H59+K59=SUM(W59:AC59),SUM(N59:U59)=0,(H59+K59)<>(G59+J59)),AND(E59=0,F59=0,G59+J59<>0,G59+J59=SUM(N59:U59),SUM(W59:AC59)=0,(H59+K59)<>(G59+J59)),AND(E59=0,F59=0,J59=0,N59+O59+P59+Q59+R59+S59+T59+U59+W59+X59+Y59+Z59+AA59+AB59+AC59=0,K59<>0,K59=G59),AND(E59=0,F59=0,J59<>0,N59+O59+P59+Q59+R59+S59+T59+U59+W59+X59+Y59+Z59+AA59+AB59+AC59=0,K59=0,J59=H59)),\"OK\",\"??\"))","v":""}]
[53,null,null,null,null,null,null,null,{"$f":"IF(D60=\"\",\"\",I59+G60-H60)","v":""},null,null,{"$f":"IF(D60=\"\",\"\",L59+J60-K60)","v":""},{"$f":"IF(D60=\"\",\"\",I60+L60)","v":""},null,null,null,null,null,null,null,null,{"$f":"IF(E60+F60+G60+H60+J60+K60=0,IF(N60+O60+P60+Q60+R60+S60+T60+U60+W60+X60+Y60+Z60+AA60+AB60+AC60>0,\"Classe\",\"\"),IF(OR(AND(E60<>0,F60=0,SUM(N60:U60)=0,SUM(W60:AC60)=0,H60+K60=0,G60+J60=E60),AND(F60<>0,E60=0,SUM(N60:U60)=0,SUM(W60:AC60)=0,G60+J60=0,H60+K60=F60),AND(E60=0,F60=0,H60+K60<>0,H60+K60=SUM(W60:AC60),SUM(N60:U60)=0,(H60+K60)<>(G60+J60)),AND(E60=0,F60=0,G60+J60<>0,G60+J60=SUM(N60:U60),SUM(W60:AC60)=0,(H60+K60)<>(G60+J60)),AND(E60=0,F60=0,J60=0,N60+O60+P60+Q60+R60+S60+T60+U60+W60+X60+Y60+Z60+AA60+AB60+AC60=0,K60<>0,K60=G60),AND(E60=0,F60=0,J60<>0,N60+O60+P60+Q60+R60+S60+T60+U60+W60+X60+Y60+Z60+AA60+AB60+AC60=0,K60=0,J60=H60)),\"OK\",\"??\"))","v":""}]
[54,null,null,null,null,null,null,null,{"$f":"IF(D61=\"\",\"\",I60+G61-H61)","v":""},null,null,{"$f":"IF(D61=\"\",\"\",L60+J61-K61)","v":""},{"$f":"IF(D61=\"\",\"\",I61+L61)","v":""},null,null,null,null,null,null,null,null,{"$f":"IF(E61+F61+G61+H61+J61+K61=0,IF(N61+O61+P61+Q61+R61+S61+T61+U61+W61+X61+Y61+Z61+AA61+AB61+AC61>0,\"Classe\",\"\"),IF(OR(AND(E61<>0,F61=0,SUM(N61:U61)=0,SUM(W61:AC61)=0,H61+K61=0,G61+J61=E61),AND(F61<>0,E61=0,SUM(N61:U61)=0,SUM(W61:AC61)=0,G61+J61=0,H61+K61=F61),AND(E61=0,F61=0,H61+K61<>0,H61+K61=SUM(W61:AC61),SUM(N61:U61)=0,(H61+K61)<>(G61+J61)),AND(E61=0,F61=0,G61+J61<>0,G61+J61=SUM(N61:U61),SUM(W61:AC61)=0,(H61+K61)<>(G61+J61)),AND(E61=0,F61=0,J61=0,N61+O61+P61+Q61+R61+S61+T61+U61+W61+X61+Y61+Z61+AA61+AB61+AC61=0,K61<>0,K61=G61),AND(E61=0,F61=0,J61<>0,N61+O61+P61+Q61+R61+S61+T61+U61+W61+X61+Y61+Z61+AA61+AB61+AC61=0,K61=0,J61=H61)),\"OK\",\"??\"))","v":""}]
[55,null,null,null,null,null,null,null,{"$f":"IF(D62=\"\",\"\",I61+G62-H62)","v":""},null,null,{"$f":"IF(D62=\"\",\"\",L61+J62-K62)","v":""},{"$f":"IF(D62=\"\",\"\",I62+L62)","v":""},null,null,null,null,null,null,null,null,{"$f":"IF(E62+F62+G62+H62+J62+K62=0,IF(N62+O62+P62+Q62+R62+S62+T62+U62+W62+X62+Y62+Z62+AA62+AB62+AC62>0,\"Classe\",\"\"),IF(OR(AND(E62<>0,F62=0,SUM(N62:U62)=0,SUM(W62:AC62)=0,H62+K62=0,G62+J62=E62),AND(F62<>0,E62=0,SUM(N62:U62)=0,SUM(W62:AC62)=0,G62+J62=0,H62+K62=F62),AND(E62=0,F62=0,H62+K62<>0,H62+K62=SUM(W62:AC62),SUM(N62:U62)=0,(H62+K62)<>(G62+J62)),AND(E62=0,F62=0,G62+J62<>0,G62+J62=SUM(N62:U62),SUM(W62:AC62)=0,(H62+K62)<>(G62+J62)),AND(E62=0,F62=0,J62=0,N62+O62+P62+Q62+R62+S62+T62+U62+W62+X62+Y62+Z62+AA62+AB62+AC62=0,K62<>0,K62=G62),AND(E62=0,F62=0,J62<>0,N62+O62+P62+Q62+R62+S62+T62+U62+W62+X62+Y62+Z62+AA62+AB62+AC62=0,K62=0,J62=H62)),\"OK\",\"??\"))","v":""}]
[56,null,null,null,null,null,null,null,{"$f":"IF(D63=\"\",\"\",I62+G63-H63)","v":""},null,null,{"$f":"IF(D63=\"\",\"\",L62+J63-K63)","v":""},{"$f":"IF(D63=\"\",\"\",I63+L63)","v":""},null,null,null,null,null,null,null,null,{"$f":"IF(E63+F63+G63+H63+J63+K63=0,IF(N63+O63+P63+Q63+R63+S63+T63+U63+W63+X63+Y63+Z63+AA63+AB63+AC63>0,\"Classe\",\"\"),IF(OR(AND(E63<>0,F63=0,SUM(N63:U63)=0,SUM(W63:AC63)=0,H63+K63=0,G63+J63=E63),AND(F63<>0,E63=0,SUM(N63:U63)=0,SUM(W63:AC63)=0,G63+J63=0,H63+K63=F63),AND(E63=0,F63=0,H63+K63<>0,H63+K63=SUM(W63:AC63),SUM(N63:U63)=0,(H63+K63)<>(G63+J63)),AND(E63=0,F63=0,G63+J63<>0,G63+J63=SUM(N63:U63),SUM(W63:AC63)=0,(H63+K63)<>(G63+J63)),AND(E63=0,F63=0,J63=0,N63+O63+P63+Q63+R63+S63+T63+U63+W63+X63+Y63+Z63+AA63+AB63+AC63=0,K63<>0,K63=G63),AND(E63=0,F63=0,J63<>0,N63+O63+P63+Q63+R63+S63+T63+U63+W63+X63+Y63+Z63+AA63+AB63+AC63=0,K63=0,J63=H63)),\"OK\",\"??\"))","v":""}]
[57,null,null,null,null,null,null,null,{"$f":"IF(D64=\"\",\"\",I63+G64-H64)","v":""},null,null,{"$f":"IF(D64=\"\",\"\",L63+J64-K64)","v":""},{"$f":"IF(D64=\"\",\"\",I64+L64)","v":""},null,null,null,null,null,null,null,null,{"$f":"IF(E64+F64+G64+H64+J64+K64=0,IF(N64+O64+P64+Q64+R64+S64+T64+U64+W64+X64+Y64+Z64+AA64+AB64+AC64>0,\"Classe\",\"\"),IF(OR(AND(E64<>0,F64=0,SUM(N64:U64)=0,SUM(W64:AC64)=0,H64+K64=0,G64+J64=E64),AND(F64<>0,E64=0,SUM(N64:U64)=0,SUM(W64:AC64)=0,G64+J64=0,H64+K64=F64),AND(E64=0,F64=0,H64+K64<>0,H64+K64=SUM(W64:AC64),SUM(N64:U64)=0,(H64+K64)<>(G64+J64)),AND(E64=0,F64=0,G64+J64<>0,G64+J64=SUM(N64:U64),SUM(W64:AC64)=0,(H64+K64)<>(G64+J64)),AND(E64=0,F64=0,J64=0,N64+O64+P64+Q64+R64+S64+T64+U64+W64+X64+Y64+Z64+AA64+AB64+AC64=0,K64<>0,K64=G64),AND(E64=0,F64=0,J64<>0,N64+O64+P64+Q64+R64+S64+T64+U64+W64+X64+Y64+Z64+AA64+AB64+AC64=0,K64=0,J64=H64)),\"OK\",\"??\"))","v":""}]
[58,null,null,null,null,null,null,null,{"$f":"IF(D65=\"\",\"\",I64+G65-H65)","v":""},null,null,{"$f":"IF(D65=\"\",\"\",L64+J65-K65)","v":""},{"$f":"IF(D65=\"\",\"\",I65+L65)","v":""},null,null,null,null,null,null,null,null,{"$f":"IF(E65+F65+G65+H65+J65+K65=0,IF(N65+O65+P65+Q65+R65+S65+T65+U65+W65+X65+Y65+Z65+AA65+AB65+AC65>0,\"Classe\",\"\"),IF(OR(AND(E65<>0,F65=0,SUM(N65:U65)=0,SUM(W65:AC65)=0,H65+K65=0,G65+J65=E65),AND(F65<>0,E65=0,SUM(N65:U65)=0,SUM(W65:AC65)=0,G65+J65=0,H65+K65=F65),AND(E65=0,F65=0,H65+K65<>0,H65+K65=SUM(W65:AC65),SUM(N65:U65)=0,(H65+K65)<>(G65+J65)),AND(E65=0,F65=0,G65+J65<>0,G65+J65=SUM(N65:U65),SUM(W65:AC65)=0,(H65+K65)<>(G65+J65)),AND(E65=0,F65=0,J65=0,N65+O65+P65+Q65+R65+S65+T65+U65+W65+X65+Y65+Z65+AA65+AB65+AC65=0,K65<>0,K65=G65),AND(E65=0,F65=0,J65<>0,N65+O65+P65+Q65+R65+S65+T65+U65+W65+X65+Y65+Z65+AA65+AB65+AC65=0,K65=0,J65=H65)),\"OK\",\"??\"))","v":""}]
[59,null,null,null,null,null,null,null,{"$f":"IF(D66=\"\",\"\",I65+G66-H66)","v":""},null,null,{"$f":"IF(D66=\"\",\"\",L65+J66-K66)","v":""},{"$f":"IF(D66=\"\",\"\",I66+L66)","v":""},null,null,null,null,null,null,null,null,{"$f":"IF(E66+F66+G66+H66+J66+K66=0,IF(N66+O66+P66+Q66+R66+S66+T66+U66+W66+X66+Y66+Z66+AA66+AB66+AC66>0,\"Classe\",\"\"),IF(OR(AND(E66<>0,F66=0,SUM(N66:U66)=0,SUM(W66:AC66)=0,H66+K66=0,G66+J66=E66),AND(F66<>0,E66=0,SUM(N66:U66)=0,SUM(W66:AC66)=0,G66+J66=0,H66+K66=F66),AND(E66=0,F66=0,H66+K66<>0,H66+K66=SUM(W66:AC66),SUM(N66:U66)=0,(H66+K66)<>(G66+J66)),AND(E66=0,F66=0,G66+J66<>0,G66+J66=SUM(N66:U66),SUM(W66:AC66)=0,(H66+K66)<>(G66+J66)),AND(E66=0,F66=0,J66=0,N66+O66+P66+Q66+R66+S66+T66+U66+W66+X66+Y66+Z66+AA66+AB66+AC66=0,K66<>0,K66=G66),AND(E66=0,F66=0,J66<>0,N66+O66+P66+Q66+R66+S66+T66+U66+W66+X66+Y66+Z66+AA66+AB66+AC66=0,K66=0,J66=H66)),\"OK\",\"??\"))","v":""}]
[60,null,null,null,null,null,null,null,{"$f":"IF(D67=\"\",\"\",I66+G67-H67)","v":""},null,null,{"$f":"IF(D67=\"\",\"\",L66+J67-K67)","v":""},{"$f":"IF(D67=\"\",\"\",I67+L67)","v":""},null,null,null,null,null,null,null,null,{"$f":"IF(E67+F67+G67+H67+J67+K67=0,IF(N67+O67+P67+Q67+R67+S67+T67+U67+W67+X67+Y67+Z67+AA67+AB67+AC67>0,\"Classe\",\"\"),IF(OR(AND(E67<>0,F67=0,SUM(N67:U67)=0,SUM(W67:AC67)=0,H67+K67=0,G67+J67=E67),AND(F67<>0,E67=0,SUM(N67:U67)=0,SUM(W67:AC67)=0,G67+J67=0,H67+K67=F67),AND(E67=0,F67=0,H67+K67<>0,H67+K67=SUM(W67:AC67),SUM(N67:U67)=0,(H67+K67)<>(G67+J67)),AND(E67=0,F67=0,G67+J67<>0,G67+J67=SUM(N67:U67),SUM(W67:AC67)=0,(H67+K67)<>(G67+J67)),AND(E67=0,F67=0,J67=0,N67+O67+P67+Q67+R67+S67+T67+U67+W67+X67+Y67+Z67+AA67+AB67+AC67=0,K67<>0,K67=G67),AND(E67=0,F67=0,J67<>0,N67+O67+P67+Q67+R67+S67+T67+U67+W67+X67+Y67+Z67+AA67+AB67+AC67=0,K67=0,J67=H67)),\"OK\",\"??\"))","v":""}]
[61,null,null,null,null,null,null,null,{"$f":"IF(D68=\"\",\"\",I67+G68-H68)","v":""},null,null,{"$f":"IF(D68=\"\",\"\",L67+J68-K68)","v":""},{"$f":"IF(D68=\"\",\"\",I68+L68)","v":""},null,null,null,null,null,null,null,null,{"$f":"IF(E68+F68+G68+H68+J68+K68=0,IF(N68+O68+P68+Q68+R68+S68+T68+U68+W68+X68+Y68+Z68+AA68+AB68+AC68>0,\"Classe\",\"\"),IF(OR(AND(E68<>0,F68=0,SUM(N68:U68)=0,SUM(W68:AC68)=0,H68+K68=0,G68+J68=E68),AND(F68<>0,E68=0,SUM(N68:U68)=0,SUM(W68:AC68)=0,G68+J68=0,H68+K68=F68),AND(E68=0,F68=0,H68+K68<>0,H68+K68=SUM(W68:AC68),SUM(N68:U68)=0,(H68+K68)<>(G68+J68)),AND(E68=0,F68=0,G68+J68<>0,G68+J68=SUM(N68:U68),SUM(W68:AC68)=0,(H68+K68)<>(G68+J68)),AND(E68=0,F68=0,J68=0,N68+O68+P68+Q68+R68+S68+T68+U68+W68+X68+Y68+Z68+AA68+AB68+AC68=0,K68<>0,K68=G68),AND(E68=0,F68=0,J68<>0,N68+O68+P68+Q68+R68+S68+T68+U68+W68+X68+Y68+Z68+AA68+AB68+AC68=0,K68=0,J68=H68)),\"OK\",\"??\"))","v":""}]
[62,null,null,null,null,null,null,null,{"$f":"IF(D69=\"\",\"\",I68+G69-H69)","v":""},null,null,{"$f":"IF(D69=\"\",\"\",L68+J69-K69)","v":""},{"$f":"IF(D69=\"\",\"\",I69+L69)","v":""},null,null,null,null,null,null,null,null,{"$f":"IF(E69+F69+G69+H69+J69+K69=0,IF(N69+O69+P69+Q69+R69+S69+T69+U69+W69+X69+Y69+Z69+AA69+AB69+AC69>0,\"Classe\",\"\"),IF(OR(AND(E69<>0,F69=0,SUM(N69:U69)=0,SUM(W69:AC69)=0,H69+K69=0,G69+J69=E69),AND(F69<>0,E69=0,SUM(N69:U69)=0,SUM(W69:AC69)=0,G69+J69=0,H69+K69=F69),AND(E69=0,F69=0,H69+K69<>0,H69+K69=SUM(W69:AC69),SUM(N69:U69)=0,(H69+K69)<>(G69+J69)),AND(E69=0,F69=0,G69+J69<>0,G69+J69=SUM(N69:U69),SUM(W69:AC69)=0,(H69+K69)<>(G69+J69)),AND(E69=0,F69=0,J69=0,N69+O69+P69+Q69+R69+S69+T69+U69+W69+X69+Y69+Z69+AA69+AB69+AC69=0,K69<>0,K69=G69),AND(E69=0,F69=0,J69<>0,N69+O69+P69+Q69+R69+S69+T69+U69+W69+X69+Y69+Z69+AA69+AB69+AC69=0,K69=0,J69=H69)),\"OK\",\"??\"))","v":""}]
[63,null,null,null,null,null,null,null,{"$f":"IF(D70=\"\",\"\",I69+G70-H70)","v":""},null,null,{"$f":"IF(D70=\"\",\"\",L69+J70-K70)","v":""},{"$f":"IF(D70=\"\",\"\",I70+L70)","v":""},null,null,null,null,null,null,null,null,{"$f":"IF(E70+F70+G70+H70+J70+K70=0,IF(N70+O70+P70+Q70+R70+S70+T70+U70+W70+X70+Y70+Z70+AA70+AB70+AC70>0,\"Classe\",\"\"),IF(OR(AND(E70<>0,F70=0,SUM(N70:U70)=0,SUM(W70:AC70)=0,H70+K70=0,G70+J70=E70),AND(F70<>0,E70=0,SUM(N70:U70)=0,SUM(W70:AC70)=0,G70+J70=0,H70+K70=F70),AND(E70=0,F70=0,H70+K70<>0,H70+K70=SUM(W70:AC70),SUM(N70:U70)=0,(H70+K70)<>(G70+J70)),AND(E70=0,F70=0,G70+J70<>0,G70+J70=SUM(N70:U70),SUM(W70:AC70)=0,(H70+K70)<>(G70+J70)),AND(E70=0,F70=0,J70=0,N70+O70+P70+Q70+R70+S70+T70+U70+W70+X70+Y70+Z70+AA70+AB70+AC70=0,K70<>0,K70=G70),AND(E70=0,F70=0,J70<>0,N70+O70+P70+Q70+R70+S70+T70+U70+W70+X70+Y70+Z70+AA70+AB70+AC70=0,K70=0,J70=H70)),\"OK\",\"??\"))","v":""}]
[64,null,null,null,null,null,null,null,{"$f":"IF(D71=\"\",\"\",I70+G71-H71)","v":""},null,null,{"$f":"IF(D71=\"\",\"\",L70+J71-K71)","v":""},{"$f":"IF(D71=\"\",\"\",I71+L71)","v":""},null,null,null,null,null,null,null,null,{"$f":"IF(E71+F71+G71+H71+J71+K71=0,IF(N71+O71+P71+Q71+R71+S71+T71+U71+W71+X71+Y71+Z71+AA71+AB71+AC71>0,\"Classe\",\"\"),IF(OR(AND(E71<>0,F71=0,SUM(N71:U71)=0,SUM(W71:AC71)=0,H71+K71=0,G71+J71=E71),AND(F71<>0,E71=0,SUM(N71:U71)=0,SUM(W71:AC71)=0,G71+J71=0,H71+K71=F71),AND(E71=0,F71=0,H71+K71<>0,H71+K71=SUM(W71:AC71),SUM(N71:U71)=0,(H71+K71)<>(G71+J71)),AND(E71=0,F71=0,G71+J71<>0,G71+J71=SUM(N71:U71),SUM(W71:AC71)=0,(H71+K71)<>(G71+J71)),AND(E71=0,F71=0,J71=0,N71+O71+P71+Q71+R71+S71+T71+U71+W71+X71+Y71+Z71+AA71+AB71+AC71=0,K71<>0,K71=G71),AND(E71=0,F71=0,J71<>0,N71+O71+P71+Q71+R71+S71+T71+U71+W71+X71+Y71+Z71+AA71+AB71+AC71=0,K71=0,J71=H71)),\"OK\",\"??\"))","v":""}]
[65,null,null,null,null,null,null,null,{"$f":"IF(D72=\"\",\"\",I71+G72-H72)","v":""},null,null,{"$f":"IF(D72=\"\",\"\",L71+J72-K72)","v":""},{"$f":"IF(D72=\"\",\"\",I72+L72)","v":""},null,null,null,null,null,null,null,null,{"$f":"IF(E72+F72+G72+H72+J72+K72=0,IF(N72+O72+P72+Q72+R72+S72+T72+U72+W72+X72+Y72+Z72+AA72+AB72+AC72>0,\"Classe\",\"\"),IF(OR(AND(E72<>0,F72=0,SUM(N72:U72)=0,SUM(W72:AC72)=0,H72+K72=0,G72+J72=E72),AND(F72<>0,E72=0,SUM(N72:U72)=0,SUM(W72:AC72)=0,G72+J72=0,H72+K72=F72),AND(E72=0,F72=0,H72+K72<>0,H72+K72=SUM(W72:AC72),SUM(N72:U72)=0,(H72+K72)<>(G72+J72)),AND(E72=0,F72=0,G72+J72<>0,G72+J72=SUM(N72:U72),SUM(W72:AC72)=0,(H72+K72)<>(G72+J72)),AND(E72=0,F72=0,J72=0,N72+O72+P72+Q72+R72+S72+T72+U72+W72+X72+Y72+Z72+AA72+AB72+AC72=0,K72<>0,K72=G72),AND(E72=0,F72=0,J72<>0,N72+O72+P72+Q72+R72+S72+T72+U72+W72+X72+Y72+Z72+AA72+AB72+AC72=0,K72=0,J72=H72)),\"OK\",\"??\"))","v":""}]
[66,null,null,null,null,null,null,null,{"$f":"IF(D73=\"\",\"\",I72+G73-H73)","v":""},null,null,{"$f":"IF(D73=\"\",\"\",L72+J73-K73)","v":""},{"$f":"IF(D73=\"\",\"\",I73+L73)","v":""},null,null,null,null,null,null,null,null,{"$f":"IF(E73+F73+G73+H73+J73+K73=0,IF(N73+O73+P73+Q73+R73+S73+T73+U73+W73+X73+Y73+Z73+AA73+AB73+AC73>0,\"Classe\",\"\"),IF(OR(AND(E73<>0,F73=0,SUM(N73:U73)=0,SUM(W73:AC73)=0,H73+K73=0,G73+J73=E73),AND(F73<>0,E73=0,SUM(N73:U73)=0,SUM(W73:AC73)=0,G73+J73=0,H73+K73=F73),AND(E73=0,F73=0,H73+K73<>0,H73+K73=SUM(W73:AC73),SUM(N73:U73)=0,(H73+K73)<>(G73+J73)),AND(E73=0,F73=0,G73+J73<>0,G73+J73=SUM(N73:U73),SUM(W73:AC73)=0,(H73+K73)<>(G73+J73)),AND(E73=0,F73=0,J73=0,N73+O73+P73+Q73+R73+S73+T73+U73+W73+X73+Y73+Z73+AA73+AB73+AC73=0,K73<>0,K73=G73),AND(E73=0,F73=0,J73<>0,N73+O73+P73+Q73+R73+S73+T73+U73+W73+X73+Y73+Z73+AA73+AB73+AC73=0,K73=0,J73=H73)),\"OK\",\"??\"))","v":""}]
[67,null,null,null,null,null,null,null,{"$f":"IF(D74=\"\",\"\",I73+G74-H74)","v":""},null,null,{"$f":"IF(D74=\"\",\"\",L73+J74-K74)","v":""},{"$f":"IF(D74=\"\",\"\",I74+L74)","v":""},null,null,null,null,null,null,null,null,{"$f":"IF(E74+F74+G74+H74+J74+K74=0,IF(N74+O74+P74+Q74+R74+S74+T74+U74+W74+X74+Y74+Z74+AA74+AB74+AC74>0,\"Classe\",\"\"),IF(OR(AND(E74<>0,F74=0,SUM(N74:U74)=0,SUM(W74:AC74)=0,H74+K74=0,G74+J74=E74),AND(F74<>0,E74=0,SUM(N74:U74)=0,SUM(W74:AC74)=0,G74+J74=0,H74+K74=F74),AND(E74=0,F74=0,H74+K74<>0,H74+K74=SUM(W74:AC74),SUM(N74:U74)=0,(H74+K74)<>(G74+J74)),AND(E74=0,F74=0,G74+J74<>0,G74+J74=SUM(N74:U74),SUM(W74:AC74)=0,(H74+K74)<>(G74+J74)),AND(E74=0,F74=0,J74=0,N74+O74+P74+Q74+R74+S74+T74+U74+W74+X74+Y74+Z74+AA74+AB74+AC74=0,K74<>0,K74=G74),AND(E74=0,F74=0,J74<>0,N74+O74+P74+Q74+R74+S74+T74+U74+W74+X74+Y74+Z74+AA74+AB74+AC74=0,K74=0,J74=H74)),\"OK\",\"??\"))","v":""}]
[68,null,null,null,null,null,null,null,{"$f":"IF(D75=\"\",\"\",I74+G75-H75)","v":""},null,null,{"$f":"IF(D75=\"\",\"\",L74+J75-K75)","v":""},{"$f":"IF(D75=\"\",\"\",I75+L75)","v":""},null,null,null,null,null,null,null,null,{"$f":"IF(E75+F75+G75+H75+J75+K75=0,IF(N75+O75+P75+Q75+R75+S75+T75+U75+W75+X75+Y75+Z75+AA75+AB75+AC75>0,\"Classe\",\"\"),IF(OR(AND(E75<>0,F75=0,SUM(N75:U75)=0,SUM(W75:AC75)=0,H75+K75=0,G75+J75=E75),AND(F75<>0,E75=0,SUM(N75:U75)=0,SUM(W75:AC75)=0,G75+J75=0,H75+K75=F75),AND(E75=0,F75=0,H75+K75<>0,H75+K75=SUM(W75:AC75),SUM(N75:U75)=0,(H75+K75)<>(G75+J75)),AND(E75=0,F75=0,G75+J75<>0,G75+J75=SUM(N75:U75),SUM(W75:AC75)=0,(H75+K75)<>(G75+J75)),AND(E75=0,F75=0,J75=0,N75+O75+P75+Q75+R75+S75+T75+U75+W75+X75+Y75+Z75+AA75+AB75+AC75=0,K75<>0,K75=G75),AND(E75=0,F75=0,J75<>0,N75+O75+P75+Q75+R75+S75+T75+U75+W75+X75+Y75+Z75+AA75+AB75+AC75=0,K75=0,J75=H75)),\"OK\",\"??\"))","v":""}]
[69,null,null,null,null,null,null,null,{"$f":"IF(D76=\"\",\"\",I75+G76-H76)","v":""},null,null,{"$f":"IF(D76=\"\",\"\",L75+J76-K76)","v":""},{"$f":"IF(D76=\"\",\"\",I76+L76)","v":""},null,null,null,null,null,null,null,null,{"$f":"IF(E76+F76+G76+H76+J76+K76=0,IF(N76+O76+P76+Q76+R76+S76+T76+U76+W76+X76+Y76+Z76+AA76+AB76+AC76>0,\"Classe\",\"\"),IF(OR(AND(E76<>0,F76=0,SUM(N76:U76)=0,SUM(W76:AC76)=0,H76+K76=0,G76+J76=E76),AND(F76<>0,E76=0,SUM(N76:U76)=0,SUM(W76:AC76)=0,G76+J76=0,H76+K76=F76),AND(E76=0,F76=0,H76+K76<>0,H76+K76=SUM(W76:AC76),SUM(N76:U76)=0,(H76+K76)<>(G76+J76)),AND(E76=0,F76=0,G76+J76<>0,G76+J76=SUM(N76:U76),SUM(W76:AC76)=0,(H76+K76)<>(G76+J76)),AND(E76=0,F76=0,J76=0,N76+O76+P76+Q76+R76+S76+T76+U76+W76+X76+Y76+Z76+AA76+AB76+AC76=0,K76<>0,K76=G76),AND(E76=0,F76=0,J76<>0,N76+O76+P76+Q76+R76+S76+T76+U76+W76+X76+Y76+Z76+AA76+AB76+AC76=0,K76=0,J76=H76)),\"OK\",\"??\"))","v":""}]
[70,null,null,null,null,null,null,null,{"$f":"IF(D77=\"\",\"\",I76+G77-H77)","v":""},null,null,{"$f":"IF(D77=\"\",\"\",L76+J77-K77)","v":""},{"$f":"IF(D77=\"\",\"\",I77+L77)","v":""},null,null,null,null,null,null,null,null,{"$f":"IF(E77+F77+G77+H77+J77+K77=0,IF(N77+O77+P77+Q77+R77+S77+T77+U77+W77+X77+Y77+Z77+AA77+AB77+AC77>0,\"Classe\",\"\"),IF(OR(AND(E77<>0,F77=0,SUM(N77:U77)=0,SUM(W77:AC77)=0,H77+K77=0,G77+J77=E77),AND(F77<>0,E77=0,SUM(N77:U77)=0,SUM(W77:AC77)=0,G77+J77=0,H77+K77=F77),AND(E77=0,F77=0,H77+K77<>0,H77+K77=SUM(W77:AC77),SUM(N77:U77)=0,(H77+K77)<>(G77+J77)),AND(E77=0,F77=0,G77+J77<>0,G77+J77=SUM(N77:U77),SUM(W77:AC77)=0,(H77+K77)<>(G77+J77)),AND(E77=0,F77=0,J77=0,N77+O77+P77+Q77+R77+S77+T77+U77+W77+X77+Y77+Z77+AA77+AB77+AC77=0,K77<>0,K77=G77),AND(E77=0,F77=0,J77<>0,N77+O77+P77+Q77+R77+S77+T77+U77+W77+X77+Y77+Z77+AA77+AB77+AC77=0,K77=0,J77=H77)),\"OK\",\"??\"))","v":""}]
[71,null,null,null,null,null,null,null,{"$f":"IF(D78=\"\",\"\",I77+G78-H78)","v":""},null,null,{"$f":"IF(D78=\"\",\"\",L77+J78-K78)","v":""},{"$f":"IF(D78=\"\",\"\",I78+L78)","v":""},null,null,null,null,null,null,null,null,{"$f":"IF(E78+F78+G78+H78+J78+K78=0,IF(N78+O78+P78+Q78+R78+S78+T78+U78+W78+X78+Y78+Z78+AA78+AB78+AC78>0,\"Classe\",\"\"),IF(OR(AND(E78<>0,F78=0,SUM(N78:U78)=0,SUM(W78:AC78)=0,H78+K78=0,G78+J78=E78),AND(F78<>0,E78=0,SUM(N78:U78)=0,SUM(W78:AC78)=0,G78+J78=0,H78+K78=F78),AND(E78=0,F78=0,H78+K78<>0,H78+K78=SUM(W78:AC78),SUM(N78:U78)=0,(H78+K78)<>(G78+J78)),AND(E78=0,F78=0,G78+J78<>0,G78+J78=SUM(N78:U78),SUM(W78:AC78)=0,(H78+K78)<>(G78+J78)),AND(E78=0,F78=0,J78=0,N78+O78+P78+Q78+R78+S78+T78+U78+W78+X78+Y78+Z78+AA78+AB78+AC78=0,K78<>0,K78=G78),AND(E78=0,F78=0,J78<>0,N78+O78+P78+Q78+R78+S78+T78+U78+W78+X78+Y78+Z78+AA78+AB78+AC78=0,K78=0,J78=H78)),\"OK\",\"??\"))","v":""}]
[72,null,null,null,null,null,null,null,{"$f":"IF(D79=\"\",\"\",I78+G79-H79)","v":""},null,null,{"$f":"IF(D79=\"\",\"\",L78+J79-K79)","v":""},{"$f":"IF(D79=\"\",\"\",I79+L79)","v":""},null,null,null,null,null,null,null,null,{"$f":"IF(E79+F79+G79+H79+J79+K79=0,IF(N79+O79+P79+Q79+R79+S79+T79+U79+W79+X79+Y79+Z79+AA79+AB79+AC79>0,\"Classe\",\"\"),IF(OR(AND(E79<>0,F79=0,SUM(N79:U79)=0,SUM(W79:AC79)=0,H79+K79=0,G79+J79=E79),AND(F79<>0,E79=0,SUM(N79:U79)=0,SUM(W79:AC79)=0,G79+J79=0,H79+K79=F79),AND(E79=0,F79=0,H79+K79<>0,H79+K79=SUM(W79:AC79),SUM(N79:U79)=0,(H79+K79)<>(G79+J79)),AND(E79=0,F79=0,G79+J79<>0,G79+J79=SUM(N79:U79),SUM(W79:AC79)=0,(H79+K79)<>(G79+J79)),AND(E79=0,F79=0,J79=0,N79+O79+P79+Q79+R79+S79+T79+U79+W79+X79+Y79+Z79+AA79+AB79+AC79=0,K79<>0,K79=G79),AND(E79=0,F79=0,J79<>0,N79+O79+P79+Q79+R79+S79+T79+U79+W79+X79+Y79+Z79+AA79+AB79+AC79=0,K79=0,J79=H79)),\"OK\",\"??\"))","v":""}]
[73,null,null,null,null,null,null,null,{"$f":"IF(D80=\"\",\"\",I79+G80-H80)","v":""},null,null,{"$f":"IF(D80=\"\",\"\",L79+J80-K80)","v":""},{"$f":"IF(D80=\"\",\"\",I80+L80)","v":""},null,null,null,null,null,null,null,null,{"$f":"IF(E80+F80+G80+H80+J80+K80=0,IF(N80+O80+P80+Q80+R80+S80+T80+U80+W80+X80+Y80+Z80+AA80+AB80+AC80>0,\"Classe\",\"\"),IF(OR(AND(E80<>0,F80=0,SUM(N80:U80)=0,SUM(W80:AC80)=0,H80+K80=0,G80+J80=E80),AND(F80<>0,E80=0,SUM(N80:U80)=0,SUM(W80:AC80)=0,G80+J80=0,H80+K80=F80),AND(E80=0,F80=0,H80+K80<>0,H80+K80=SUM(W80:AC80),SUM(N80:U80)=0,(H80+K80)<>(G80+J80)),AND(E80=0,F80=0,G80+J80<>0,G80+J80=SUM(N80:U80),SUM(W80:AC80)=0,(H80+K80)<>(G80+J80)),AND(E80=0,F80=0,J80=0,N80+O80+P80+Q80+R80+S80+T80+U80+W80+X80+Y80+Z80+AA80+AB80+AC80=0,K80<>0,K80=G80),AND(E80=0,F80=0,J80<>0,N80+O80+P80+Q80+R80+S80+T80+U80+W80+X80+Y80+Z80+AA80+AB80+AC80=0,K80=0,J80=H80)),\"OK\",\"??\"))","v":""}]
[74,null,null,null,null,null,null,null,{"$f":"IF(D81=\"\",\"\",I80+G81-H81)","v":""},null,null,{"$f":"IF(D81=\"\",\"\",L80+J81-K81)","v":""},{"$f":"IF(D81=\"\",\"\",I81+L81)","v":""},null,null,null,null,null,null,null,null,{"$f":"IF(E81+F81+G81+H81+J81+K81=0,IF(N81+O81+P81+Q81+R81+S81+T81+U81+W81+X81+Y81+Z81+AA81+AB81+AC81>0,\"Classe\",\"\"),IF(OR(AND(E81<>0,F81=0,SUM(N81:U81)=0,SUM(W81:AC81)=0,H81+K81=0,G81+J81=E81),AND(F81<>0,E81=0,SUM(N81:U81)=0,SUM(W81:AC81)=0,G81+J81=0,H81+K81=F81),AND(E81=0,F81=0,H81+K81<>0,H81+K81=SUM(W81:AC81),SUM(N81:U81)=0,(H81+K81)<>(G81+J81)),AND(E81=0,F81=0,G81+J81<>0,G81+J81=SUM(N81:U81),SUM(W81:AC81)=0,(H81+K81)<>(G81+J81)),AND(E81=0,F81=0,J81=0,N81+O81+P81+Q81+R81+S81+T81+U81+W81+X81+Y81+Z81+AA81+AB81+AC81=0,K81<>0,K81=G81),AND(E81=0,F81=0,J81<>0,N81+O81+P81+Q81+R81+S81+T81+U81+W81+X81+Y81+Z81+AA81+AB81+AC81=0,K81=0,J81=H81)),\"OK\",\"??\"))","v":""}]
[75,null,null,null,null,null,null,null,{"$f":"IF(D82=\"\",\"\",I81+G82-H82)","v":""},null,null,{"$f":"IF(D82=\"\",\"\",L81+J82-K82)","v":""},{"$f":"IF(D82=\"\",\"\",I82+L82)","v":""},null,null,null,null,null,null,null,null,{"$f":"IF(E82+F82+G82+H82+J82+K82=0,IF(N82+O82+P82+Q82+R82+S82+T82+U82+W82+X82+Y82+Z82+AA82+AB82+AC82>0,\"Classe\",\"\"),IF(OR(AND(E82<>0,F82=0,SUM(N82:U82)=0,SUM(W82:AC82)=0,H82+K82=0,G82+J82=E82),AND(F82<>0,E82=0,SUM(N82:U82)=0,SUM(W82:AC82)=0,G82+J82=0,H82+K82=F82),AND(E82=0,F82=0,H82+K82<>0,H82+K82=SUM(W82:AC82),SUM(N82:U82)=0,(H82+K82)<>(G82+J82)),AND(E82=0,F82=0,G82+J82<>0,G82+J82=SUM(N82:U82),SUM(W82:AC82)=0,(H82+K82)<>(G82+J82)),AND(E82=0,F82=0,J82=0,N82+O82+P82+Q82+R82+S82+T82+U82+W82+X82+Y82+Z82+AA82+AB82+AC82=0,K82<>0,K82=G82),AND(E82=0,F82=0,J82<>0,N82+O82+P82+Q82+R82+S82+T82+U82+W82+X82+Y82+Z82+AA82+AB82+AC82=0,K82=0,J82=H82)),\"OK\",\"??\"))","v":""}]
[76,null,null,null,null,null,null,null,{"$f":"IF(D83=\"\",\"\",I82+G83-H83)","v":""},null,null,{"$f":"IF(D83=\"\",\"\",L82+J83-K83)","v":""},{"$f":"IF(D83=\"\",\"\",I83+L83)","v":""},null,null,null,null,null,null,null,null,{"$f":"IF(E83+F83+G83+H83+J83+K83=0,IF(N83+O83+P83+Q83+R83+S83+T83+U83+W83+X83+Y83+Z83+AA83+AB83+AC83>0,\"Classe\",\"\"),IF(OR(AND(E83<>0,F83=0,SUM(N83:U83)=0,SUM(W83:AC83)=0,H83+K83=0,G83+J83=E83),AND(F83<>0,E83=0,SUM(N83:U83)=0,SUM(W83:AC83)=0,G83+J83=0,H83+K83=F83),AND(E83=0,F83=0,H83+K83<>0,H83+K83=SUM(W83:AC83),SUM(N83:U83)=0,(H83+K83)<>(G83+J83)),AND(E83=0,F83=0,G83+J83<>0,G83+J83=SUM(N83:U83),SUM(W83:AC83)=0,(H83+K83)<>(G83+J83)),AND(E83=0,F83=0,J83=0,N83+O83+P83+Q83+R83+S83+T83+U83+W83+X83+Y83+Z83+AA83+AB83+AC83=0,K83<>0,K83=G83),AND(E83=0,F83=0,J83<>0,N83+O83+P83+Q83+R83+S83+T83+U83+W83+X83+Y83+Z83+AA83+AB83+AC83=0,K83=0,J83=H83)),\"OK\",\"??\"))","v":""}]
[77,null,null,null,null,null,null,null,{"$f":"IF(D84=\"\",\"\",I83+G84-H84)","v":""},null,null,{"$f":"IF(D84=\"\",\"\",L83+J84-K84)","v":""},{"$f":"IF(D84=\"\",\"\",I84+L84)","v":""},null,null,null,null,null,null,null,null,{"$f":"IF(E84+F84+G84+H84+J84+K84=0,IF(N84+O84+P84+Q84+R84+S84+T84+U84+W84+X84+Y84+Z84+AA84+AB84+AC84>0,\"Classe\",\"\"),IF(OR(AND(E84<>0,F84=0,SUM(N84:U84)=0,SUM(W84:AC84)=0,H84+K84=0,G84+J84=E84),AND(F84<>0,E84=0,SUM(N84:U84)=0,SUM(W84:AC84)=0,G84+J84=0,H84+K84=F84),AND(E84=0,F84=0,H84+K84<>0,H84+K84=SUM(W84:AC84),SUM(N84:U84)=0,(H84+K84)<>(G84+J84)),AND(E84=0,F84=0,G84+J84<>0,G84+J84=SUM(N84:U84),SUM(W84:AC84)=0,(H84+K84)<>(G84+J84)),AND(E84=0,F84=0,J84=0,N84+O84+P84+Q84+R84+S84+T84+U84+W84+X84+Y84+Z84+AA84+AB84+AC84=0,K84<>0,K84=G84),AND(E84=0,F84=0,J84<>0,N84+O84+P84+Q84+R84+S84+T84+U84+W84+X84+Y84+Z84+AA84+AB84+AC84=0,K84=0,J84=H84)),\"OK\",\"??\"))","v":""}]
[78,null,null,null,null,null,null,null,{"$f":"IF(D85=\"\",\"\",I84+G85-H85)","v":""},null,null,{"$f":"IF(D85=\"\",\"\",L84+J85-K85)","v":""},{"$f":"IF(D85=\"\",\"\",I85+L85)","v":""},null,null,null,null,null,null,null,null,{"$f":"IF(E85+F85+G85+H85+J85+K85=0,IF(N85+O85+P85+Q85+R85+S85+T85+U85+W85+X85+Y85+Z85+AA85+AB85+AC85>0,\"Classe\",\"\"),IF(OR(AND(E85<>0,F85=0,SUM(N85:U85)=0,SUM(W85:AC85)=0,H85+K85=0,G85+J85=E85),AND(F85<>0,E85=0,SUM(N85:U85)=0,SUM(W85:AC85)=0,G85+J85=0,H85+K85=F85),AND(E85=0,F85=0,H85+K85<>0,H85+K85=SUM(W85:AC85),SUM(N85:U85)=0,(H85+K85)<>(G85+J85)),AND(E85=0,F85=0,G85+J85<>0,G85+J85=SUM(N85:U85),SUM(W85:AC85)=0,(H85+K85)<>(G85+J85)),AND(E85=0,F85=0,J85=0,N85+O85+P85+Q85+R85+S85+T85+U85+W85+X85+Y85+Z85+AA85+AB85+AC85=0,K85<>0,K85=G85),AND(E85=0,F85=0,J85<>0,N85+O85+P85+Q85+R85+S85+T85+U85+W85+X85+Y85+Z85+AA85+AB85+AC85=0,K85=0,J85=H85)),\"OK\",\"??\"))","v":""}]
[79,null,null,null,null,null,null,null,{"$f":"IF(D86=\"\",\"\",I85+G86-H86)","v":""},null,null,{"$f":"IF(D86=\"\",\"\",L85+J86-K86)","v":""},{"$f":"IF(D86=\"\",\"\",I86+L86)","v":""},null,null,null,null,null,null,null,null,{"$f":"IF(E86+F86+G86+H86+J86+K86=0,IF(N86+O86+P86+Q86+R86+S86+T86+U86+W86+X86+Y86+Z86+AA86+AB86+AC86>0,\"Classe\",\"\"),IF(OR(AND(E86<>0,F86=0,SUM(N86:U86)=0,SUM(W86:AC86)=0,H86+K86=0,G86+J86=E86),AND(F86<>0,E86=0,SUM(N86:U86)=0,SUM(W86:AC86)=0,G86+J86=0,H86+K86=F86),AND(E86=0,F86=0,H86+K86<>0,H86+K86=SUM(W86:AC86),SUM(N86:U86)=0,(H86+K86)<>(G86+J86)),AND(E86=0,F86=0,G86+J86<>0,G86+J86=SUM(N86:U86),SUM(W86:AC86)=0,(H86+K86)<>(G86+J86)),AND(E86=0,F86=0,J86=0,N86+O86+P86+Q86+R86+S86+T86+U86+W86+X86+Y86+Z86+AA86+AB86+AC86=0,K86<>0,K86=G86),AND(E86=0,F86=0,J86<>0,N86+O86+P86+Q86+R86+S86+T86+U86+W86+X86+Y86+Z86+AA86+AB86+AC86=0,K86=0,J86=H86)),\"OK\",\"??\"))","v":""}]
[80,null,null,null,null,null,null,null,{"$f":"IF(D87=\"\",\"\",I86+G87-H87)","v":""},null,null,{"$f":"IF(D87=\"\",\"\",L86+J87-K87)","v":""},{"$f":"IF(D87=\"\",\"\",I87+L87)","v":""},null,null,null,null,null,null,null,null,{"$f":"IF(E87+F87+G87+H87+J87+K87=0,IF(N87+O87+P87+Q87+R87+S87+T87+U87+W87+X87+Y87+Z87+AA87+AB87+AC87>0,\"Classe\",\"\"),IF(OR(AND(E87<>0,F87=0,SUM(N87:U87)=0,SUM(W87:AC87)=0,H87+K87=0,G87+J87=E87),AND(F87<>0,E87=0,SUM(N87:U87)=0,SUM(W87:AC87)=0,G87+J87=0,H87+K87=F87),AND(E87=0,F87=0,H87+K87<>0,H87+K87=SUM(W87:AC87),SUM(N87:U87)=0,(H87+K87)<>(G87+J87)),AND(E87=0,F87=0,G87+J87<>0,G87+J87=SUM(N87:U87),SUM(W87:AC87)=0,(H87+K87)<>(G87+J87)),AND(E87=0,F87=0,J87=0,N87+O87+P87+Q87+R87+S87+T87+U87+W87+X87+Y87+Z87+AA87+AB87+AC87=0,K87<>0,K87=G87),AND(E87=0,F87=0,J87<>0,N87+O87+P87+Q87+R87+S87+T87+U87+W87+X87+Y87+Z87+AA87+AB87+AC87=0,K87=0,J87=H87)),\"OK\",\"??\"))","v":""}]
[81,null,null,null,null,null,null,null,{"$f":"IF(D88=\"\",\"\",I87+G88-H88)","v":""},null,null,{"$f":"IF(D88=\"\",\"\",L87+J88-K88)","v":""},{"$f":"IF(D88=\"\",\"\",I88+L88)","v":""},null,null,null,null,null,null,null,null,{"$f":"IF(E88+F88+G88+H88+J88+K88=0,IF(N88+O88+P88+Q88+R88+S88+T88+U88+W88+X88+Y88+Z88+AA88+AB88+AC88>0,\"Classe\",\"\"),IF(OR(AND(E88<>0,F88=0,SUM(N88:U88)=0,SUM(W88:AC88)=0,H88+K88=0,G88+J88=E88),AND(F88<>0,E88=0,SUM(N88:U88)=0,SUM(W88:AC88)=0,G88+J88=0,H88+K88=F88),AND(E88=0,F88=0,H88+K88<>0,H88+K88=SUM(W88:AC88),SUM(N88:U88)=0,(H88+K88)<>(G88+J88)),AND(E88=0,F88=0,G88+J88<>0,G88+J88=SUM(N88:U88),SUM(W88:AC88)=0,(H88+K88)<>(G88+J88)),AND(E88=0,F88=0,J88=0,N88+O88+P88+Q88+R88+S88+T88+U88+W88+X88+Y88+Z88+AA88+AB88+AC88=0,K88<>0,K88=G88),AND(E88=0,F88=0,J88<>0,N88+O88+P88+Q88+R88+S88+T88+U88+W88+X88+Y88+Z88+AA88+AB88+AC88=0,K88=0,J88=H88)),\"OK\",\"??\"))","v":""}]
[82,null,null,null,null,null,null,null,{"$f":"IF(D89=\"\",\"\",I88+G89-H89)","v":""},null,null,{"$f":"IF(D89=\"\",\"\",L88+J89-K89)","v":""},{"$f":"IF(D89=\"\",\"\",I89+L89)","v":""},null,null,null,null,null,null,null,null,{"$f":"IF(E89+F89+G89+H89+J89+K89=0,IF(N89+O89+P89+Q89+R89+S89+T89+U89+W89+X89+Y89+Z89+AA89+AB89+AC89>0,\"Classe\",\"\"),IF(OR(AND(E89<>0,F89=0,SUM(N89:U89)=0,SUM(W89:AC89)=0,H89+K89=0,G89+J89=E89),AND(F89<>0,E89=0,SUM(N89:U89)=0,SUM(W89:AC89)=0,G89+J89=0,H89+K89=F89),AND(E89=0,F89=0,H89+K89<>0,H89+K89=SUM(W89:AC89),SUM(N89:U89)=0,(H89+K89)<>(G89+J89)),AND(E89=0,F89=0,G89+J89<>0,G89+J89=SUM(N89:U89),SUM(W89:AC89)=0,(H89+K89)<>(G89+J89)),AND(E89=0,F89=0,J89=0,N89+O89+P89+Q89+R89+S89+T89+U89+W89+X89+Y89+Z89+AA89+AB89+AC89=0,K89<>0,K89=G89),AND(E89=0,F89=0,J89<>0,N89+O89+P89+Q89+R89+S89+T89+U89+W89+X89+Y89+Z89+AA89+AB89+AC89=0,K89=0,J89=H89)),\"OK\",\"??\"))","v":""}]
[83,null,null,null,null,null,null,null,{"$f":"IF(D90=\"\",\"\",I89+G90-H90)","v":""},null,null,{"$f":"IF(D90=\"\",\"\",L89+J90-K90)","v":""},{"$f":"IF(D90=\"\",\"\",I90+L90)","v":""},null,null,null,null,null,null,null,null,{"$f":"IF(E90+F90+G90+H90+J90+K90=0,IF(N90+O90+P90+Q90+R90+S90+T90+U90+W90+X90+Y90+Z90+AA90+AB90+AC90>0,\"Classe\",\"\"),IF(OR(AND(E90<>0,F90=0,SUM(N90:U90)=0,SUM(W90:AC90)=0,H90+K90=0,G90+J90=E90),AND(F90<>0,E90=0,SUM(N90:U90)=0,SUM(W90:AC90)=0,G90+J90=0,H90+K90=F90),AND(E90=0,F90=0,H90+K90<>0,H90+K90=SUM(W90:AC90),SUM(N90:U90)=0,(H90+K90)<>(G90+J90)),AND(E90=0,F90=0,G90+J90<>0,G90+J90=SUM(N90:U90),SUM(W90:AC90)=0,(H90+K90)<>(G90+J90)),AND(E90=0,F90=0,J90=0,N90+O90+P90+Q90+R90+S90+T90+U90+W90+X90+Y90+Z90+AA90+AB90+AC90=0,K90<>0,K90=G90),AND(E90=0,F90=0,J90<>0,N90+O90+P90+Q90+R90+S90+T90+U90+W90+X90+Y90+Z90+AA90+AB90+AC90=0,K90=0,J90=H90)),\"OK\",\"??\"))","v":""}]
[84,null,null,null,null,null,null,null,{"$f":"IF(D91=\"\",\"\",I90+G91-H91)","v":""},null,null,{"$f":"IF(D91=\"\",\"\",L90+J91-K91)","v":""},{"$f":"IF(D91=\"\",\"\",I91+L91)","v":""},null,null,null,null,null,null,null,null,{"$f":"IF(E91+F91+G91+H91+J91+K91=0,IF(N91+O91+P91+Q91+R91+S91+T91+U91+W91+X91+Y91+Z91+AA91+AB91+AC91>0,\"Classe\",\"\"),IF(OR(AND(E91<>0,F91=0,SUM(N91:U91)=0,SUM(W91:AC91)=0,H91+K91=0,G91+J91=E91),AND(F91<>0,E91=0,SUM(N91:U91)=0,SUM(W91:AC91)=0,G91+J91=0,H91+K91=F91),AND(E91=0,F91=0,H91+K91<>0,H91+K91=SUM(W91:AC91),SUM(N91:U91)=0,(H91+K91)<>(G91+J91)),AND(E91=0,F91=0,G91+J91<>0,G91+J91=SUM(N91:U91),SUM(W91:AC91)=0,(H91+K91)<>(G91+J91)),AND(E91=0,F91=0,J91=0,N91+O91+P91+Q91+R91+S91+T91+U91+W91+X91+Y91+Z91+AA91+AB91+AC91=0,K91<>0,K91=G91),AND(E91=0,F91=0,J91<>0,N91+O91+P91+Q91+R91+S91+T91+U91+W91+X91+Y91+Z91+AA91+AB91+AC91=0,K91=0,J91=H91)),\"OK\",\"??\"))","v":""}]
[85,null,null,null,null,null,null,null,{"$f":"IF(D92=\"\",\"\",I91+G92-H92)","v":""},null,null,{"$f":"IF(D92=\"\",\"\",L91+J92-K92)","v":""},{"$f":"IF(D92=\"\",\"\",I92+L92)","v":""},null,null,null,null,null,null,null,null,{"$f":"IF(E92+F92+G92+H92+J92+K92=0,IF(N92+O92+P92+Q92+R92+S92+T92+U92+W92+X92+Y92+Z92+AA92+AB92+AC92>0,\"Classe\",\"\"),IF(OR(AND(E92<>0,F92=0,SUM(N92:U92)=0,SUM(W92:AC92)=0,H92+K92=0,G92+J92=E92),AND(F92<>0,E92=0,SUM(N92:U92)=0,SUM(W92:AC92)=0,G92+J92=0,H92+K92=F92),AND(E92=0,F92=0,H92+K92<>0,H92+K92=SUM(W92:AC92),SUM(N92:U92)=0,(H92+K92)<>(G92+J92)),AND(E92=0,F92=0,G92+J92<>0,G92+J92=SUM(N92:U92),SUM(W92:AC92)=0,(H92+K92)<>(G92+J92)),AND(E92=0,F92=0,J92=0,N92+O92+P92+Q92+R92+S92+T92+U92+W92+X92+Y92+Z92+AA92+AB92+AC92=0,K92<>0,K92=G92),AND(E92=0,F92=0,J92<>0,N92+O92+P92+Q92+R92+S92+T92+U92+W92+X92+Y92+Z92+AA92+AB92+AC92=0,K92=0,J92=H92)),\"OK\",\"??\"))","v":""}]
[86,null,null,null,null,null,null,null,{"$f":"IF(D93=\"\",\"\",I92+G93-H93)","v":""},null,null,{"$f":"IF(D93=\"\",\"\",L92+J93-K93)","v":""},{"$f":"IF(D93=\"\",\"\",I93+L93)","v":""},null,null,null,null,null,null,null,null,{"$f":"IF(E93+F93+G93+H93+J93+K93=0,IF(N93+O93+P93+Q93+R93+S93+T93+U93+W93+X93+Y93+Z93+AA93+AB93+AC93>0,\"Classe\",\"\"),IF(OR(AND(E93<>0,F93=0,SUM(N93:U93)=0,SUM(W93:AC93)=0,H93+K93=0,G93+J93=E93),AND(F93<>0,E93=0,SUM(N93:U93)=0,SUM(W93:AC93)=0,G93+J93=0,H93+K93=F93),AND(E93=0,F93=0,H93+K93<>0,H93+K93=SUM(W93:AC93),SUM(N93:U93)=0,(H93+K93)<>(G93+J93)),AND(E93=0,F93=0,G93+J93<>0,G93+J93=SUM(N93:U93),SUM(W93:AC93)=0,(H93+K93)<>(G93+J93)),AND(E93=0,F93=0,J93=0,N93+O93+P93+Q93+R93+S93+T93+U93+W93+X93+Y93+Z93+AA93+AB93+AC93=0,K93<>0,K93=G93),AND(E93=0,F93=0,J93<>0,N93+O93+P93+Q93+R93+S93+T93+U93+W93+X93+Y93+Z93+AA93+AB93+AC93=0,K93=0,J93=H93)),\"OK\",\"??\"))","v":""}]
[87,null,null,null,null,null,null,null,{"$f":"IF(D94=\"\",\"\",I93+G94-H94)","v":""},null,null,{"$f":"IF(D94=\"\",\"\",L93+J94-K94)","v":""},{"$f":"IF(D94=\"\",\"\",I94+L94)","v":""},null,null,null,null,null,null,null,null,{"$f":"IF(E94+F94+G94+H94+J94+K94=0,IF(N94+O94+P94+Q94+R94+S94+T94+U94+W94+X94+Y94+Z94+AA94+AB94+AC94>0,\"Classe\",\"\"),IF(OR(AND(E94<>0,F94=0,SUM(N94:U94)=0,SUM(W94:AC94)=0,H94+K94=0,G94+J94=E94),AND(F94<>0,E94=0,SUM(N94:U94)=0,SUM(W94:AC94)=0,G94+J94=0,H94+K94=F94),AND(E94=0,F94=0,H94+K94<>0,H94+K94=SUM(W94:AC94),SUM(N94:U94)=0,(H94+K94)<>(G94+J94)),AND(E94=0,F94=0,G94+J94<>0,G94+J94=SUM(N94:U94),SUM(W94:AC94)=0,(H94+K94)<>(G94+J94)),AND(E94=0,F94=0,J94=0,N94+O94+P94+Q94+R94+S94+T94+U94+W94+X94+Y94+Z94+AA94+AB94+AC94=0,K94<>0,K94=G94),AND(E94=0,F94=0,J94<>0,N94+O94+P94+Q94+R94+S94+T94+U94+W94+X94+Y94+Z94+AA94+AB94+AC94=0,K94=0,J94=H94)),\"OK\",\"??\"))","v":""}]
[88,null,null,null,null,null,null,null,{"$f":"IF(D95=\"\",\"\",I94+G95-H95)","v":""},null,null,{"$f":"IF(D95=\"\",\"\",L94+J95-K95)","v":""},{"$f":"IF(D95=\"\",\"\",I95+L95)","v":""},null,null,null,null,null,null,null,null,{"$f":"IF(E95+F95+G95+H95+J95+K95=0,IF(N95+O95+P95+Q95+R95+S95+T95+U95+W95+X95+Y95+Z95+AA95+AB95+AC95>0,\"Classe\",\"\"),IF(OR(AND(E95<>0,F95=0,SUM(N95:U95)=0,SUM(W95:AC95)=0,H95+K95=0,G95+J95=E95),AND(F95<>0,E95=0,SUM(N95:U95)=0,SUM(W95:AC95)=0,G95+J95=0,H95+K95=F95),AND(E95=0,F95=0,H95+K95<>0,H95+K95=SUM(W95:AC95),SUM(N95:U95)=0,(H95+K95)<>(G95+J95)),AND(E95=0,F95=0,G95+J95<>0,G95+J95=SUM(N95:U95),SUM(W95:AC95)=0,(H95+K95)<>(G95+J95)),AND(E95=0,F95=0,J95=0,N95+O95+P95+Q95+R95+S95+T95+U95+W95+X95+Y95+Z95+AA95+AB95+AC95=0,K95<>0,K95=G95),AND(E95=0,F95=0,J95<>0,N95+O95+P95+Q95+R95+S95+T95+U95+W95+X95+Y95+Z95+AA95+AB95+AC95=0,K95=0,J95=H95)),\"OK\",\"??\"))","v":""}]
[89,null,null,null,null,null,null,null,{"$f":"IF(D96=\"\",\"\",I95+G96-H96)","v":""},null,null,{"$f":"IF(D96=\"\",\"\",L95+J96-K96)","v":""},{"$f":"IF(D96=\"\",\"\",I96+L96)","v":""},null,null,null,null,null,null,null,null,{"$f":"IF(E96+F96+G96+H96+J96+K96=0,IF(N96+O96+P96+Q96+R96+S96+T96+U96+W96+X96+Y96+Z96+AA96+AB96+AC96>0,\"Classe\",\"\"),IF(OR(AND(E96<>0,F96=0,SUM(N96:U96)=0,SUM(W96:AC96)=0,H96+K96=0,G96+J96=E96),AND(F96<>0,E96=0,SUM(N96:U96)=0,SUM(W96:AC96)=0,G96+J96=0,H96+K96=F96),AND(E96=0,F96=0,H96+K96<>0,H96+K96=SUM(W96:AC96),SUM(N96:U96)=0,(H96+K96)<>(G96+J96)),AND(E96=0,F96=0,G96+J96<>0,G96+J96=SUM(N96:U96),SUM(W96:AC96)=0,(H96+K96)<>(G96+J96)),AND(E96=0,F96=0,J96=0,N96+O96+P96+Q96+R96+S96+T96+U96+W96+X96+Y96+Z96+AA96+AB96+AC96=0,K96<>0,K96=G96),AND(E96=0,F96=0,J96<>0,N96+O96+P96+Q96+R96+S96+T96+U96+W96+X96+Y96+Z96+AA96+AB96+AC96=0,K96=0,J96=H96)),\"OK\",\"??\"))","v":""}]
[90,null,null,null,null,null,null,null,{"$f":"IF(D97=\"\",\"\",I96+G97-H97)","v":""},null,null,{"$f":"IF(D97=\"\",\"\",L96+J97-K97)","v":""},{"$f":"IF(D97=\"\",\"\",I97+L97)","v":""},null,null,null,null,null,null,null,null,{"$f":"IF(E97+F97+G97+H97+J97+K97=0,IF(N97+O97+P97+Q97+R97+S97+T97+U97+W97+X97+Y97+Z97+AA97+AB97+AC97>0,\"Classe\",\"\"),IF(OR(AND(E97<>0,F97=0,SUM(N97:U97)=0,SUM(W97:AC97)=0,H97+K97=0,G97+J97=E97),AND(F97<>0,E97=0,SUM(N97:U97)=0,SUM(W97:AC97)=0,G97+J97=0,H97+K97=F97),AND(E97=0,F97=0,H97+K97<>0,H97+K97=SUM(W97:AC97),SUM(N97:U97)=0,(H97+K97)<>(G97+J97)),AND(E97=0,F97=0,G97+J97<>0,G97+J97=SUM(N97:U97),SUM(W97:AC97)=0,(H97+K97)<>(G97+J97)),AND(E97=0,F97=0,J97=0,N97+O97+P97+Q97+R97+S97+T97+U97+W97+X97+Y97+Z97+AA97+AB97+AC97=0,K97<>0,K97=G97),AND(E97=0,F97=0,J97<>0,N97+O97+P97+Q97+R97+S97+T97+U97+W97+X97+Y97+Z97+AA97+AB97+AC97=0,K97=0,J97=H97)),\"OK\",\"??\"))","v":""}]
[91,null,null,null,null,null,null,null,{"$f":"IF(D98=\"\",\"\",I97+G98-H98)","v":""},null,null,{"$f":"IF(D98=\"\",\"\",L97+J98-K98)","v":""},{"$f":"IF(D98=\"\",\"\",I98+L98)","v":""},null,null,null,null,null,null,null,null,{"$f":"IF(E98+F98+G98+H98+J98+K98=0,IF(N98+O98+P98+Q98+R98+S98+T98+U98+W98+X98+Y98+Z98+AA98+AB98+AC98>0,\"Classe\",\"\"),IF(OR(AND(E98<>0,F98=0,SUM(N98:U98)=0,SUM(W98:AC98)=0,H98+K98=0,G98+J98=E98),AND(F98<>0,E98=0,SUM(N98:U98)=0,SUM(W98:AC98)=0,G98+J98=0,H98+K98=F98),AND(E98=0,F98=0,H98+K98<>0,H98+K98=SUM(W98:AC98),SUM(N98:U98)=0,(H98+K98)<>(G98+J98)),AND(E98=0,F98=0,G98+J98<>0,G98+J98=SUM(N98:U98),SUM(W98:AC98)=0,(H98+K98)<>(G98+J98)),AND(E98=0,F98=0,J98=0,N98+O98+P98+Q98+R98+S98+T98+U98+W98+X98+Y98+Z98+AA98+AB98+AC98=0,K98<>0,K98=G98),AND(E98=0,F98=0,J98<>0,N98+O98+P98+Q98+R98+S98+T98+U98+W98+X98+Y98+Z98+AA98+AB98+AC98=0,K98=0,J98=H98)),\"OK\",\"??\"))","v":""}]
[92,null,null,null,null,null,null,null,{"$f":"IF(D99=\"\",\"\",I98+G99-H99)","v":""},null,null,{"$f":"IF(D99=\"\",\"\",L98+J99-K99)","v":""},{"$f":"IF(D99=\"\",\"\",I99+L99)","v":""},null,null,null,null,null,null,null,null,{"$f":"IF(E99+F99+G99+H99+J99+K99=0,IF(N99+O99+P99+Q99+R99+S99+T99+U99+W99+X99+Y99+Z99+AA99+AB99+AC99>0,\"Classe\",\"\"),IF(OR(AND(E99<>0,F99=0,SUM(N99:U99)=0,SUM(W99:AC99)=0,H99+K99=0,G99+J99=E99),AND(F99<>0,E99=0,SUM(N99:U99)=0,SUM(W99:AC99)=0,G99+J99=0,H99+K99=F99),AND(E99=0,F99=0,H99+K99<>0,H99+K99=SUM(W99:AC99),SUM(N99:U99)=0,(H99+K99)<>(G99+J99)),AND(E99=0,F99=0,G99+J99<>0,G99+J99=SUM(N99:U99),SUM(W99:AC99)=0,(H99+K99)<>(G99+J99)),AND(E99=0,F99=0,J99=0,N99+O99+P99+Q99+R99+S99+T99+U99+W99+X99+Y99+Z99+AA99+AB99+AC99=0,K99<>0,K99=G99),AND(E99=0,F99=0,J99<>0,N99+O99+P99+Q99+R99+S99+T99+U99+W99+X99+Y99+Z99+AA99+AB99+AC99=0,K99=0,J99=H99)),\"OK\",\"??\"))","v":""}]
[93,null,null,null,null,null,null,null,{"$f":"IF(D100=\"\",\"\",I99+G100-H100)","v":""},null,null,{"$f":"IF(D100=\"\",\"\",L99+J100-K100)","v":""},{"$f":"IF(D100=\"\",\"\",I100+L100)","v":""},null,null,null,null,null,null,null,null,{"$f":"IF(E100+F100+G100+H100+J100+K100=0,IF(N100+O100+P100+Q100+R100+S100+T100+U100+W100+X100+Y100+Z100+AA100+AB100+AC100>0,\"Classe\",\"\"),IF(OR(AND(E100<>0,F100=0,SUM(N100:U100)=0,SUM(W100:AC100)=0,H100+K100=0,G100+J100=E100),AND(F100<>0,E100=0,SUM(N100:U100)=0,SUM(W100:AC100)=0,G100+J100=0,H100+K100=F100),AND(E100=0,F100=0,H100+K100<>0,H100+K100=SUM(W100:AC100),SUM(N100:U100)=0,(H100+K100)<>(G100+J100)),AND(E100=0,F100=0,G100+J100<>0,G100+J100=SUM(N100:U100),SUM(W100:AC100)=0,(H100+K100)<>(G100+J100)),AND(E100=0,F100=0,J100=0,N100+O100+P100+Q100+R100+S100+T100+U100+W100+X100+Y100+Z100+AA100+AB100+AC100=0,K100<>0,K100=G100),AND(E100=0,F100=0,J100<>0,N100+O100+P100+Q100+R100+S100+T100+U100+W100+X100+Y100+Z100+AA100+AB100+AC100=0,K100=0,J100=H100)),\"OK\",\"??\"))","v":""}]
[94,null,null,null,null,null,null,null,{"$f":"IF(D101=\"\",\"\",I100+G101-H101)","v":""},null,null,{"$f":"IF(D101=\"\",\"\",L100+J101-K101)","v":""},{"$f":"IF(D101=\"\",\"\",I101+L101)","v":""},null,null,null,null,null,null,null,null,{"$f":"IF(E101+F101+G101+H101+J101+K101=0,IF(N101+O101+P101+Q101+R101+S101+T101+U101+W101+X101+Y101+Z101+AA101+AB101+AC101>0,\"Classe\",\"\"),IF(OR(AND(E101<>0,F101=0,SUM(N101:U101)=0,SUM(W101:AC101)=0,H101+K101=0,G101+J101=E101),AND(F101<>0,E101=0,SUM(N101:U101)=0,SUM(W101:AC101)=0,G101+J101=0,H101+K101=F101),AND(E101=0,F101=0,H101+K101<>0,H101+K101=SUM(W101:AC101),SUM(N101:U101)=0,(H101+K101)<>(G101+J101)),AND(E101=0,F101=0,G101+J101<>0,G101+J101=SUM(N101:U101),SUM(W101:AC101)=0,(H101+K101)<>(G101+J101)),AND(E101=0,F101=0,J101=0,N101+O101+P101+Q101+R101+S101+T101+U101+W101+X101+Y101+Z101+AA101+AB101+AC101=0,K101<>0,K101=G101),AND(E101=0,F101=0,J101<>0,N101+O101+P101+Q101+R101+S101+T101+U101+W101+X101+Y101+Z101+AA101+AB101+AC101=0,K101=0,J101=H101)),\"OK\",\"??\"))","v":""}]
[95,null,null,null,null,null,null,null,{"$f":"IF(D102=\"\",\"\",I101+G102-H102)","v":""},null,null,{"$f":"IF(D102=\"\",\"\",L101+J102-K102)","v":""},{"$f":"IF(D102=\"\",\"\",I102+L102)","v":""},null,null,null,null,null,null,null,null,{"$f":"IF(E102+F102+G102+H102+J102+K102=0,IF(N102+O102+P102+Q102+R102+S102+T102+U102+W102+X102+Y102+Z102+AA102+AB102+AC102>0,\"Classe\",\"\"),IF(OR(AND(E102<>0,F102=0,SUM(N102:U102)=0,SUM(W102:AC102)=0,H102+K102=0,G102+J102=E102),AND(F102<>0,E102=0,SUM(N102:U102)=0,SUM(W102:AC102)=0,G102+J102=0,H102+K102=F102),AND(E102=0,F102=0,H102+K102<>0,H102+K102=SUM(W102:AC102),SUM(N102:U102)=0,(H102+K102)<>(G102+J102)),AND(E102=0,F102=0,G102+J102<>0,G102+J102=SUM(N102:U102),SUM(W102:AC102)=0,(H102+K102)<>(G102+J102)),AND(E102=0,F102=0,J102=0,N102+O102+P102+Q102+R102+S102+T102+U102+W102+X102+Y102+Z102+AA102+AB102+AC102=0,K102<>0,K102=G102),AND(E102=0,F102=0,J102<>0,N102+O102+P102+Q102+R102+S102+T102+U102+W102+X102+Y102+Z102+AA102+AB102+AC102=0,K102=0,J102=H102)),\"OK\",\"??\"))","v":""}]
[96,null,null,null,null,null,null,null,{"$f":"IF(D103=\"\",\"\",I102+G103-H103)","v":""},null,null,{"$f":"IF(D103=\"\",\"\",L102+J103-K103)","v":""},{"$f":"IF(D103=\"\",\"\",I103+L103)","v":""},null,null,null,null,null,null,null,null,{"$f":"IF(E103+F103+G103+H103+J103+K103=0,IF(N103+O103+P103+Q103+R103+S103+T103+U103+W103+X103+Y103+Z103+AA103+AB103+AC103>0,\"Classe\",\"\"),IF(OR(AND(E103<>0,F103=0,SUM(N103:U103)=0,SUM(W103:AC103)=0,H103+K103=0,G103+J103=E103),AND(F103<>0,E103=0,SUM(N103:U103)=0,SUM(W103:AC103)=0,G103+J103=0,H103+K103=F103),AND(E103=0,F103=0,H103+K103<>0,H103+K103=SUM(W103:AC103),SUM(N103:U103)=0,(H103+K103)<>(G103+J103)),AND(E103=0,F103=0,G103+J103<>0,G103+J103=SUM(N103:U103),SUM(W103:AC103)=0,(H103+K103)<>(G103+J103)),AND(E103=0,F103=0,J103=0,N103+O103+P103+Q103+R103+S103+T103+U103+W103+X103+Y103+Z103+AA103+AB103+AC103=0,K103<>0,K103=G103),AND(E103=0,F103=0,J103<>0,N103+O103+P103+Q103+R103+S103+T103+U103+W103+X103+Y103+Z103+AA103+AB103+AC103=0,K103=0,J103=H103)),\"OK\",\"??\"))","v":""}]
[97,null,null,null,null,null,null,null,{"$f":"IF(D104=\"\",\"\",I103+G104-H104)","v":""},null,null,{"$f":"IF(D104=\"\",\"\",L103+J104-K104)","v":""},{"$f":"IF(D104=\"\",\"\",I104+L104)","v":""},null,null,null,null,null,null,null,null,{"$f":"IF(E104+F104+G104+H104+J104+K104=0,IF(N104+O104+P104+Q104+R104+S104+T104+U104+W104+X104+Y104+Z104+AA104+AB104+AC104>0,\"Classe\",\"\"),IF(OR(AND(E104<>0,F104=0,SUM(N104:U104)=0,SUM(W104:AC104)=0,H104+K104=0,G104+J104=E104),AND(F104<>0,E104=0,SUM(N104:U104)=0,SUM(W104:AC104)=0,G104+J104=0,H104+K104=F104),AND(E104=0,F104=0,H104+K104<>0,H104+K104=SUM(W104:AC104),SUM(N104:U104)=0,(H104+K104)<>(G104+J104)),AND(E104=0,F104=0,G104+J104<>0,G104+J104=SUM(N104:U104),SUM(W104:AC104)=0,(H104+K104)<>(G104+J104)),AND(E104=0,F104=0,J104=0,N104+O104+P104+Q104+R104+S104+T104+U104+W104+X104+Y104+Z104+AA104+AB104+AC104=0,K104<>0,K104=G104),AND(E104=0,F104=0,J104<>0,N104+O104+P104+Q104+R104+S104+T104+U104+W104+X104+Y104+Z104+AA104+AB104+AC104=0,K104=0,J104=H104)),\"OK\",\"??\"))","v":""}]
[98,null,null,null,null,null,null,null,{"$f":"IF(D105=\"\",\"\",I104+G105-H105)","v":""},null,null,{"$f":"IF(D105=\"\",\"\",L104+J105-K105)","v":""},{"$f":"IF(D105=\"\",\"\",I105+L105)","v":""},null,null,null,null,null,null,null,null,{"$f":"IF(E105+F105+G105+H105+J105+K105=0,IF(N105+O105+P105+Q105+R105+S105+T105+U105+W105+X105+Y105+Z105+AA105+AB105+AC105>0,\"Classe\",\"\"),IF(OR(AND(E105<>0,F105=0,SUM(N105:U105)=0,SUM(W105:AC105)=0,H105+K105=0,G105+J105=E105),AND(F105<>0,E105=0,SUM(N105:U105)=0,SUM(W105:AC105)=0,G105+J105=0,H105+K105=F105),AND(E105=0,F105=0,H105+K105<>0,H105+K105=SUM(W105:AC105),SUM(N105:U105)=0,(H105+K105)<>(G105+J105)),AND(E105=0,F105=0,G105+J105<>0,G105+J105=SUM(N105:U105),SUM(W105:AC105)=0,(H105+K105)<>(G105+J105)),AND(E105=0,F105=0,J105=0,N105+O105+P105+Q105+R105+S105+T105+U105+W105+X105+Y105+Z105+AA105+AB105+AC105=0,K105<>0,K105=G105),AND(E105=0,F105=0,J105<>0,N105+O105+P105+Q105+R105+S105+T105+U105+W105+X105+Y105+Z105+AA105+AB105+AC105=0,K105=0,J105=H105)),\"OK\",\"??\"))","v":""}]
[99,null,null,null,null,null,null,null,{"$f":"IF(D106=\"\",\"\",I105+G106-H106)","v":""},null,null,{"$f":"IF(D106=\"\",\"\",L105+J106-K106)","v":""},{"$f":"IF(D106=\"\",\"\",I106+L106)","v":""},null,null,null,null,null,null,null,null,{"$f":"IF(E106+F106+G106+H106+J106+K106=0,IF(N106+O106+P106+Q106+R106+S106+T106+U106+W106+X106+Y106+Z106+AA106+AB106+AC106>0,\"Classe\",\"\"),IF(OR(AND(E106<>0,F106=0,SUM(N106:U106)=0,SUM(W106:AC106)=0,H106+K106=0,G106+J106=E106),AND(F106<>0,E106=0,SUM(N106:U106)=0,SUM(W106:AC106)=0,G106+J106=0,H106+K106=F106),AND(E106=0,F106=0,H106+K106<>0,H106+K106=SUM(W106:AC106),SUM(N106:U106)=0,(H106+K106)<>(G106+J106)),AND(E106=0,F106=0,G106+J106<>0,G106+J106=SUM(N106:U106),SUM(W106:AC106)=0,(H106+K106)<>(G106+J106)),AND(E106=0,F106=0,J106=0,N106+O106+P106+Q106+R106+S106+T106+U106+W106+X106+Y106+Z106+AA106+AB106+AC106=0,K106<>0,K106=G106),AND(E106=0,F106=0,J106<>0,N106+O106+P106+Q106+R106+S106+T106+U106+W106+X106+Y106+Z106+AA106+AB106+AC106=0,K106=0,J106=H106)),\"OK\",\"??\"))","v":""}]
[100,null,null,null,null,null,null,null,{"$f":"IF(D107=\"\",\"\",I106+G107-H107)","v":""},null,null,{"$f":"IF(D107=\"\",\"\",L106+J107-K107)","v":""},{"$f":"IF(D107=\"\",\"\",I107+L107)","v":""},null,null,null,null,null,null,null,null,{"$f":"IF(E107+F107+G107+H107+J107+K107=0,IF(N107+O107+P107+Q107+R107+S107+T107+U107+W107+X107+Y107+Z107+AA107+AB107+AC107>0,\"Classe\",\"\"),IF(OR(AND(E107<>0,F107=0,SUM(N107:U107)=0,SUM(W107:AC107)=0,H107+K107=0,G107+J107=E107),AND(F107<>0,E107=0,SUM(N107:U107)=0,SUM(W107:AC107)=0,G107+J107=0,H107+K107=F107),AND(E107=0,F107=0,H107+K107<>0,H107+K107=SUM(W107:AC107),SUM(N107:U107)=0,(H107+K107)<>(G107+J107)),AND(E107=0,F107=0,G107+J107<>0,G107+J107=SUM(N107:U107),SUM(W107:AC107)=0,(H107+K107)<>(G107+J107)),AND(E107=0,F107=0,J107=0,N107+O107+P107+Q107+R107+S107+T107+U107+W107+X107+Y107+Z107+AA107+AB107+AC107=0,K107<>0,K107=G107),AND(E107=0,F107=0,J107<>0,N107+O107+P107+Q107+R107+S107+T107+U107+W107+X107+Y107+Z107+AA107+AB107+AC107=0,K107=0,J107=H107)),\"OK\",\"??\"))","v":""}]
[101,null,null,null,null,null,null,null,{"$f":"IF(D108=\"\",\"\",I107+G108-H108)","v":""},null,null,{"$f":"IF(D108=\"\",\"\",L107+J108-K108)","v":""},{"$f":"IF(D108=\"\",\"\",I108+L108)","v":""},null,null,null,null,null,null,null,null,{"$f":"IF(E108+F108+G108+H108+J108+K108=0,IF(N108+O108+P108+Q108+R108+S108+T108+U108+W108+X108+Y108+Z108+AA108+AB108+AC108>0,\"Classe\",\"\"),IF(OR(AND(E108<>0,F108=0,SUM(N108:U108)=0,SUM(W108:AC108)=0,H108+K108=0,G108+J108=E108),AND(F108<>0,E108=0,SUM(N108:U108)=0,SUM(W108:AC108)=0,G108+J108=0,H108+K108=F108),AND(E108=0,F108=0,H108+K108<>0,H108+K108=SUM(W108:AC108),SUM(N108:U108)=0,(H108+K108)<>(G108+J108)),AND(E108=0,F108=0,G108+J108<>0,G108+J108=SUM(N108:U108),SUM(W108:AC108)=0,(H108+K108)<>(G108+J108)),AND(E108=0,F108=0,J108=0,N108+O108+P108+Q108+R108+S108+T108+U108+W108+X108+Y108+Z108+AA108+AB108+AC108=0,K108<>0,K108=G108),AND(E108=0,F108=0,J108<>0,N108+O108+P108+Q108+R108+S108+T108+U108+W108+X108+Y108+Z108+AA108+AB108+AC108=0,K108=0,J108=H108)),\"OK\",\"??\"))","v":""}]
[102,null,null,null,null,null,null,null,{"$f":"IF(D109=\"\",\"\",I108+G109-H109)","v":""},null,null,{"$f":"IF(D109=\"\",\"\",L108+J109-K109)","v":""},{"$f":"IF(D109=\"\",\"\",I109+L109)","v":""},null,null,null,null,null,null,null,null,{"$f":"IF(E109+F109+G109+H109+J109+K109=0,IF(N109+O109+P109+Q109+R109+S109+T109+U109+W109+X109+Y109+Z109+AA109+AB109+AC109>0,\"Classe\",\"\"),IF(OR(AND(E109<>0,F109=0,SUM(N109:U109)=0,SUM(W109:AC109)=0,H109+K109=0,G109+J109=E109),AND(F109<>0,E109=0,SUM(N109:U109)=0,SUM(W109:AC109)=0,G109+J109=0,H109+K109=F109),AND(E109=0,F109=0,H109+K109<>0,H109+K109=SUM(W109:AC109),SUM(N109:U109)=0,(H109+K109)<>(G109+J109)),AND(E109=0,F109=0,G109+J109<>0,G109+J109=SUM(N109:U109),SUM(W109:AC109)=0,(H109+K109)<>(G109+J109)),AND(E109=0,F109=0,J109=0,N109+O109+P109+Q109+R109+S109+T109+U109+W109+X109+Y109+Z109+AA109+AB109+AC109=0,K109<>0,K109=G109),AND(E109=0,F109=0,J109<>0,N109+O109+P109+Q109+R109+S109+T109+U109+W109+X109+Y109+Z109+AA109+AB109+AC109=0,K109=0,J109=H109)),\"OK\",\"??\"))","v":""}]
[103,null,null,null,null,null,null,null,{"$f":"IF(D110=\"\",\"\",I109+G110-H110)","v":""},null,null,{"$f":"IF(D110=\"\",\"\",L109+J110-K110)","v":""},{"$f":"IF(D110=\"\",\"\",I110+L110)","v":""},null,null,null,null,null,null,null,null,{"$f":"IF(E110+F110+G110+H110+J110+K110=0,IF(N110+O110+P110+Q110+R110+S110+T110+U110+W110+X110+Y110+Z110+AA110+AB110+AC110>0,\"Classe\",\"\"),IF(OR(AND(E110<>0,F110=0,SUM(N110:U110)=0,SUM(W110:AC110)=0,H110+K110=0,G110+J110=E110),AND(F110<>0,E110=0,SUM(N110:U110)=0,SUM(W110:AC110)=0,G110+J110=0,H110+K110=F110),AND(E110=0,F110=0,H110+K110<>0,H110+K110=SUM(W110:AC110),SUM(N110:U110)=0,(H110+K110)<>(G110+J110)),AND(E110=0,F110=0,G110+J110<>0,G110+J110=SUM(N110:U110),SUM(W110:AC110)=0,(H110+K110)<>(G110+J110)),AND(E110=0,F110=0,J110=0,N110+O110+P110+Q110+R110+S110+T110+U110+W110+X110+Y110+Z110+AA110+AB110+AC110=0,K110<>0,K110=G110),AND(E110=0,F110=0,J110<>0,N110+O110+P110+Q110+R110+S110+T110+U110+W110+X110+Y110+Z110+AA110+AB110+AC110=0,K110=0,J110=H110)),\"OK\",\"??\"))","v":""}]
[104,null,null,null,null,null,null,null,{"$f":"IF(D111=\"\",\"\",I110+G111-H111)","v":""},null,null,{"$f":"IF(D111=\"\",\"\",L110+J111-K111)","v":""},{"$f":"IF(D111=\"\",\"\",I111+L111)","v":""},null,null,null,null,null,null,null,null,{"$f":"IF(E111+F111+G111+H111+J111+K111=0,IF(N111+O111+P111+Q111+R111+S111+T111+U111+W111+X111+Y111+Z111+AA111+AB111+AC111>0,\"Classe\",\"\"),IF(OR(AND(E111<>0,F111=0,SUM(N111:U111)=0,SUM(W111:AC111)=0,H111+K111=0,G111+J111=E111),AND(F111<>0,E111=0,SUM(N111:U111)=0,SUM(W111:AC111)=0,G111+J111=0,H111+K111=F111),AND(E111=0,F111=0,H111+K111<>0,H111+K111=SUM(W111:AC111),SUM(N111:U111)=0,(H111+K111)<>(G111+J111)),AND(E111=0,F111=0,G111+J111<>0,G111+J111=SUM(N111:U111),SUM(W111:AC111)=0,(H111+K111)<>(G111+J111)),AND(E111=0,F111=0,J111=0,N111+O111+P111+Q111+R111+S111+T111+U111+W111+X111+Y111+Z111+AA111+AB111+AC111=0,K111<>0,K111=G111),AND(E111=0,F111=0,J111<>0,N111+O111+P111+Q111+R111+S111+T111+U111+W111+X111+Y111+Z111+AA111+AB111+AC111=0,K111=0,J111=H111)),\"OK\",\"??\"))","v":""}]
[105,null,null,null,null,null,null,null,{"$f":"IF(D112=\"\",\"\",I111+G112-H112)","v":""},null,null,{"$f":"IF(D112=\"\",\"\",L111+J112-K112)","v":""},{"$f":"IF(D112=\"\",\"\",I112+L112)","v":""},null,null,null,null,null,null,null,null,{"$f":"IF(E112+F112+G112+H112+J112+K112=0,IF(N112+O112+P112+Q112+R112+S112+T112+U112+W112+X112+Y112+Z112+AA112+AB112+AC112>0,\"Classe\",\"\"),IF(OR(AND(E112<>0,F112=0,SUM(N112:U112)=0,SUM(W112:AC112)=0,H112+K112=0,G112+J112=E112),AND(F112<>0,E112=0,SUM(N112:U112)=0,SUM(W112:AC112)=0,G112+J112=0,H112+K112=F112),AND(E112=0,F112=0,H112+K112<>0,H112+K112=SUM(W112:AC112),SUM(N112:U112)=0,(H112+K112)<>(G112+J112)),AND(E112=0,F112=0,G112+J112<>0,G112+J112=SUM(N112:U112),SUM(W112:AC112)=0,(H112+K112)<>(G112+J112)),AND(E112=0,F112=0,J112=0,N112+O112+P112+Q112+R112+S112+T112+U112+W112+X112+Y112+Z112+AA112+AB112+AC112=0,K112<>0,K112=G112),AND(E112=0,F112=0,J112<>0,N112+O112+P112+Q112+R112+S112+T112+U112+W112+X112+Y112+Z112+AA112+AB112+AC112=0,K112=0,J112=H112)),\"OK\",\"??\"))","v":""}]
[106,null,null,null,null,null,null,null,{"$f":"IF(D113=\"\",\"\",I112+G113-H113)","v":""},null,null,{"$f":"IF(D113=\"\",\"\",L112+J113-K113)","v":""},{"$f":"IF(D113=\"\",\"\",I113+L113)","v":""},null,null,null,null,null,null,null,null,{"$f":"IF(E113+F113+G113+H113+J113+K113=0,IF(N113+O113+P113+Q113+R113+S113+T113+U113+W113+X113+Y113+Z113+AA113+AB113+AC113>0,\"Classe\",\"\"),IF(OR(AND(E113<>0,F113=0,SUM(N113:U113)=0,SUM(W113:AC113)=0,H113+K113=0,G113+J113=E113),AND(F113<>0,E113=0,SUM(N113:U113)=0,SUM(W113:AC113)=0,G113+J113=0,H113+K113=F113),AND(E113=0,F113=0,H113+K113<>0,H113+K113=SUM(W113:AC113),SUM(N113:U113)=0,(H113+K113)<>(G113+J113)),AND(E113=0,F113=0,G113+J113<>0,G113+J113=SUM(N113:U113),SUM(W113:AC113)=0,(H113+K113)<>(G113+J113)),AND(E113=0,F113=0,J113=0,N113+O113+P113+Q113+R113+S113+T113+U113+W113+X113+Y113+Z113+AA113+AB113+AC113=0,K113<>0,K113=G113),AND(E113=0,F113=0,J113<>0,N113+O113+P113+Q113+R113+S113+T113+U113+W113+X113+Y113+Z113+AA113+AB113+AC113=0,K113=0,J113=H113)),\"OK\",\"??\"))","v":""}]
[107,null,null,null,null,null,null,null,{"$f":"IF(D114=\"\",\"\",I113+G114-H114)","v":""},null,null,{"$f":"IF(D114=\"\",\"\",L113+J114-K114)","v":""},{"$f":"IF(D114=\"\",\"\",I114+L114)","v":""},null,null,null,null,null,null,null,null,{"$f":"IF(E114+F114+G114+H114+J114+K114=0,IF(N114+O114+P114+Q114+R114+S114+T114+U114+W114+X114+Y114+Z114+AA114+AB114+AC114>0,\"Classe\",\"\"),IF(OR(AND(E114<>0,F114=0,SUM(N114:U114)=0,SUM(W114:AC114)=0,H114+K114=0,G114+J114=E114),AND(F114<>0,E114=0,SUM(N114:U114)=0,SUM(W114:AC114)=0,G114+J114=0,H114+K114=F114),AND(E114=0,F114=0,H114+K114<>0,H114+K114=SUM(W114:AC114),SUM(N114:U114)=0,(H114+K114)<>(G114+J114)),AND(E114=0,F114=0,G114+J114<>0,G114+J114=SUM(N114:U114),SUM(W114:AC114)=0,(H114+K114)<>(G114+J114)),AND(E114=0,F114=0,J114=0,N114+O114+P114+Q114+R114+S114+T114+U114+W114+X114+Y114+Z114+AA114+AB114+AC114=0,K114<>0,K114=G114),AND(E114=0,F114=0,J114<>0,N114+O114+P114+Q114+R114+S114+T114+U114+W114+X114+Y114+Z114+AA114+AB114+AC114=0,K114=0,J114=H114)),\"OK\",\"??\"))","v":""}]
[108,null,null,null,null,null,null,null,{"$f":"IF(D115=\"\",\"\",I114+G115-H115)","v":""},null,null,{"$f":"IF(D115=\"\",\"\",L114+J115-K115)","v":""},{"$f":"IF(D115=\"\",\"\",I115+L115)","v":""},null,null,null,null,null,null,null,null,{"$f":"IF(E115+F115+G115+H115+J115+K115=0,IF(N115+O115+P115+Q115+R115+S115+T115+U115+W115+X115+Y115+Z115+AA115+AB115+AC115>0,\"Classe\",\"\"),IF(OR(AND(E115<>0,F115=0,SUM(N115:U115)=0,SUM(W115:AC115)=0,H115+K115=0,G115+J115=E115),AND(F115<>0,E115=0,SUM(N115:U115)=0,SUM(W115:AC115)=0,G115+J115=0,H115+K115=F115),AND(E115=0,F115=0,H115+K115<>0,H115+K115=SUM(W115:AC115),SUM(N115:U115)=0,(H115+K115)<>(G115+J115)),AND(E115=0,F115=0,G115+J115<>0,G115+J115=SUM(N115:U115),SUM(W115:AC115)=0,(H115+K115)<>(G115+J115)),AND(E115=0,F115=0,J115=0,N115+O115+P115+Q115+R115+S115+T115+U115+W115+X115+Y115+Z115+AA115+AB115+AC115=0,K115<>0,K115=G115),AND(E115=0,F115=0,J115<>0,N115+O115+P115+Q115+R115+S115+T115+U115+W115+X115+Y115+Z115+AA115+AB115+AC115=0,K115=0,J115=H115)),\"OK\",\"??\"))","v":""}]
[109,null,null,null,null,null,null,null,{"$f":"IF(D116=\"\",\"\",I115+G116-H116)","v":""},null,null,{"$f":"IF(D116=\"\",\"\",L115+J116-K116)","v":""},{"$f":"IF(D116=\"\",\"\",I116+L116)","v":""},null,null,null,null,null,null,null,null,{"$f":"IF(E116+F116+G116+H116+J116+K116=0,IF(N116+O116+P116+Q116+R116+S116+T116+U116+W116+X116+Y116+Z116+AA116+AB116+AC116>0,\"Classe\",\"\"),IF(OR(AND(E116<>0,F116=0,SUM(N116:U116)=0,SUM(W116:AC116)=0,H116+K116=0,G116+J116=E116),AND(F116<>0,E116=0,SUM(N116:U116)=0,SUM(W116:AC116)=0,G116+J116=0,H116+K116=F116),AND(E116=0,F116=0,H116+K116<>0,H116+K116=SUM(W116:AC116),SUM(N116:U116)=0,(H116+K116)<>(G116+J116)),AND(E116=0,F116=0,G116+J116<>0,G116+J116=SUM(N116:U116),SUM(W116:AC116)=0,(H116+K116)<>(G116+J116)),AND(E116=0,F116=0,J116=0,N116+O116+P116+Q116+R116+S116+T116+U116+W116+X116+Y116+Z116+AA116+AB116+AC116=0,K116<>0,K116=G116),AND(E116=0,F116=0,J116<>0,N116+O116+P116+Q116+R116+S116+T116+U116+W116+X116+Y116+Z116+AA116+AB116+AC116=0,K116=0,J116=H116)),\"OK\",\"??\"))","v":""}]
[110,null,null,null,null,null,null,null,{"$f":"IF(D117=\"\",\"\",I116+G117-H117)","v":""},null,null,{"$f":"IF(D117=\"\",\"\",L116+J117-K117)","v":""},{"$f":"IF(D117=\"\",\"\",I117+L117)","v":""},null,null,null,null,null,null,null,null,{"$f":"IF(E117+F117+G117+H117+J117+K117=0,IF(N117+O117+P117+Q117+R117+S117+T117+U117+W117+X117+Y117+Z117+AA117+AB117+AC117>0,\"Classe\",\"\"),IF(OR(AND(E117<>0,F117=0,SUM(N117:U117)=0,SUM(W117:AC117)=0,H117+K117=0,G117+J117=E117),AND(F117<>0,E117=0,SUM(N117:U117)=0,SUM(W117:AC117)=0,G117+J117=0,H117+K117=F117),AND(E117=0,F117=0,H117+K117<>0,H117+K117=SUM(W117:AC117),SUM(N117:U117)=0,(H117+K117)<>(G117+J117)),AND(E117=0,F117=0,G117+J117<>0,G117+J117=SUM(N117:U117),SUM(W117:AC117)=0,(H117+K117)<>(G117+J117)),AND(E117=0,F117=0,J117=0,N117+O117+P117+Q117+R117+S117+T117+U117+W117+X117+Y117+Z117+AA117+AB117+AC117=0,K117<>0,K117=G117),AND(E117=0,F117=0,J117<>0,N117+O117+P117+Q117+R117+S117+T117+U117+W117+X117+Y117+Z117+AA117+AB117+AC117=0,K117=0,J117=H117)),\"OK\",\"??\"))","v":""}]
[111,null,null,null,null,null,null,null,{"$f":"IF(D118=\"\",\"\",I117+G118-H118)","v":""},null,null,{"$f":"IF(D118=\"\",\"\",L117+J118-K118)","v":""},{"$f":"IF(D118=\"\",\"\",I118+L118)","v":""},null,null,null,null,null,null,null,null,{"$f":"IF(E118+F118+G118+H118+J118+K118=0,IF(N118+O118+P118+Q118+R118+S118+T118+U118+W118+X118+Y118+Z118+AA118+AB118+AC118>0,\"Classe\",\"\"),IF(OR(AND(E118<>0,F118=0,SUM(N118:U118)=0,SUM(W118:AC118)=0,H118+K118=0,G118+J118=E118),AND(F118<>0,E118=0,SUM(N118:U118)=0,SUM(W118:AC118)=0,G118+J118=0,H118+K118=F118),AND(E118=0,F118=0,H118+K118<>0,H118+K118=SUM(W118:AC118),SUM(N118:U118)=0,(H118+K118)<>(G118+J118)),AND(E118=0,F118=0,G118+J118<>0,G118+J118=SUM(N118:U118),SUM(W118:AC118)=0,(H118+K118)<>(G118+J118)),AND(E118=0,F118=0,J118=0,N118+O118+P118+Q118+R118+S118+T118+U118+W118+X118+Y118+Z118+AA118+AB118+AC118=0,K118<>0,K118=G118),AND(E118=0,F118=0,J118<>0,N118+O118+P118+Q118+R118+S118+T118+U118+W118+X118+Y118+Z118+AA118+AB118+AC118=0,K118=0,J118=H118)),\"OK\",\"??\"))","v":""}]
[112,null,null,null,null,null,null,null,{"$f":"IF(D119=\"\",\"\",I118+G119-H119)","v":""},null,null,{"$f":"IF(D119=\"\",\"\",L118+J119-K119)","v":""},{"$f":"IF(D119=\"\",\"\",I119+L119)","v":""},null,null,null,null,null,null,null,null,{"$f":"IF(E119+F119+G119+H119+J119+K119=0,IF(N119+O119+P119+Q119+R119+S119+T119+U119+W119+X119+Y119+Z119+AA119+AB119+AC119>0,\"Classe\",\"\"),IF(OR(AND(E119<>0,F119=0,SUM(N119:U119)=0,SUM(W119:AC119)=0,H119+K119=0,G119+J119=E119),AND(F119<>0,E119=0,SUM(N119:U119)=0,SUM(W119:AC119)=0,G119+J119=0,H119+K119=F119),AND(E119=0,F119=0,H119+K119<>0,H119+K119=SUM(W119:AC119),SUM(N119:U119)=0,(H119+K119)<>(G119+J119)),AND(E119=0,F119=0,G119+J119<>0,G119+J119=SUM(N119:U119),SUM(W119:AC119)=0,(H119+K119)<>(G119+J119)),AND(E119=0,F119=0,J119=0,N119+O119+P119+Q119+R119+S119+T119+U119+W119+X119+Y119+Z119+AA119+AB119+AC119=0,K119<>0,K119=G119),AND(E119=0,F119=0,J119<>0,N119+O119+P119+Q119+R119+S119+T119+U119+W119+X119+Y119+Z119+AA119+AB119+AC119=0,K119=0,J119=H119)),\"OK\",\"??\"))","v":""}]
[113,null,null,null,null,null,null,null,{"$f":"IF(D120=\"\",\"\",I119+G120-H120)","v":""},null,null,{"$f":"IF(D120=\"\",\"\",L119+J120-K120)","v":""},{"$f":"IF(D120=\"\",\"\",I120+L120)","v":""},null,null,null,null,null,null,null,null,{"$f":"IF(E120+F120+G120+H120+J120+K120=0,IF(N120+O120+P120+Q120+R120+S120+T120+U120+W120+X120+Y120+Z120+AA120+AB120+AC120>0,\"Classe\",\"\"),IF(OR(AND(E120<>0,F120=0,SUM(N120:U120)=0,SUM(W120:AC120)=0,H120+K120=0,G120+J120=E120),AND(F120<>0,E120=0,SUM(N120:U120)=0,SUM(W120:AC120)=0,G120+J120=0,H120+K120=F120),AND(E120=0,F120=0,H120+K120<>0,H120+K120=SUM(W120:AC120),SUM(N120:U120)=0,(H120+K120)<>(G120+J120)),AND(E120=0,F120=0,G120+J120<>0,G120+J120=SUM(N120:U120),SUM(W120:AC120)=0,(H120+K120)<>(G120+J120)),AND(E120=0,F120=0,J120=0,N120+O120+P120+Q120+R120+S120+T120+U120+W120+X120+Y120+Z120+AA120+AB120+AC120=0,K120<>0,K120=G120),AND(E120=0,F120=0,J120<>0,N120+O120+P120+Q120+R120+S120+T120+U120+W120+X120+Y120+Z120+AA120+AB120+AC120=0,K120=0,J120=H120)),\"OK\",\"??\"))","v":""}]
[114,null,null,null,null,null,null,null,{"$f":"IF(D121=\"\",\"\",I120+G121-H121)","v":""},null,null,{"$f":"IF(D121=\"\",\"\",L120+J121-K121)","v":""},{"$f":"IF(D121=\"\",\"\",I121+L121)","v":""},null,null,null,null,null,null,null,null,{"$f":"IF(E121+F121+G121+H121+J121+K121=0,IF(N121+O121+P121+Q121+R121+S121+T121+U121+W121+X121+Y121+Z121+AA121+AB121+AC121>0,\"Classe\",\"\"),IF(OR(AND(E121<>0,F121=0,SUM(N121:U121)=0,SUM(W121:AC121)=0,H121+K121=0,G121+J121=E121),AND(F121<>0,E121=0,SUM(N121:U121)=0,SUM(W121:AC121)=0,G121+J121=0,H121+K121=F121),AND(E121=0,F121=0,H121+K121<>0,H121+K121=SUM(W121:AC121),SUM(N121:U121)=0,(H121+K121)<>(G121+J121)),AND(E121=0,F121=0,G121+J121<>0,G121+J121=SUM(N121:U121),SUM(W121:AC121)=0,(H121+K121)<>(G121+J121)),AND(E121=0,F121=0,J121=0,N121+O121+P121+Q121+R121+S121+T121+U121+W121+X121+Y121+Z121+AA121+AB121+AC121=0,K121<>0,K121=G121),AND(E121=0,F121=0,J121<>0,N121+O121+P121+Q121+R121+S121+T121+U121+W121+X121+Y121+Z121+AA121+AB121+AC121=0,K121=0,J121=H121)),\"OK\",\"??\"))","v":""}]
[115,null,null,null,null,null,null,null,{"$f":"IF(D122=\"\",\"\",I121+G122-H122)","v":""},null,null,{"$f":"IF(D122=\"\",\"\",L121+J122-K122)","v":""},{"$f":"IF(D122=\"\",\"\",I122+L122)","v":""},null,null,null,null,null,null,null,null,{"$f":"IF(E122+F122+G122+H122+J122+K122=0,IF(N122+O122+P122+Q122+R122+S122+T122+U122+W122+X122+Y122+Z122+AA122+AB122+AC122>0,\"Classe\",\"\"),IF(OR(AND(E122<>0,F122=0,SUM(N122:U122)=0,SUM(W122:AC122)=0,H122+K122=0,G122+J122=E122),AND(F122<>0,E122=0,SUM(N122:U122)=0,SUM(W122:AC122)=0,G122+J122=0,H122+K122=F122),AND(E122=0,F122=0,H122+K122<>0,H122+K122=SUM(W122:AC122),SUM(N122:U122)=0,(H122+K122)<>(G122+J122)),AND(E122=0,F122=0,G122+J122<>0,G122+J122=SUM(N122:U122),SUM(W122:AC122)=0,(H122+K122)<>(G122+J122)),AND(E122=0,F122=0,J122=0,N122+O122+P122+Q122+R122+S122+T122+U122+W122+X122+Y122+Z122+AA122+AB122+AC122=0,K122<>0,K122=G122),AND(E122=0,F122=0,J122<>0,N122+O122+P122+Q122+R122+S122+T122+U122+W122+X122+Y122+Z122+AA122+AB122+AC122=0,K122=0,J122=H122)),\"OK\",\"??\"))","v":""}]
[116,null,null,null,null,null,null,null,{"$f":"IF(D123=\"\",\"\",I122+G123-H123)","v":""},null,null,{"$f":"IF(D123=\"\",\"\",L122+J123-K123)","v":""},{"$f":"IF(D123=\"\",\"\",I123+L123)","v":""},null,null,null,null,null,null,null,null,{"$f":"IF(E123+F123+G123+H123+J123+K123=0,IF(N123+O123+P123+Q123+R123+S123+T123+U123+W123+X123+Y123+Z123+AA123+AB123+AC123>0,\"Classe\",\"\"),IF(OR(AND(E123<>0,F123=0,SUM(N123:U123)=0,SUM(W123:AC123)=0,H123+K123=0,G123+J123=E123),AND(F123<>0,E123=0,SUM(N123:U123)=0,SUM(W123:AC123)=0,G123+J123=0,H123+K123=F123),AND(E123=0,F123=0,H123+K123<>0,H123+K123=SUM(W123:AC123),SUM(N123:U123)=0,(H123+K123)<>(G123+J123)),AND(E123=0,F123=0,G123+J123<>0,G123+J123=SUM(N123:U123),SUM(W123:AC123)=0,(H123+K123)<>(G123+J123)),AND(E123=0,F123=0,J123=0,N123+O123+P123+Q123+R123+S123+T123+U123+W123+X123+Y123+Z123+AA123+AB123+AC123=0,K123<>0,K123=G123),AND(E123=0,F123=0,J123<>0,N123+O123+P123+Q123+R123+S123+T123+U123+W123+X123+Y123+Z123+AA123+AB123+AC123=0,K123=0,J123=H123)),\"OK\",\"??\"))","v":""}]
[117,null,null,null,null,null,null,null,{"$f":"IF(D124=\"\",\"\",I123+G124-H124)","v":""},null,null,{"$f":"IF(D124=\"\",\"\",L123+J124-K124)","v":""},{"$f":"IF(D124=\"\",\"\",I124+L124)","v":""},null,null,null,null,null,null,null,null,{"$f":"IF(E124+F124+G124+H124+J124+K124=0,IF(N124+O124+P124+Q124+R124+S124+T124+U124+W124+X124+Y124+Z124+AA124+AB124+AC124>0,\"Classe\",\"\"),IF(OR(AND(E124<>0,F124=0,SUM(N124:U124)=0,SUM(W124:AC124)=0,H124+K124=0,G124+J124=E124),AND(F124<>0,E124=0,SUM(N124:U124)=0,SUM(W124:AC124)=0,G124+J124=0,H124+K124=F124),AND(E124=0,F124=0,H124+K124<>0,H124+K124=SUM(W124:AC124),SUM(N124:U124)=0,(H124+K124)<>(G124+J124)),AND(E124=0,F124=0,G124+J124<>0,G124+J124=SUM(N124:U124),SUM(W124:AC124)=0,(H124+K124)<>(G124+J124)),AND(E124=0,F124=0,J124=0,N124+O124+P124+Q124+R124+S124+T124+U124+W124+X124+Y124+Z124+AA124+AB124+AC124=0,K124<>0,K124=G124),AND(E124=0,F124=0,J124<>0,N124+O124+P124+Q124+R124+S124+T124+U124+W124+X124+Y124+Z124+AA124+AB124+AC124=0,K124=0,J124=H124)),\"OK\",\"??\"))","v":""}]
[118,null,null,null,null,null,null,null,{"$f":"IF(D125=\"\",\"\",I124+G125-H125)","v":""},null,null,{"$f":"IF(D125=\"\",\"\",L124+J125-K125)","v":""},{"$f":"IF(D125=\"\",\"\",I125+L125)","v":""},null,null,null,null,null,null,null,null,{"$f":"IF(E125+F125+G125+H125+J125+K125=0,IF(N125+O125+P125+Q125+R125+S125+T125+U125+W125+X125+Y125+Z125+AA125+AB125+AC125>0,\"Classe\",\"\"),IF(OR(AND(E125<>0,F125=0,SUM(N125:U125)=0,SUM(W125:AC125)=0,H125+K125=0,G125+J125=E125),AND(F125<>0,E125=0,SUM(N125:U125)=0,SUM(W125:AC125)=0,G125+J125=0,H125+K125=F125),AND(E125=0,F125=0,H125+K125<>0,H125+K125=SUM(W125:AC125),SUM(N125:U125)=0,(H125+K125)<>(G125+J125)),AND(E125=0,F125=0,G125+J125<>0,G125+J125=SUM(N125:U125),SUM(W125:AC125)=0,(H125+K125)<>(G125+J125)),AND(E125=0,F125=0,J125=0,N125+O125+P125+Q125+R125+S125+T125+U125+W125+X125+Y125+Z125+AA125+AB125+AC125=0,K125<>0,K125=G125),AND(E125=0,F125=0,J125<>0,N125+O125+P125+Q125+R125+S125+T125+U125+W125+X125+Y125+Z125+AA125+AB125+AC125=0,K125=0,J125=H125)),\"OK\",\"??\"))","v":""}]
[119,null,null,null,null,null,null,null,{"$f":"IF(D126=\"\",\"\",I125+G126-H126)","v":""},null,null,{"$f":"IF(D126=\"\",\"\",L125+J126-K126)","v":""},{"$f":"IF(D126=\"\",\"\",I126+L126)","v":""},null,null,null,null,null,null,null,null,{"$f":"IF(E126+F126+G126+H126+J126+K126=0,IF(N126+O126+P126+Q126+R126+S126+T126+U126+W126+X126+Y126+Z126+AA126+AB126+AC126>0,\"Classe\",\"\"),IF(OR(AND(E126<>0,F126=0,SUM(N126:U126)=0,SUM(W126:AC126)=0,H126+K126=0,G126+J126=E126),AND(F126<>0,E126=0,SUM(N126:U126)=0,SUM(W126:AC126)=0,G126+J126=0,H126+K126=F126),AND(E126=0,F126=0,H126+K126<>0,H126+K126=SUM(W126:AC126),SUM(N126:U126)=0,(H126+K126)<>(G126+J126)),AND(E126=0,F126=0,G126+J126<>0,G126+J126=SUM(N126:U126),SUM(W126:AC126)=0,(H126+K126)<>(G126+J126)),AND(E126=0,F126=0,J126=0,N126+O126+P126+Q126+R126+S126+T126+U126+W126+X126+Y126+Z126+AA126+AB126+AC126=0,K126<>0,K126=G126),AND(E126=0,F126=0,J126<>0,N126+O126+P126+Q126+R126+S126+T126+U126+W126+X126+Y126+Z126+AA126+AB126+AC126=0,K126=0,J126=H126)),\"OK\",\"??\"))","v":""}]
[120,null,null,null,null,null,null,null,{"$f":"IF(D127=\"\",\"\",I126+G127-H127)","v":""},null,null,{"$f":"IF(D127=\"\",\"\",L126+J127-K127)","v":""},{"$f":"IF(D127=\"\",\"\",I127+L127)","v":""},null,null,null,null,null,null,null,null,{"$f":"IF(E127+F127+G127+H127+J127+K127=0,IF(N127+O127+P127+Q127+R127+S127+T127+U127+W127+X127+Y127+Z127+AA127+AB127+AC127>0,\"Classe\",\"\"),IF(OR(AND(E127<>0,F127=0,SUM(N127:U127)=0,SUM(W127:AC127)=0,H127+K127=0,G127+J127=E127),AND(F127<>0,E127=0,SUM(N127:U127)=0,SUM(W127:AC127)=0,G127+J127=0,H127+K127=F127),AND(E127=0,F127=0,H127+K127<>0,H127+K127=SUM(W127:AC127),SUM(N127:U127)=0,(H127+K127)<>(G127+J127)),AND(E127=0,F127=0,G127+J127<>0,G127+J127=SUM(N127:U127),SUM(W127:AC127)=0,(H127+K127)<>(G127+J127)),AND(E127=0,F127=0,J127=0,N127+O127+P127+Q127+R127+S127+T127+U127+W127+X127+Y127+Z127+AA127+AB127+AC127=0,K127<>0,K127=G127),AND(E127=0,F127=0,J127<>0,N127+O127+P127+Q127+R127+S127+T127+U127+W127+X127+Y127+Z127+AA127+AB127+AC127=0,K127=0,J127=H127)),\"OK\",\"??\"))","v":""}]
[121,null,null,null,null,null,null,null,{"$f":"IF(D128=\"\",\"\",I127+G128-H128)","v":""},null,null,{"$f":"IF(D128=\"\",\"\",L127+J128-K128)","v":""},{"$f":"IF(D128=\"\",\"\",I128+L128)","v":""},null,null,null,null,null,null,null,null,{"$f":"IF(E128+F128+G128+H128+J128+K128=0,IF(N128+O128+P128+Q128+R128+S128+T128+U128+W128+X128+Y128+Z128+AA128+AB128+AC128>0,\"Classe\",\"\"),IF(OR(AND(E128<>0,F128=0,SUM(N128:U128)=0,SUM(W128:AC128)=0,H128+K128=0,G128+J128=E128),AND(F128<>0,E128=0,SUM(N128:U128)=0,SUM(W128:AC128)=0,G128+J128=0,H128+K128=F128),AND(E128=0,F128=0,H128+K128<>0,H128+K128=SUM(W128:AC128),SUM(N128:U128)=0,(H128+K128)<>(G128+J128)),AND(E128=0,F128=0,G128+J128<>0,G128+J128=SUM(N128:U128),SUM(W128:AC128)=0,(H128+K128)<>(G128+J128)),AND(E128=0,F128=0,J128=0,N128+O128+P128+Q128+R128+S128+T128+U128+W128+X128+Y128+Z128+AA128+AB128+AC128=0,K128<>0,K128=G128),AND(E128=0,F128=0,J128<>0,N128+O128+P128+Q128+R128+S128+T128+U128+W128+X128+Y128+Z128+AA128+AB128+AC128=0,K128=0,J128=H128)),\"OK\",\"??\"))","v":""}]
[122,null,null,null,null,null,null,null,{"$f":"IF(D129=\"\",\"\",I128+G129-H129)","v":""},null,null,{"$f":"IF(D129=\"\",\"\",L128+J129-K129)","v":""},{"$f":"IF(D129=\"\",\"\",I129+L129)","v":""},null,null,null,null,null,null,null,null,{"$f":"IF(E129+F129+G129+H129+J129+K129=0,IF(N129+O129+P129+Q129+R129+S129+T129+U129+W129+X129+Y129+Z129+AA129+AB129+AC129>0,\"Classe\",\"\"),IF(OR(AND(E129<>0,F129=0,SUM(N129:U129)=0,SUM(W129:AC129)=0,H129+K129=0,G129+J129=E129),AND(F129<>0,E129=0,SUM(N129:U129)=0,SUM(W129:AC129)=0,G129+J129=0,H129+K129=F129),AND(E129=0,F129=0,H129+K129<>0,H129+K129=SUM(W129:AC129),SUM(N129:U129)=0,(H129+K129)<>(G129+J129)),AND(E129=0,F129=0,G129+J129<>0,G129+J129=SUM(N129:U129),SUM(W129:AC129)=0,(H129+K129)<>(G129+J129)),AND(E129=0,F129=0,J129=0,N129+O129+P129+Q129+R129+S129+T129+U129+W129+X129+Y129+Z129+AA129+AB129+AC129=0,K129<>0,K129=G129),AND(E129=0,F129=0,J129<>0,N129+O129+P129+Q129+R129+S129+T129+U129+W129+X129+Y129+Z129+AA129+AB129+AC129=0,K129=0,J129=H129)),\"OK\",\"??\"))","v":""}]
[123,null,null,null,null,null,null,null,{"$f":"IF(D130=\"\",\"\",I129+G130-H130)","v":""},null,null,{"$f":"IF(D130=\"\",\"\",L129+J130-K130)","v":""},{"$f":"IF(D130=\"\",\"\",I130+L130)","v":""},null,null,null,null,null,null,null,null,{"$f":"IF(E130+F130+G130+H130+J130+K130=0,IF(N130+O130+P130+Q130+R130+S130+T130+U130+W130+X130+Y130+Z130+AA130+AB130+AC130>0,\"Classe\",\"\"),IF(OR(AND(E130<>0,F130=0,SUM(N130:U130)=0,SUM(W130:AC130)=0,H130+K130=0,G130+J130=E130),AND(F130<>0,E130=0,SUM(N130:U130)=0,SUM(W130:AC130)=0,G130+J130=0,H130+K130=F130),AND(E130=0,F130=0,H130+K130<>0,H130+K130=SUM(W130:AC130),SUM(N130:U130)=0,(H130+K130)<>(G130+J130)),AND(E130=0,F130=0,G130+J130<>0,G130+J130=SUM(N130:U130),SUM(W130:AC130)=0,(H130+K130)<>(G130+J130)),AND(E130=0,F130=0,J130=0,N130+O130+P130+Q130+R130+S130+T130+U130+W130+X130+Y130+Z130+AA130+AB130+AC130=0,K130<>0,K130=G130),AND(E130=0,F130=0,J130<>0,N130+O130+P130+Q130+R130+S130+T130+U130+W130+X130+Y130+Z130+AA130+AB130+AC130=0,K130=0,J130=H130)),\"OK\",\"??\"))","v":""}]
[124,null,null,null,null,null,null,null,{"$f":"IF(D131=\"\",\"\",I130+G131-H131)","v":""},null,null,{"$f":"IF(D131=\"\",\"\",L130+J131-K131)","v":""},{"$f":"IF(D131=\"\",\"\",I131+L131)","v":""},null,null,null,null,null,null,null,null,{"$f":"IF(E131+F131+G131+H131+J131+K131=0,IF(N131+O131+P131+Q131+R131+S131+T131+U131+W131+X131+Y131+Z131+AA131+AB131+AC131>0,\"Classe\",\"\"),IF(OR(AND(E131<>0,F131=0,SUM(N131:U131)=0,SUM(W131:AC131)=0,H131+K131=0,G131+J131=E131),AND(F131<>0,E131=0,SUM(N131:U131)=0,SUM(W131:AC131)=0,G131+J131=0,H131+K131=F131),AND(E131=0,F131=0,H131+K131<>0,H131+K131=SUM(W131:AC131),SUM(N131:U131)=0,(H131+K131)<>(G131+J131)),AND(E131=0,F131=0,G131+J131<>0,G131+J131=SUM(N131:U131),SUM(W131:AC131)=0,(H131+K131)<>(G131+J131)),AND(E131=0,F131=0,J131=0,N131+O131+P131+Q131+R131+S131+T131+U131+W131+X131+Y131+Z131+AA131+AB131+AC131=0,K131<>0,K131=G131),AND(E131=0,F131=0,J131<>0,N131+O131+P131+Q131+R131+S131+T131+U131+W131+X131+Y131+Z131+AA131+AB131+AC131=0,K131=0,J131=H131)),\"OK\",\"??\"))","v":""}]
[125,null,null,null,null,null,null,null,{"$f":"IF(D132=\"\",\"\",I131+G132-H132)","v":""},null,null,{"$f":"IF(D132=\"\",\"\",L131+J132-K132)","v":""},{"$f":"IF(D132=\"\",\"\",I132+L132)","v":""},null,null,null,null,null,null,null,null,{"$f":"IF(E132+F132+G132+H132+J132+K132=0,IF(N132+O132+P132+Q132+R132+S132+T132+U132+W132+X132+Y132+Z132+AA132+AB132+AC132>0,\"Classe\",\"\"),IF(OR(AND(E132<>0,F132=0,SUM(N132:U132)=0,SUM(W132:AC132)=0,H132+K132=0,G132+J132=E132),AND(F132<>0,E132=0,SUM(N132:U132)=0,SUM(W132:AC132)=0,G132+J132=0,H132+K132=F132),AND(E132=0,F132=0,H132+K132<>0,H132+K132=SUM(W132:AC132),SUM(N132:U132)=0,(H132+K132)<>(G132+J132)),AND(E132=0,F132=0,G132+J132<>0,G132+J132=SUM(N132:U132),SUM(W132:AC132)=0,(H132+K132)<>(G132+J132)),AND(E132=0,F132=0,J132=0,N132+O132+P132+Q132+R132+S132+T132+U132+W132+X132+Y132+Z132+AA132+AB132+AC132=0,K132<>0,K132=G132),AND(E132=0,F132=0,J132<>0,N132+O132+P132+Q132+R132+S132+T132+U132+W132+X132+Y132+Z132+AA132+AB132+AC132=0,K132=0,J132=H132)),\"OK\",\"??\"))","v":""}]
[126,null,null,null,null,null,null,null,{"$f":"IF(D133=\"\",\"\",I132+G133-H133)","v":""},null,null,{"$f":"IF(D133=\"\",\"\",L132+J133-K133)","v":""},{"$f":"IF(D133=\"\",\"\",I133+L133)","v":""},null,null,null,null,null,null,null,null,{"$f":"IF(E133+F133+G133+H133+J133+K133=0,IF(N133+O133+P133+Q133+R133+S133+T133+U133+W133+X133+Y133+Z133+AA133+AB133+AC133>0,\"Classe\",\"\"),IF(OR(AND(E133<>0,F133=0,SUM(N133:U133)=0,SUM(W133:AC133)=0,H133+K133=0,G133+J133=E133),AND(F133<>0,E133=0,SUM(N133:U133)=0,SUM(W133:AC133)=0,G133+J133=0,H133+K133=F133),AND(E133=0,F133=0,H133+K133<>0,H133+K133=SUM(W133:AC133),SUM(N133:U133)=0,(H133+K133)<>(G133+J133)),AND(E133=0,F133=0,G133+J133<>0,G133+J133=SUM(N133:U133),SUM(W133:AC133)=0,(H133+K133)<>(G133+J133)),AND(E133=0,F133=0,J133=0,N133+O133+P133+Q133+R133+S133+T133+U133+W133+X133+Y133+Z133+AA133+AB133+AC133=0,K133<>0,K133=G133),AND(E133=0,F133=0,J133<>0,N133+O133+P133+Q133+R133+S133+T133+U133+W133+X133+Y133+Z133+AA133+AB133+AC133=0,K133=0,J133=H133)),\"OK\",\"??\"))","v":""}]
[127,null,null,null,null,null,null,null,{"$f":"IF(D134=\"\",\"\",I133+G134-H134)","v":""},null,null,{"$f":"IF(D134=\"\",\"\",L133+J134-K134)","v":""},{"$f":"IF(D134=\"\",\"\",I134+L134)","v":""},null,null,null,null,null,null,null,null,{"$f":"IF(E134+F134+G134+H134+J134+K134=0,IF(N134+O134+P134+Q134+R134+S134+T134+U134+W134+X134+Y134+Z134+AA134+AB134+AC134>0,\"Classe\",\"\"),IF(OR(AND(E134<>0,F134=0,SUM(N134:U134)=0,SUM(W134:AC134)=0,H134+K134=0,G134+J134=E134),AND(F134<>0,E134=0,SUM(N134:U134)=0,SUM(W134:AC134)=0,G134+J134=0,H134+K134=F134),AND(E134=0,F134=0,H134+K134<>0,H134+K134=SUM(W134:AC134),SUM(N134:U134)=0,(H134+K134)<>(G134+J134)),AND(E134=0,F134=0,G134+J134<>0,G134+J134=SUM(N134:U134),SUM(W134:AC134)=0,(H134+K134)<>(G134+J134)),AND(E134=0,F134=0,J134=0,N134+O134+P134+Q134+R134+S134+T134+U134+W134+X134+Y134+Z134+AA134+AB134+AC134=0,K134<>0,K134=G134),AND(E134=0,F134=0,J134<>0,N134+O134+P134+Q134+R134+S134+T134+U134+W134+X134+Y134+Z134+AA134+AB134+AC134=0,K134=0,J134=H134)),\"OK\",\"??\"))","v":""}]
[128,null,null,null,null,null,null,null,{"$f":"IF(D135=\"\",\"\",I134+G135-H135)","v":""},null,null,{"$f":"IF(D135=\"\",\"\",L134+J135-K135)","v":""},{"$f":"IF(D135=\"\",\"\",I135+L135)","v":""},null,null,null,null,null,null,null,null,{"$f":"IF(E135+F135+G135+H135+J135+K135=0,IF(N135+O135+P135+Q135+R135+S135+T135+U135+W135+X135+Y135+Z135+AA135+AB135+AC135>0,\"Classe\",\"\"),IF(OR(AND(E135<>0,F135=0,SUM(N135:U135)=0,SUM(W135:AC135)=0,H135+K135=0,G135+J135=E135),AND(F135<>0,E135=0,SUM(N135:U135)=0,SUM(W135:AC135)=0,G135+J135=0,H135+K135=F135),AND(E135=0,F135=0,H135+K135<>0,H135+K135=SUM(W135:AC135),SUM(N135:U135)=0,(H135+K135)<>(G135+J135)),AND(E135=0,F135=0,G135+J135<>0,G135+J135=SUM(N135:U135),SUM(W135:AC135)=0,(H135+K135)<>(G135+J135)),AND(E135=0,F135=0,J135=0,N135+O135+P135+Q135+R135+S135+T135+U135+W135+X135+Y135+Z135+AA135+AB135+AC135=0,K135<>0,K135=G135),AND(E135=0,F135=0,J135<>0,N135+O135+P135+Q135+R135+S135+T135+U135+W135+X135+Y135+Z135+AA135+AB135+AC135=0,K135=0,J135=H135)),\"OK\",\"??\"))","v":""}]
[129,null,null,null,null,null,null,null,{"$f":"IF(D136=\"\",\"\",I135+G136-H136)","v":""},null,null,{"$f":"IF(D136=\"\",\"\",L135+J136-K136)","v":""},{"$f":"IF(D136=\"\",\"\",I136+L136)","v":""},null,null,null,null,null,null,null,null,{"$f":"IF(E136+F136+G136+H136+J136+K136=0,IF(N136+O136+P136+Q136+R136+S136+T136+U136+W136+X136+Y136+Z136+AA136+AB136+AC136>0,\"Classe\",\"\"),IF(OR(AND(E136<>0,F136=0,SUM(N136:U136)=0,SUM(W136:AC136)=0,H136+K136=0,G136+J136=E136),AND(F136<>0,E136=0,SUM(N136:U136)=0,SUM(W136:AC136)=0,G136+J136=0,H136+K136=F136),AND(E136=0,F136=0,H136+K136<>0,H136+K136=SUM(W136:AC136),SUM(N136:U136)=0,(H136+K136)<>(G136+J136)),AND(E136=0,F136=0,G136+J136<>0,G136+J136=SUM(N136:U136),SUM(W136:AC136)=0,(H136+K136)<>(G136+J136)),AND(E136=0,F136=0,J136=0,N136+O136+P136+Q136+R136+S136+T136+U136+W136+X136+Y136+Z136+AA136+AB136+AC136=0,K136<>0,K136=G136),AND(E136=0,F136=0,J136<>0,N136+O136+P136+Q136+R136+S136+T136+U136+W136+X136+Y136+Z136+AA136+AB136+AC136=0,K136=0,J136=H136)),\"OK\",\"??\"))","v":""}]
[130,null,null,null,null,null,null,null,{"$f":"IF(D137=\"\",\"\",I136+G137-H137)","v":""},null,null,{"$f":"IF(D137=\"\",\"\",L136+J137-K137)","v":""},{"$f":"IF(D137=\"\",\"\",I137+L137)","v":""},null,null,null,null,null,null,null,null,{"$f":"IF(E137+F137+G137+H137+J137+K137=0,IF(N137+O137+P137+Q137+R137+S137+T137+U137+W137+X137+Y137+Z137+AA137+AB137+AC137>0,\"Classe\",\"\"),IF(OR(AND(E137<>0,F137=0,SUM(N137:U137)=0,SUM(W137:AC137)=0,H137+K137=0,G137+J137=E137),AND(F137<>0,E137=0,SUM(N137:U137)=0,SUM(W137:AC137)=0,G137+J137=0,H137+K137=F137),AND(E137=0,F137=0,H137+K137<>0,H137+K137=SUM(W137:AC137),SUM(N137:U137)=0,(H137+K137)<>(G137+J137)),AND(E137=0,F137=0,G137+J137<>0,G137+J137=SUM(N137:U137),SUM(W137:AC137)=0,(H137+K137)<>(G137+J137)),AND(E137=0,F137=0,J137=0,N137+O137+P137+Q137+R137+S137+T137+U137+W137+X137+Y137+Z137+AA137+AB137+AC137=0,K137<>0,K137=G137),AND(E137=0,F137=0,J137<>0,N137+O137+P137+Q137+R137+S137+T137+U137+W137+X137+Y137+Z137+AA137+AB137+AC137=0,K137=0,J137=H137)),\"OK\",\"??\"))","v":""}]
[131,null,null,null,null,null,null,null,{"$f":"IF(D138=\"\",\"\",I137+G138-H138)","v":""},null,null,{"$f":"IF(D138=\"\",\"\",L137+J138-K138)","v":""},{"$f":"IF(D138=\"\",\"\",I138+L138)","v":""},null,null,null,null,null,null,null,null,{"$f":"IF(E138+F138+G138+H138+J138+K138=0,IF(N138+O138+P138+Q138+R138+S138+T138+U138+W138+X138+Y138+Z138+AA138+AB138+AC138>0,\"Classe\",\"\"),IF(OR(AND(E138<>0,F138=0,SUM(N138:U138)=0,SUM(W138:AC138)=0,H138+K138=0,G138+J138=E138),AND(F138<>0,E138=0,SUM(N138:U138)=0,SUM(W138:AC138)=0,G138+J138=0,H138+K138=F138),AND(E138=0,F138=0,H138+K138<>0,H138+K138=SUM(W138:AC138),SUM(N138:U138)=0,(H138+K138)<>(G138+J138)),AND(E138=0,F138=0,G138+J138<>0,G138+J138=SUM(N138:U138),SUM(W138:AC138)=0,(H138+K138)<>(G138+J138)),AND(E138=0,F138=0,J138=0,N138+O138+P138+Q138+R138+S138+T138+U138+W138+X138+Y138+Z138+AA138+AB138+AC138=0,K138<>0,K138=G138),AND(E138=0,F138=0,J138<>0,N138+O138+P138+Q138+R138+S138+T138+U138+W138+X138+Y138+Z138+AA138+AB138+AC138=0,K138=0,J138=H138)),\"OK\",\"??\"))","v":""}]
[132,null,null,null,null,null,null,null,{"$f":"IF(D139=\"\",\"\",I138+G139-H139)","v":""},null,null,{"$f":"IF(D139=\"\",\"\",L138+J139-K139)","v":""},{"$f":"IF(D139=\"\",\"\",I139+L139)","v":""},null,null,null,null,null,null,null,null,{"$f":"IF(E139+F139+G139+H139+J139+K139=0,IF(N139+O139+P139+Q139+R139+S139+T139+U139+W139+X139+Y139+Z139+AA139+AB139+AC139>0,\"Classe\",\"\"),IF(OR(AND(E139<>0,F139=0,SUM(N139:U139)=0,SUM(W139:AC139)=0,H139+K139=0,G139+J139=E139),AND(F139<>0,E139=0,SUM(N139:U139)=0,SUM(W139:AC139)=0,G139+J139=0,H139+K139=F139),AND(E139=0,F139=0,H139+K139<>0,H139+K139=SUM(W139:AC139),SUM(N139:U139)=0,(H139+K139)<>(G139+J139)),AND(E139=0,F139=0,G139+J139<>0,G139+J139=SUM(N139:U139),SUM(W139:AC139)=0,(H139+K139)<>(G139+J139)),AND(E139=0,F139=0,J139=0,N139+O139+P139+Q139+R139+S139+T139+U139+W139+X139+Y139+Z139+AA139+AB139+AC139=0,K139<>0,K139=G139),AND(E139=0,F139=0,J139<>0,N139+O139+P139+Q139+R139+S139+T139+U139+W139+X139+Y139+Z139+AA139+AB139+AC139=0,K139=0,J139=H139)),\"OK\",\"??\"))","v":""}]
[133,null,null,null,null,null,null,null,{"$f":"IF(D140=\"\",\"\",I139+G140-H140)","v":""},null,null,{"$f":"IF(D140=\"\",\"\",L139+J140-K140)","v":""},{"$f":"IF(D140=\"\",\"\",I140+L140)","v":""},null,null,null,null,null,null,null,null,{"$f":"IF(E140+F140+G140+H140+J140+K140=0,IF(N140+O140+P140+Q140+R140+S140+T140+U140+W140+X140+Y140+Z140+AA140+AB140+AC140>0,\"Classe\",\"\"),IF(OR(AND(E140<>0,F140=0,SUM(N140:U140)=0,SUM(W140:AC140)=0,H140+K140=0,G140+J140=E140),AND(F140<>0,E140=0,SUM(N140:U140)=0,SUM(W140:AC140)=0,G140+J140=0,H140+K140=F140),AND(E140=0,F140=0,H140+K140<>0,H140+K140=SUM(W140:AC140),SUM(N140:U140)=0,(H140+K140)<>(G140+J140)),AND(E140=0,F140=0,G140+J140<>0,G140+J140=SUM(N140:U140),SUM(W140:AC140)=0,(H140+K140)<>(G140+J140)),AND(E140=0,F140=0,J140=0,N140+O140+P140+Q140+R140+S140+T140+U140+W140+X140+Y140+Z140+AA140+AB140+AC140=0,K140<>0,K140=G140),AND(E140=0,F140=0,J140<>0,N140+O140+P140+Q140+R140+S140+T140+U140+W140+X140+Y140+Z140+AA140+AB140+AC140=0,K140=0,J140=H140)),\"OK\",\"??\"))","v":""}]
[134,null,null,null,null,null,null,null,{"$f":"IF(D141=\"\",\"\",I140+G141-H141)","v":""},null,null,{"$f":"IF(D141=\"\",\"\",L140+J141-K141)","v":""},{"$f":"IF(D141=\"\",\"\",I141+L141)","v":""},null,null,null,null,null,null,null,null,{"$f":"IF(E141+F141+G141+H141+J141+K141=0,IF(N141+O141+P141+Q141+R141+S141+T141+U141+W141+X141+Y141+Z141+AA141+AB141+AC141>0,\"Classe\",\"\"),IF(OR(AND(E141<>0,F141=0,SUM(N141:U141)=0,SUM(W141:AC141)=0,H141+K141=0,G141+J141=E141),AND(F141<>0,E141=0,SUM(N141:U141)=0,SUM(W141:AC141)=0,G141+J141=0,H141+K141=F141),AND(E141=0,F141=0,H141+K141<>0,H141+K141=SUM(W141:AC141),SUM(N141:U141)=0,(H141+K141)<>(G141+J141)),AND(E141=0,F141=0,G141+J141<>0,G141+J141=SUM(N141:U141),SUM(W141:AC141)=0,(H141+K141)<>(G141+J141)),AND(E141=0,F141=0,J141=0,N141+O141+P141+Q141+R141+S141+T141+U141+W141+X141+Y141+Z141+AA141+AB141+AC141=0,K141<>0,K141=G141),AND(E141=0,F141=0,J141<>0,N141+O141+P141+Q141+R141+S141+T141+U141+W141+X141+Y141+Z141+AA141+AB141+AC141=0,K141=0,J141=H141)),\"OK\",\"??\"))","v":""}]
[135,null,null,null,null,null,null,null,{"$f":"IF(D142=\"\",\"\",I141+G142-H142)","v":""},null,null,{"$f":"IF(D142=\"\",\"\",L141+J142-K142)","v":""},{"$f":"IF(D142=\"\",\"\",I142+L142)","v":""},null,null,null,null,null,null,null,null,{"$f":"IF(E142+F142+G142+H142+J142+K142=0,IF(N142+O142+P142+Q142+R142+S142+T142+U142+W142+X142+Y142+Z142+AA142+AB142+AC142>0,\"Classe\",\"\"),IF(OR(AND(E142<>0,F142=0,SUM(N142:U142)=0,SUM(W142:AC142)=0,H142+K142=0,G142+J142=E142),AND(F142<>0,E142=0,SUM(N142:U142)=0,SUM(W142:AC142)=0,G142+J142=0,H142+K142=F142),AND(E142=0,F142=0,H142+K142<>0,H142+K142=SUM(W142:AC142),SUM(N142:U142)=0,(H142+K142)<>(G142+J142)),AND(E142=0,F142=0,G142+J142<>0,G142+J142=SUM(N142:U142),SUM(W142:AC142)=0,(H142+K142)<>(G142+J142)),AND(E142=0,F142=0,J142=0,N142+O142+P142+Q142+R142+S142+T142+U142+W142+X142+Y142+Z142+AA142+AB142+AC142=0,K142<>0,K142=G142),AND(E142=0,F142=0,J142<>0,N142+O142+P142+Q142+R142+S142+T142+U142+W142+X142+Y142+Z142+AA142+AB142+AC142=0,K142=0,J142=H142)),\"OK\",\"??\"))","v":""}]
[136,null,null,null,null,null,null,null,{"$f":"IF(D143=\"\",\"\",I142+G143-H143)","v":""},null,null,{"$f":"IF(D143=\"\",\"\",L142+J143-K143)","v":""},{"$f":"IF(D143=\"\",\"\",I143+L143)","v":""},null,null,null,null,null,null,null,null,{"$f":"IF(E143+F143+G143+H143+J143+K143=0,IF(N143+O143+P143+Q143+R143+S143+T143+U143+W143+X143+Y143+Z143+AA143+AB143+AC143>0,\"Classe\",\"\"),IF(OR(AND(E143<>0,F143=0,SUM(N143:U143)=0,SUM(W143:AC143)=0,H143+K143=0,G143+J143=E143),AND(F143<>0,E143=0,SUM(N143:U143)=0,SUM(W143:AC143)=0,G143+J143=0,H143+K143=F143),AND(E143=0,F143=0,H143+K143<>0,H143+K143=SUM(W143:AC143),SUM(N143:U143)=0,(H143+K143)<>(G143+J143)),AND(E143=0,F143=0,G143+J143<>0,G143+J143=SUM(N143:U143),SUM(W143:AC143)=0,(H143+K143)<>(G143+J143)),AND(E143=0,F143=0,J143=0,N143+O143+P143+Q143+R143+S143+T143+U143+W143+X143+Y143+Z143+AA143+AB143+AC143=0,K143<>0,K143=G143),AND(E143=0,F143=0,J143<>0,N143+O143+P143+Q143+R143+S143+T143+U143+W143+X143+Y143+Z143+AA143+AB143+AC143=0,K143=0,J143=H143)),\"OK\",\"??\"))","v":""}]
[137,null,null,null,null,null,null,null,{"$f":"IF(D144=\"\",\"\",I143+G144-H144)","v":""},null,null,{"$f":"IF(D144=\"\",\"\",L143+J144-K144)","v":""},{"$f":"IF(D144=\"\",\"\",I144+L144)","v":""},null,null,null,null,null,null,null,null,{"$f":"IF(E144+F144+G144+H144+J144+K144=0,IF(N144+O144+P144+Q144+R144+S144+T144+U144+W144+X144+Y144+Z144+AA144+AB144+AC144>0,\"Classe\",\"\"),IF(OR(AND(E144<>0,F144=0,SUM(N144:U144)=0,SUM(W144:AC144)=0,H144+K144=0,G144+J144=E144),AND(F144<>0,E144=0,SUM(N144:U144)=0,SUM(W144:AC144)=0,G144+J144=0,H144+K144=F144),AND(E144=0,F144=0,H144+K144<>0,H144+K144=SUM(W144:AC144),SUM(N144:U144)=0,(H144+K144)<>(G144+J144)),AND(E144=0,F144=0,G144+J144<>0,G144+J144=SUM(N144:U144),SUM(W144:AC144)=0,(H144+K144)<>(G144+J144)),AND(E144=0,F144=0,J144=0,N144+O144+P144+Q144+R144+S144+T144+U144+W144+X144+Y144+Z144+AA144+AB144+AC144=0,K144<>0,K144=G144),AND(E144=0,F144=0,J144<>0,N144+O144+P144+Q144+R144+S144+T144+U144+W144+X144+Y144+Z144+AA144+AB144+AC144=0,K144=0,J144=H144)),\"OK\",\"??\"))","v":""}]
[138,null,null,null,null,null,null,null,{"$f":"IF(D145=\"\",\"\",I144+G145-H145)","v":""},null,null,{"$f":"IF(D145=\"\",\"\",L144+J145-K145)","v":""},{"$f":"IF(D145=\"\",\"\",I145+L145)","v":""},null,null,null,null,null,null,null,null,{"$f":"IF(E145+F145+G145+H145+J145+K145=0,IF(N145+O145+P145+Q145+R145+S145+T145+U145+W145+X145+Y145+Z145+AA145+AB145+AC145>0,\"Classe\",\"\"),IF(OR(AND(E145<>0,F145=0,SUM(N145:U145)=0,SUM(W145:AC145)=0,H145+K145=0,G145+J145=E145),AND(F145<>0,E145=0,SUM(N145:U145)=0,SUM(W145:AC145)=0,G145+J145=0,H145+K145=F145),AND(E145=0,F145=0,H145+K145<>0,H145+K145=SUM(W145:AC145),SUM(N145:U145)=0,(H145+K145)<>(G145+J145)),AND(E145=0,F145=0,G145+J145<>0,G145+J145=SUM(N145:U145),SUM(W145:AC145)=0,(H145+K145)<>(G145+J145)),AND(E145=0,F145=0,J145=0,N145+O145+P145+Q145+R145+S145+T145+U145+W145+X145+Y145+Z145+AA145+AB145+AC145=0,K145<>0,K145=G145),AND(E145=0,F145=0,J145<>0,N145+O145+P145+Q145+R145+S145+T145+U145+W145+X145+Y145+Z145+AA145+AB145+AC145=0,K145=0,J145=H145)),\"OK\",\"??\"))","v":""}]
[139,null,null,null,null,null,null,null,{"$f":"IF(D146=\"\",\"\",I145+G146-H146)","v":""},null,null,{"$f":"IF(D146=\"\",\"\",L145+J146-K146)","v":""},{"$f":"IF(D146=\"\",\"\",I146+L146)","v":""},null,null,null,null,null,null,null,null,{"$f":"IF(E146+F146+G146+H146+J146+K146=0,IF(N146+O146+P146+Q146+R146+S146+T146+U146+W146+X146+Y146+Z146+AA146+AB146+AC146>0,\"Classe\",\"\"),IF(OR(AND(E146<>0,F146=0,SUM(N146:U146)=0,SUM(W146:AC146)=0,H146+K146=0,G146+J146=E146),AND(F146<>0,E146=0,SUM(N146:U146)=0,SUM(W146:AC146)=0,G146+J146=0,H146+K146=F146),AND(E146=0,F146=0,H146+K146<>0,H146+K146=SUM(W146:AC146),SUM(N146:U146)=0,(H146+K146)<>(G146+J146)),AND(E146=0,F146=0,G146+J146<>0,G146+J146=SUM(N146:U146),SUM(W146:AC146)=0,(H146+K146)<>(G146+J146)),AND(E146=0,F146=0,J146=0,N146+O146+P146+Q146+R146+S146+T146+U146+W146+X146+Y146+Z146+AA146+AB146+AC146=0,K146<>0,K146=G146),AND(E146=0,F146=0,J146<>0,N146+O146+P146+Q146+R146+S146+T146+U146+W146+X146+Y146+Z146+AA146+AB146+AC146=0,K146=0,J146=H146)),\"OK\",\"??\"))","v":""}]
[140,null,null,null,null,null,null,null,{"$f":"IF(D147=\"\",\"\",I146+G147-H147)","v":""},null,null,{"$f":"IF(D147=\"\",\"\",L146+J147-K147)","v":""},{"$f":"IF(D147=\"\",\"\",I147+L147)","v":""},null,null,null,null,null,null,null,null,{"$f":"IF(E147+F147+G147+H147+J147+K147=0,IF(N147+O147+P147+Q147+R147+S147+T147+U147+W147+X147+Y147+Z147+AA147+AB147+AC147>0,\"Classe\",\"\"),IF(OR(AND(E147<>0,F147=0,SUM(N147:U147)=0,SUM(W147:AC147)=0,H147+K147=0,G147+J147=E147),AND(F147<>0,E147=0,SUM(N147:U147)=0,SUM(W147:AC147)=0,G147+J147=0,H147+K147=F147),AND(E147=0,F147=0,H147+K147<>0,H147+K147=SUM(W147:AC147),SUM(N147:U147)=0,(H147+K147)<>(G147+J147)),AND(E147=0,F147=0,G147+J147<>0,G147+J147=SUM(N147:U147),SUM(W147:AC147)=0,(H147+K147)<>(G147+J147)),AND(E147=0,F147=0,J147=0,N147+O147+P147+Q147+R147+S147+T147+U147+W147+X147+Y147+Z147+AA147+AB147+AC147=0,K147<>0,K147=G147),AND(E147=0,F147=0,J147<>0,N147+O147+P147+Q147+R147+S147+T147+U147+W147+X147+Y147+Z147+AA147+AB147+AC147=0,K147=0,J147=H147)),\"OK\",\"??\"))","v":""}]
[141,null,null,null,null,null,null,null,{"$f":"IF(D148=\"\",\"\",I147+G148-H148)","v":""},null,null,{"$f":"IF(D148=\"\",\"\",L147+J148-K148)","v":""},{"$f":"IF(D148=\"\",\"\",I148+L148)","v":""},null,null,null,null,null,null,null,null,{"$f":"IF(E148+F148+G148+H148+J148+K148=0,IF(N148+O148+P148+Q148+R148+S148+T148+U148+W148+X148+Y148+Z148+AA148+AB148+AC148>0,\"Classe\",\"\"),IF(OR(AND(E148<>0,F148=0,SUM(N148:U148)=0,SUM(W148:AC148)=0,H148+K148=0,G148+J148=E148),AND(F148<>0,E148=0,SUM(N148:U148)=0,SUM(W148:AC148)=0,G148+J148=0,H148+K148=F148),AND(E148=0,F148=0,H148+K148<>0,H148+K148=SUM(W148:AC148),SUM(N148:U148)=0,(H148+K148)<>(G148+J148)),AND(E148=0,F148=0,G148+J148<>0,G148+J148=SUM(N148:U148),SUM(W148:AC148)=0,(H148+K148)<>(G148+J148)),AND(E148=0,F148=0,J148=0,N148+O148+P148+Q148+R148+S148+T148+U148+W148+X148+Y148+Z148+AA148+AB148+AC148=0,K148<>0,K148=G148),AND(E148=0,F148=0,J148<>0,N148+O148+P148+Q148+R148+S148+T148+U148+W148+X148+Y148+Z148+AA148+AB148+AC148=0,K148=0,J148=H148)),\"OK\",\"??\"))","v":""}]
[142,null,null,null,null,null,null,null,{"$f":"IF(D149=\"\",\"\",I148+G149-H149)","v":""},null,null,{"$f":"IF(D149=\"\",\"\",L148+J149-K149)","v":""},{"$f":"IF(D149=\"\",\"\",I149+L149)","v":""},null,null,null,null,null,null,null,null,{"$f":"IF(E149+F149+G149+H149+J149+K149=0,IF(N149+O149+P149+Q149+R149+S149+T149+U149+W149+X149+Y149+Z149+AA149+AB149+AC149>0,\"Classe\",\"\"),IF(OR(AND(E149<>0,F149=0,SUM(N149:U149)=0,SUM(W149:AC149)=0,H149+K149=0,G149+J149=E149),AND(F149<>0,E149=0,SUM(N149:U149)=0,SUM(W149:AC149)=0,G149+J149=0,H149+K149=F149),AND(E149=0,F149=0,H149+K149<>0,H149+K149=SUM(W149:AC149),SUM(N149:U149)=0,(H149+K149)<>(G149+J149)),AND(E149=0,F149=0,G149+J149<>0,G149+J149=SUM(N149:U149),SUM(W149:AC149)=0,(H149+K149)<>(G149+J149)),AND(E149=0,F149=0,J149=0,N149+O149+P149+Q149+R149+S149+T149+U149+W149+X149+Y149+Z149+AA149+AB149+AC149=0,K149<>0,K149=G149),AND(E149=0,F149=0,J149<>0,N149+O149+P149+Q149+R149+S149+T149+U149+W149+X149+Y149+Z149+AA149+AB149+AC149=0,K149=0,J149=H149)),\"OK\",\"??\"))","v":""}]
[143,null,null,null,null,null,null,null,{"$f":"IF(D150=\"\",\"\",I149+G150-H150)","v":""},null,null,{"$f":"IF(D150=\"\",\"\",L149+J150-K150)","v":""},{"$f":"IF(D150=\"\",\"\",I150+L150)","v":""},null,null,null,null,null,null,null,null,{"$f":"IF(E150+F150+G150+H150+J150+K150=0,IF(N150+O150+P150+Q150+R150+S150+T150+U150+W150+X150+Y150+Z150+AA150+AB150+AC150>0,\"Classe\",\"\"),IF(OR(AND(E150<>0,F150=0,SUM(N150:U150)=0,SUM(W150:AC150)=0,H150+K150=0,G150+J150=E150),AND(F150<>0,E150=0,SUM(N150:U150)=0,SUM(W150:AC150)=0,G150+J150=0,H150+K150=F150),AND(E150=0,F150=0,H150+K150<>0,H150+K150=SUM(W150:AC150),SUM(N150:U150)=0,(H150+K150)<>(G150+J150)),AND(E150=0,F150=0,G150+J150<>0,G150+J150=SUM(N150:U150),SUM(W150:AC150)=0,(H150+K150)<>(G150+J150)),AND(E150=0,F150=0,J150=0,N150+O150+P150+Q150+R150+S150+T150+U150+W150+X150+Y150+Z150+AA150+AB150+AC150=0,K150<>0,K150=G150),AND(E150=0,F150=0,J150<>0,N150+O150+P150+Q150+R150+S150+T150+U150+W150+X150+Y150+Z150+AA150+AB150+AC150=0,K150=0,J150=H150)),\"OK\",\"??\"))","v":""}]
[144,null,null,null,null,null,null,null,{"$f":"IF(D151=\"\",\"\",I150+G151-H151)","v":""},null,null,{"$f":"IF(D151=\"\",\"\",L150+J151-K151)","v":""},{"$f":"IF(D151=\"\",\"\",I151+L151)","v":""},null,null,null,null,null,null,null,null,{"$f":"IF(E151+F151+G151+H151+J151+K151=0,IF(N151+O151+P151+Q151+R151+S151+T151+U151+W151+X151+Y151+Z151+AA151+AB151+AC151>0,\"Classe\",\"\"),IF(OR(AND(E151<>0,F151=0,SUM(N151:U151)=0,SUM(W151:AC151)=0,H151+K151=0,G151+J151=E151),AND(F151<>0,E151=0,SUM(N151:U151)=0,SUM(W151:AC151)=0,G151+J151=0,H151+K151=F151),AND(E151=0,F151=0,H151+K151<>0,H151+K151=SUM(W151:AC151),SUM(N151:U151)=0,(H151+K151)<>(G151+J151)),AND(E151=0,F151=0,G151+J151<>0,G151+J151=SUM(N151:U151),SUM(W151:AC151)=0,(H151+K151)<>(G151+J151)),AND(E151=0,F151=0,J151=0,N151+O151+P151+Q151+R151+S151+T151+U151+W151+X151+Y151+Z151+AA151+AB151+AC151=0,K151<>0,K151=G151),AND(E151=0,F151=0,J151<>0,N151+O151+P151+Q151+R151+S151+T151+U151+W151+X151+Y151+Z151+AA151+AB151+AC151=0,K151=0,J151=H151)),\"OK\",\"??\"))","v":""}]
[145,null,null,null,null,null,null,null,{"$f":"IF(D152=\"\",\"\",I151+G152-H152)","v":""},null,null,{"$f":"IF(D152=\"\",\"\",L151+J152-K152)","v":""},{"$f":"IF(D152=\"\",\"\",I152+L152)","v":""},null,null,null,null,null,null,null,null,{"$f":"IF(E152+F152+G152+H152+J152+K152=0,IF(N152+O152+P152+Q152+R152+S152+T152+U152+W152+X152+Y152+Z152+AA152+AB152+AC152>0,\"Classe\",\"\"),IF(OR(AND(E152<>0,F152=0,SUM(N152:U152)=0,SUM(W152:AC152)=0,H152+K152=0,G152+J152=E152),AND(F152<>0,E152=0,SUM(N152:U152)=0,SUM(W152:AC152)=0,G152+J152=0,H152+K152=F152),AND(E152=0,F152=0,H152+K152<>0,H152+K152=SUM(W152:AC152),SUM(N152:U152)=0,(H152+K152)<>(G152+J152)),AND(E152=0,F152=0,G152+J152<>0,G152+J152=SUM(N152:U152),SUM(W152:AC152)=0,(H152+K152)<>(G152+J152)),AND(E152=0,F152=0,J152=0,N152+O152+P152+Q152+R152+S152+T152+U152+W152+X152+Y152+Z152+AA152+AB152+AC152=0,K152<>0,K152=G152),AND(E152=0,F152=0,J152<>0,N152+O152+P152+Q152+R152+S152+T152+U152+W152+X152+Y152+Z152+AA152+AB152+AC152=0,K152=0,J152=H152)),\"OK\",\"??\"))","v":""}]
[146,null,null,null,null,null,null,null,{"$f":"IF(D153=\"\",\"\",I152+G153-H153)","v":""},null,null,{"$f":"IF(D153=\"\",\"\",L152+J153-K153)","v":""},{"$f":"IF(D153=\"\",\"\",I153+L153)","v":""},null,null,null,null,null,null,null,null,{"$f":"IF(E153+F153+G153+H153+J153+K153=0,IF(N153+O153+P153+Q153+R153+S153+T153+U153+W153+X153+Y153+Z153+AA153+AB153+AC153>0,\"Classe\",\"\"),IF(OR(AND(E153<>0,F153=0,SUM(N153:U153)=0,SUM(W153:AC153)=0,H153+K153=0,G153+J153=E153),AND(F153<>0,E153=0,SUM(N153:U153)=0,SUM(W153:AC153)=0,G153+J153=0,H153+K153=F153),AND(E153=0,F153=0,H153+K153<>0,H153+K153=SUM(W153:AC153),SUM(N153:U153)=0,(H153+K153)<>(G153+J153)),AND(E153=0,F153=0,G153+J153<>0,G153+J153=SUM(N153:U153),SUM(W153:AC153)=0,(H153+K153)<>(G153+J153)),AND(E153=0,F153=0,J153=0,N153+O153+P153+Q153+R153+S153+T153+U153+W153+X153+Y153+Z153+AA153+AB153+AC153=0,K153<>0,K153=G153),AND(E153=0,F153=0,J153<>0,N153+O153+P153+Q153+R153+S153+T153+U153+W153+X153+Y153+Z153+AA153+AB153+AC153=0,K153=0,J153=H153)),\"OK\",\"??\"))","v":""}]
[147,null,null,null,null,null,null,null,{"$f":"IF(D154=\"\",\"\",I153+G154-H154)","v":""},null,null,{"$f":"IF(D154=\"\",\"\",L153+J154-K154)","v":""},{"$f":"IF(D154=\"\",\"\",I154+L154)","v":""},null,null,null,null,null,null,null,null,{"$f":"IF(E154+F154+G154+H154+J154+K154=0,IF(N154+O154+P154+Q154+R154+S154+T154+U154+W154+X154+Y154+Z154+AA154+AB154+AC154>0,\"Classe\",\"\"),IF(OR(AND(E154<>0,F154=0,SUM(N154:U154)=0,SUM(W154:AC154)=0,H154+K154=0,G154+J154=E154),AND(F154<>0,E154=0,SUM(N154:U154)=0,SUM(W154:AC154)=0,G154+J154=0,H154+K154=F154),AND(E154=0,F154=0,H154+K154<>0,H154+K154=SUM(W154:AC154),SUM(N154:U154)=0,(H154+K154)<>(G154+J154)),AND(E154=0,F154=0,G154+J154<>0,G154+J154=SUM(N154:U154),SUM(W154:AC154)=0,(H154+K154)<>(G154+J154)),AND(E154=0,F154=0,J154=0,N154+O154+P154+Q154+R154+S154+T154+U154+W154+X154+Y154+Z154+AA154+AB154+AC154=0,K154<>0,K154=G154),AND(E154=0,F154=0,J154<>0,N154+O154+P154+Q154+R154+S154+T154+U154+W154+X154+Y154+Z154+AA154+AB154+AC154=0,K154=0,J154=H154)),\"OK\",\"??\"))","v":""}]
[148,null,null,null,null,null,null,null,{"$f":"IF(D155=\"\",\"\",I154+G155-H155)","v":""},null,null,{"$f":"IF(D155=\"\",\"\",L154+J155-K155)","v":""},{"$f":"IF(D155=\"\",\"\",I155+L155)","v":""},null,null,null,null,null,null,null,null,{"$f":"IF(E155+F155+G155+H155+J155+K155=0,IF(N155+O155+P155+Q155+R155+S155+T155+U155+W155+X155+Y155+Z155+AA155+AB155+AC155>0,\"Classe\",\"\"),IF(OR(AND(E155<>0,F155=0,SUM(N155:U155)=0,SUM(W155:AC155)=0,H155+K155=0,G155+J155=E155),AND(F155<>0,E155=0,SUM(N155:U155)=0,SUM(W155:AC155)=0,G155+J155=0,H155+K155=F155),AND(E155=0,F155=0,H155+K155<>0,H155+K155=SUM(W155:AC155),SUM(N155:U155)=0,(H155+K155)<>(G155+J155)),AND(E155=0,F155=0,G155+J155<>0,G155+J155=SUM(N155:U155),SUM(W155:AC155)=0,(H155+K155)<>(G155+J155)),AND(E155=0,F155=0,J155=0,N155+O155+P155+Q155+R155+S155+T155+U155+W155+X155+Y155+Z155+AA155+AB155+AC155=0,K155<>0,K155=G155),AND(E155=0,F155=0,J155<>0,N155+O155+P155+Q155+R155+S155+T155+U155+W155+X155+Y155+Z155+AA155+AB155+AC155=0,K155=0,J155=H155)),\"OK\",\"??\"))","v":""}]
[149,null,null,null,null,null,null,null,{"$f":"IF(D156=\"\",\"\",I155+G156-H156)","v":""},null,null,{"$f":"IF(D156=\"\",\"\",L155+J156-K156)","v":""},{"$f":"IF(D156=\"\",\"\",I156+L156)","v":""},null,null,null,null,null,null,null,null,{"$f":"IF(E156+F156+G156+H156+J156+K156=0,IF(N156+O156+P156+Q156+R156+S156+T156+U156+W156+X156+Y156+Z156+AA156+AB156+AC156>0,\"Classe\",\"\"),IF(OR(AND(E156<>0,F156=0,SUM(N156:U156)=0,SUM(W156:AC156)=0,H156+K156=0,G156+J156=E156),AND(F156<>0,E156=0,SUM(N156:U156)=0,SUM(W156:AC156)=0,G156+J156=0,H156+K156=F156),AND(E156=0,F156=0,H156+K156<>0,H156+K156=SUM(W156:AC156),SUM(N156:U156)=0,(H156+K156)<>(G156+J156)),AND(E156=0,F156=0,G156+J156<>0,G156+J156=SUM(N156:U156),SUM(W156:AC156)=0,(H156+K156)<>(G156+J156)),AND(E156=0,F156=0,J156=0,N156+O156+P156+Q156+R156+S156+T156+U156+W156+X156+Y156+Z156+AA156+AB156+AC156=0,K156<>0,K156=G156),AND(E156=0,F156=0,J156<>0,N156+O156+P156+Q156+R156+S156+T156+U156+W156+X156+Y156+Z156+AA156+AB156+AC156=0,K156=0,J156=H156)),\"OK\",\"??\"))","v":""}]
[150,null,null,null,null,null,null,null,{"$f":"IF(D157=\"\",\"\",I156+G157-H157)","v":""},null,null,{"$f":"IF(D157=\"\",\"\",L156+J157-K157)","v":""},{"$f":"IF(D157=\"\",\"\",I157+L157)","v":""},null,null,null,null,null,null,null,null,{"$f":"IF(E157+F157+G157+H157+J157+K157=0,IF(N157+O157+P157+Q157+R157+S157+T157+U157+W157+X157+Y157+Z157+AA157+AB157+AC157>0,\"Classe\",\"\"),IF(OR(AND(E157<>0,F157=0,SUM(N157:U157)=0,SUM(W157:AC157)=0,H157+K157=0,G157+J157=E157),AND(F157<>0,E157=0,SUM(N157:U157)=0,SUM(W157:AC157)=0,G157+J157=0,H157+K157=F157),AND(E157=0,F157=0,H157+K157<>0,H157+K157=SUM(W157:AC157),SUM(N157:U157)=0,(H157+K157)<>(G157+J157)),AND(E157=0,F157=0,G157+J157<>0,G157+J157=SUM(N157:U157),SUM(W157:AC157)=0,(H157+K157)<>(G157+J157)),AND(E157=0,F157=0,J157=0,N157+O157+P157+Q157+R157+S157+T157+U157+W157+X157+Y157+Z157+AA157+AB157+AC157=0,K157<>0,K157=G157),AND(E157=0,F157=0,J157<>0,N157+O157+P157+Q157+R157+S157+T157+U157+W157+X157+Y157+Z157+AA157+AB157+AC157=0,K157=0,J157=H157)),\"OK\",\"??\"))","v":""}]
[151,null,null,null,null,null,null,null,{"$f":"IF(D158=\"\",\"\",I157+G158-H158)","v":""},null,null,{"$f":"IF(D158=\"\",\"\",L157+J158-K158)","v":""},{"$f":"IF(D158=\"\",\"\",I158+L158)","v":""},null,null,null,null,null,null,null,null,{"$f":"IF(E158+F158+G158+H158+J158+K158=0,IF(N158+O158+P158+Q158+R158+S158+T158+U158+W158+X158+Y158+Z158+AA158+AB158+AC158>0,\"Classe\",\"\"),IF(OR(AND(E158<>0,F158=0,SUM(N158:U158)=0,SUM(W158:AC158)=0,H158+K158=0,G158+J158=E158),AND(F158<>0,E158=0,SUM(N158:U158)=0,SUM(W158:AC158)=0,G158+J158=0,H158+K158=F158),AND(E158=0,F158=0,H158+K158<>0,H158+K158=SUM(W158:AC158),SUM(N158:U158)=0,(H158+K158)<>(G158+J158)),AND(E158=0,F158=0,G158+J158<>0,G158+J158=SUM(N158:U158),SUM(W158:AC158)=0,(H158+K158)<>(G158+J158)),AND(E158=0,F158=0,J158=0,N158+O158+P158+Q158+R158+S158+T158+U158+W158+X158+Y158+Z158+AA158+AB158+AC158=0,K158<>0,K158=G158),AND(E158=0,F158=0,J158<>0,N158+O158+P158+Q158+R158+S158+T158+U158+W158+X158+Y158+Z158+AA158+AB158+AC158=0,K158=0,J158=H158)),\"OK\",\"??\"))","v":""}]
[152,null,null,null,null,null,null,null,{"$f":"IF(D159=\"\",\"\",I158+G159-H159)","v":""},null,null,{"$f":"IF(D159=\"\",\"\",L158+J159-K159)","v":""},{"$f":"IF(D159=\"\",\"\",I159+L159)","v":""},null,null,null,null,null,null,null,null,{"$f":"IF(E159+F159+G159+H159+J159+K159=0,IF(N159+O159+P159+Q159+R159+S159+T159+U159+W159+X159+Y159+Z159+AA159+AB159+AC159>0,\"Classe\",\"\"),IF(OR(AND(E159<>0,F159=0,SUM(N159:U159)=0,SUM(W159:AC159)=0,H159+K159=0,G159+J159=E159),AND(F159<>0,E159=0,SUM(N159:U159)=0,SUM(W159:AC159)=0,G159+J159=0,H159+K159=F159),AND(E159=0,F159=0,H159+K159<>0,H159+K159=SUM(W159:AC159),SUM(N159:U159)=0,(H159+K159)<>(G159+J159)),AND(E159=0,F159=0,G159+J159<>0,G159+J159=SUM(N159:U159),SUM(W159:AC159)=0,(H159+K159)<>(G159+J159)),AND(E159=0,F159=0,J159=0,N159+O159+P159+Q159+R159+S159+T159+U159+W159+X159+Y159+Z159+AA159+AB159+AC159=0,K159<>0,K159=G159),AND(E159=0,F159=0,J159<>0,N159+O159+P159+Q159+R159+S159+T159+U159+W159+X159+Y159+Z159+AA159+AB159+AC159=0,K159=0,J159=H159)),\"OK\",\"??\"))","v":""}]
[153,null,null,null,null,null,null,null,{"$f":"IF(D160=\"\",\"\",I159+G160-H160)","v":""},null,null,{"$f":"IF(D160=\"\",\"\",L159+J160-K160)","v":""},{"$f":"IF(D160=\"\",\"\",I160+L160)","v":""},null,null,null,null,null,null,null,null,{"$f":"IF(E160+F160+G160+H160+J160+K160=0,IF(N160+O160+P160+Q160+R160+S160+T160+U160+W160+X160+Y160+Z160+AA160+AB160+AC160>0,\"Classe\",\"\"),IF(OR(AND(E160<>0,F160=0,SUM(N160:U160)=0,SUM(W160:AC160)=0,H160+K160=0,G160+J160=E160),AND(F160<>0,E160=0,SUM(N160:U160)=0,SUM(W160:AC160)=0,G160+J160=0,H160+K160=F160),AND(E160=0,F160=0,H160+K160<>0,H160+K160=SUM(W160:AC160),SUM(N160:U160)=0,(H160+K160)<>(G160+J160)),AND(E160=0,F160=0,G160+J160<>0,G160+J160=SUM(N160:U160),SUM(W160:AC160)=0,(H160+K160)<>(G160+J160)),AND(E160=0,F160=0,J160=0,N160+O160+P160+Q160+R160+S160+T160+U160+W160+X160+Y160+Z160+AA160+AB160+AC160=0,K160<>0,K160=G160),AND(E160=0,F160=0,J160<>0,N160+O160+P160+Q160+R160+S160+T160+U160+W160+X160+Y160+Z160+AA160+AB160+AC160=0,K160=0,J160=H160)),\"OK\",\"??\"))","v":""}]
[154,null,null,null,null,null,null,null,{"$f":"IF(D161=\"\",\"\",I160+G161-H161)","v":""},null,null,{"$f":"IF(D161=\"\",\"\",L160+J161-K161)","v":""},{"$f":"IF(D161=\"\",\"\",I161+L161)","v":""},null,null,null,null,null,null,null,null,{"$f":"IF(E161+F161+G161+H161+J161+K161=0,IF(N161+O161+P161+Q161+R161+S161+T161+U161+W161+X161+Y161+Z161+AA161+AB161+AC161>0,\"Classe\",\"\"),IF(OR(AND(E161<>0,F161=0,SUM(N161:U161)=0,SUM(W161:AC161)=0,H161+K161=0,G161+J161=E161),AND(F161<>0,E161=0,SUM(N161:U161)=0,SUM(W161:AC161)=0,G161+J161=0,H161+K161=F161),AND(E161=0,F161=0,H161+K161<>0,H161+K161=SUM(W161:AC161),SUM(N161:U161)=0,(H161+K161)<>(G161+J161)),AND(E161=0,F161=0,G161+J161<>0,G161+J161=SUM(N161:U161),SUM(W161:AC161)=0,(H161+K161)<>(G161+J161)),AND(E161=0,F161=0,J161=0,N161+O161+P161+Q161+R161+S161+T161+U161+W161+X161+Y161+Z161+AA161+AB161+AC161=0,K161<>0,K161=G161),AND(E161=0,F161=0,J161<>0,N161+O161+P161+Q161+R161+S161+T161+U161+W161+X161+Y161+Z161+AA161+AB161+AC161=0,K161=0,J161=H161)),\"OK\",\"??\"))","v":""}]
[155,null,null,null,null,null,null,null,{"$f":"IF(D162=\"\",\"\",I161+G162-H162)","v":""},null,null,{"$f":"IF(D162=\"\",\"\",L161+J162-K162)","v":""},{"$f":"IF(D162=\"\",\"\",I162+L162)","v":""},null,null,null,null,null,null,null,null,{"$f":"IF(E162+F162+G162+H162+J162+K162=0,IF(N162+O162+P162+Q162+R162+S162+T162+U162+W162+X162+Y162+Z162+AA162+AB162+AC162>0,\"Classe\",\"\"),IF(OR(AND(E162<>0,F162=0,SUM(N162:U162)=0,SUM(W162:AC162)=0,H162+K162=0,G162+J162=E162),AND(F162<>0,E162=0,SUM(N162:U162)=0,SUM(W162:AC162)=0,G162+J162=0,H162+K162=F162),AND(E162=0,F162=0,H162+K162<>0,H162+K162=SUM(W162:AC162),SUM(N162:U162)=0,(H162+K162)<>(G162+J162)),AND(E162=0,F162=0,G162+J162<>0,G162+J162=SUM(N162:U162),SUM(W162:AC162)=0,(H162+K162)<>(G162+J162)),AND(E162=0,F162=0,J162=0,N162+O162+P162+Q162+R162+S162+T162+U162+W162+X162+Y162+Z162+AA162+AB162+AC162=0,K162<>0,K162=G162),AND(E162=0,F162=0,J162<>0,N162+O162+P162+Q162+R162+S162+T162+U162+W162+X162+Y162+Z162+AA162+AB162+AC162=0,K162=0,J162=H162)),\"OK\",\"??\"))","v":""}]
[156,null,null,null,null,null,null,null,{"$f":"IF(D163=\"\",\"\",I162+G163-H163)","v":""},null,null,{"$f":"IF(D163=\"\",\"\",L162+J163-K163)","v":""},{"$f":"IF(D163=\"\",\"\",I163+L163)","v":""},null,null,null,null,null,null,null,null,{"$f":"IF(E163+F163+G163+H163+J163+K163=0,IF(N163+O163+P163+Q163+R163+S163+T163+U163+W163+X163+Y163+Z163+AA163+AB163+AC163>0,\"Classe\",\"\"),IF(OR(AND(E163<>0,F163=0,SUM(N163:U163)=0,SUM(W163:AC163)=0,H163+K163=0,G163+J163=E163),AND(F163<>0,E163=0,SUM(N163:U163)=0,SUM(W163:AC163)=0,G163+J163=0,H163+K163=F163),AND(E163=0,F163=0,H163+K163<>0,H163+K163=SUM(W163:AC163),SUM(N163:U163)=0,(H163+K163)<>(G163+J163)),AND(E163=0,F163=0,G163+J163<>0,G163+J163=SUM(N163:U163),SUM(W163:AC163)=0,(H163+K163)<>(G163+J163)),AND(E163=0,F163=0,J163=0,N163+O163+P163+Q163+R163+S163+T163+U163+W163+X163+Y163+Z163+AA163+AB163+AC163=0,K163<>0,K163=G163),AND(E163=0,F163=0,J163<>0,N163+O163+P163+Q163+R163+S163+T163+U163+W163+X163+Y163+Z163+AA163+AB163+AC163=0,K163=0,J163=H163)),\"OK\",\"??\"))","v":""}]
[157,null,null,null,null,null,null,null,{"$f":"IF(D164=\"\",\"\",I163+G164-H164)","v":""},null,null,{"$f":"IF(D164=\"\",\"\",L163+J164-K164)","v":""},{"$f":"IF(D164=\"\",\"\",I164+L164)","v":""},null,null,null,null,null,null,null,null,{"$f":"IF(E164+F164+G164+H164+J164+K164=0,IF(N164+O164+P164+Q164+R164+S164+T164+U164+W164+X164+Y164+Z164+AA164+AB164+AC164>0,\"Classe\",\"\"),IF(OR(AND(E164<>0,F164=0,SUM(N164:U164)=0,SUM(W164:AC164)=0,H164+K164=0,G164+J164=E164),AND(F164<>0,E164=0,SUM(N164:U164)=0,SUM(W164:AC164)=0,G164+J164=0,H164+K164=F164),AND(E164=0,F164=0,H164+K164<>0,H164+K164=SUM(W164:AC164),SUM(N164:U164)=0,(H164+K164)<>(G164+J164)),AND(E164=0,F164=0,G164+J164<>0,G164+J164=SUM(N164:U164),SUM(W164:AC164)=0,(H164+K164)<>(G164+J164)),AND(E164=0,F164=0,J164=0,N164+O164+P164+Q164+R164+S164+T164+U164+W164+X164+Y164+Z164+AA164+AB164+AC164=0,K164<>0,K164=G164),AND(E164=0,F164=0,J164<>0,N164+O164+P164+Q164+R164+S164+T164+U164+W164+X164+Y164+Z164+AA164+AB164+AC164=0,K164=0,J164=H164)),\"OK\",\"??\"))","v":""}]
[158,null,null,null,null,null,null,null,{"$f":"IF(D165=\"\",\"\",I164+G165-H165)","v":""},null,null,{"$f":"IF(D165=\"\",\"\",L164+J165-K165)","v":""},{"$f":"IF(D165=\"\",\"\",I165+L165)","v":""},null,null,null,null,null,null,null,null,{"$f":"IF(E165+F165+G165+H165+J165+K165=0,IF(N165+O165+P165+Q165+R165+S165+T165+U165+W165+X165+Y165+Z165+AA165+AB165+AC165>0,\"Classe\",\"\"),IF(OR(AND(E165<>0,F165=0,SUM(N165:U165)=0,SUM(W165:AC165)=0,H165+K165=0,G165+J165=E165),AND(F165<>0,E165=0,SUM(N165:U165)=0,SUM(W165:AC165)=0,G165+J165=0,H165+K165=F165),AND(E165=0,F165=0,H165+K165<>0,H165+K165=SUM(W165:AC165),SUM(N165:U165)=0,(H165+K165)<>(G165+J165)),AND(E165=0,F165=0,G165+J165<>0,G165+J165=SUM(N165:U165),SUM(W165:AC165)=0,(H165+K165)<>(G165+J165)),AND(E165=0,F165=0,J165=0,N165+O165+P165+Q165+R165+S165+T165+U165+W165+X165+Y165+Z165+AA165+AB165+AC165=0,K165<>0,K165=G165),AND(E165=0,F165=0,J165<>0,N165+O165+P165+Q165+R165+S165+T165+U165+W165+X165+Y165+Z165+AA165+AB165+AC165=0,K165=0,J165=H165)),\"OK\",\"??\"))","v":""}]
[159,null,null,null,null,null,null,null,{"$f":"IF(D166=\"\",\"\",I165+G166-H166)","v":""},null,null,{"$f":"IF(D166=\"\",\"\",L165+J166-K166)","v":""},{"$f":"IF(D166=\"\",\"\",I166+L166)","v":""},null,null,null,null,null,null,null,null,{"$f":"IF(E166+F166+G166+H166+J166+K166=0,IF(N166+O166+P166+Q166+R166+S166+T166+U166+W166+X166+Y166+Z166+AA166+AB166+AC166>0,\"Classe\",\"\"),IF(OR(AND(E166<>0,F166=0,SUM(N166:U166)=0,SUM(W166:AC166)=0,H166+K166=0,G166+J166=E166),AND(F166<>0,E166=0,SUM(N166:U166)=0,SUM(W166:AC166)=0,G166+J166=0,H166+K166=F166),AND(E166=0,F166=0,H166+K166<>0,H166+K166=SUM(W166:AC166),SUM(N166:U166)=0,(H166+K166)<>(G166+J166)),AND(E166=0,F166=0,G166+J166<>0,G166+J166=SUM(N166:U166),SUM(W166:AC166)=0,(H166+K166)<>(G166+J166)),AND(E166=0,F166=0,J166=0,N166+O166+P166+Q166+R166+S166+T166+U166+W166+X166+Y166+Z166+AA166+AB166+AC166=0,K166<>0,K166=G166),AND(E166=0,F166=0,J166<>0,N166+O166+P166+Q166+R166+S166+T166+U166+W166+X166+Y166+Z166+AA166+AB166+AC166=0,K166=0,J166=H166)),\"OK\",\"??\"))","v":""}]
[160,null,null,null,null,null,null,null,{"$f":"IF(D167=\"\",\"\",I166+G167-H167)","v":""},null,null,{"$f":"IF(D167=\"\",\"\",L166+J167-K167)","v":""},{"$f":"IF(D167=\"\",\"\",I167+L167)","v":""},null,null,null,null,null,null,null,null,{"$f":"IF(E167+F167+G167+H167+J167+K167=0,IF(N167+O167+P167+Q167+R167+S167+T167+U167+W167+X167+Y167+Z167+AA167+AB167+AC167>0,\"Classe\",\"\"),IF(OR(AND(E167<>0,F167=0,SUM(N167:U167)=0,SUM(W167:AC167)=0,H167+K167=0,G167+J167=E167),AND(F167<>0,E167=0,SUM(N167:U167)=0,SUM(W167:AC167)=0,G167+J167=0,H167+K167=F167),AND(E167=0,F167=0,H167+K167<>0,H167+K167=SUM(W167:AC167),SUM(N167:U167)=0,(H167+K167)<>(G167+J167)),AND(E167=0,F167=0,G167+J167<>0,G167+J167=SUM(N167:U167),SUM(W167:AC167)=0,(H167+K167)<>(G167+J167)),AND(E167=0,F167=0,J167=0,N167+O167+P167+Q167+R167+S167+T167+U167+W167+X167+Y167+Z167+AA167+AB167+AC167=0,K167<>0,K167=G167),AND(E167=0,F167=0,J167<>0,N167+O167+P167+Q167+R167+S167+T167+U167+W167+X167+Y167+Z167+AA167+AB167+AC167=0,K167=0,J167=H167)),\"OK\",\"??\"))","v":""}]
[161,null,null,null,null,null,null,null,{"$f":"IF(D168=\"\",\"\",I167+G168-H168)","v":""},null,null,{"$f":"IF(D168=\"\",\"\",L167+J168-K168)","v":""},{"$f":"IF(D168=\"\",\"\",I168+L168)","v":""},null,null,null,null,null,null,null,null,{"$f":"IF(E168+F168+G168+H168+J168+K168=0,IF(N168+O168+P168+Q168+R168+S168+T168+U168+W168+X168+Y168+Z168+AA168+AB168+AC168>0,\"Classe\",\"\"),IF(OR(AND(E168<>0,F168=0,SUM(N168:U168)=0,SUM(W168:AC168)=0,H168+K168=0,G168+J168=E168),AND(F168<>0,E168=0,SUM(N168:U168)=0,SUM(W168:AC168)=0,G168+J168=0,H168+K168=F168),AND(E168=0,F168=0,H168+K168<>0,H168+K168=SUM(W168:AC168),SUM(N168:U168)=0,(H168+K168)<>(G168+J168)),AND(E168=0,F168=0,G168+J168<>0,G168+J168=SUM(N168:U168),SUM(W168:AC168)=0,(H168+K168)<>(G168+J168)),AND(E168=0,F168=0,J168=0,N168+O168+P168+Q168+R168+S168+T168+U168+W168+X168+Y168+Z168+AA168+AB168+AC168=0,K168<>0,K168=G168),AND(E168=0,F168=0,J168<>0,N168+O168+P168+Q168+R168+S168+T168+U168+W168+X168+Y168+Z168+AA168+AB168+AC168=0,K168=0,J168=H168)),\"OK\",\"??\"))","v":""}]
[162,null,null,null,null,null,null,null,{"$f":"IF(D169=\"\",\"\",I168+G169-H169)","v":""},null,null,{"$f":"IF(D169=\"\",\"\",L168+J169-K169)","v":""},{"$f":"IF(D169=\"\",\"\",I169+L169)","v":""},null,null,null,null,null,null,null,null,{"$f":"IF(E169+F169+G169+H169+J169+K169=0,IF(N169+O169+P169+Q169+R169+S169+T169+U169+W169+X169+Y169+Z169+AA169+AB169+AC169>0,\"Classe\",\"\"),IF(OR(AND(E169<>0,F169=0,SUM(N169:U169)=0,SUM(W169:AC169)=0,H169+K169=0,G169+J169=E169),AND(F169<>0,E169=0,SUM(N169:U169)=0,SUM(W169:AC169)=0,G169+J169=0,H169+K169=F169),AND(E169=0,F169=0,H169+K169<>0,H169+K169=SUM(W169:AC169),SUM(N169:U169)=0,(H169+K169)<>(G169+J169)),AND(E169=0,F169=0,G169+J169<>0,G169+J169=SUM(N169:U169),SUM(W169:AC169)=0,(H169+K169)<>(G169+J169)),AND(E169=0,F169=0,J169=0,N169+O169+P169+Q169+R169+S169+T169+U169+W169+X169+Y169+Z169+AA169+AB169+AC169=0,K169<>0,K169=G169),AND(E169=0,F169=0,J169<>0,N169+O169+P169+Q169+R169+S169+T169+U169+W169+X169+Y169+Z169+AA169+AB169+AC169=0,K169=0,J169=H169)),\"OK\",\"??\"))","v":""}]
[163,null,null,null,null,null,null,null,{"$f":"IF(D170=\"\",\"\",I169+G170-H170)","v":""},null,null,{"$f":"IF(D170=\"\",\"\",L169+J170-K170)","v":""},{"$f":"IF(D170=\"\",\"\",I170+L170)","v":""},null,null,null,null,null,null,null,null,{"$f":"IF(E170+F170+G170+H170+J170+K170=0,IF(N170+O170+P170+Q170+R170+S170+T170+U170+W170+X170+Y170+Z170+AA170+AB170+AC170>0,\"Classe\",\"\"),IF(OR(AND(E170<>0,F170=0,SUM(N170:U170)=0,SUM(W170:AC170)=0,H170+K170=0,G170+J170=E170),AND(F170<>0,E170=0,SUM(N170:U170)=0,SUM(W170:AC170)=0,G170+J170=0,H170+K170=F170),AND(E170=0,F170=0,H170+K170<>0,H170+K170=SUM(W170:AC170),SUM(N170:U170)=0,(H170+K170)<>(G170+J170)),AND(E170=0,F170=0,G170+J170<>0,G170+J170=SUM(N170:U170),SUM(W170:AC170)=0,(H170+K170)<>(G170+J170)),AND(E170=0,F170=0,J170=0,N170+O170+P170+Q170+R170+S170+T170+U170+W170+X170+Y170+Z170+AA170+AB170+AC170=0,K170<>0,K170=G170),AND(E170=0,F170=0,J170<>0,N170+O170+P170+Q170+R170+S170+T170+U170+W170+X170+Y170+Z170+AA170+AB170+AC170=0,K170=0,J170=H170)),\"OK\",\"??\"))","v":""}]
[164,null,null,null,null,null,null,null,{"$f":"IF(D171=\"\",\"\",I170+G171-H171)","v":""},null,null,{"$f":"IF(D171=\"\",\"\",L170+J171-K171)","v":""},{"$f":"IF(D171=\"\",\"\",I171+L171)","v":""},null,null,null,null,null,null,null,null,{"$f":"IF(E171+F171+G171+H171+J171+K171=0,IF(N171+O171+P171+Q171+R171+S171+T171+U171+W171+X171+Y171+Z171+AA171+AB171+AC171>0,\"Classe\",\"\"),IF(OR(AND(E171<>0,F171=0,SUM(N171:U171)=0,SUM(W171:AC171)=0,H171+K171=0,G171+J171=E171),AND(F171<>0,E171=0,SUM(N171:U171)=0,SUM(W171:AC171)=0,G171+J171=0,H171+K171=F171),AND(E171=0,F171=0,H171+K171<>0,H171+K171=SUM(W171:AC171),SUM(N171:U171)=0,(H171+K171)<>(G171+J171)),AND(E171=0,F171=0,G171+J171<>0,G171+J171=SUM(N171:U171),SUM(W171:AC171)=0,(H171+K171)<>(G171+J171)),AND(E171=0,F171=0,J171=0,N171+O171+P171+Q171+R171+S171+T171+U171+W171+X171+Y171+Z171+AA171+AB171+AC171=0,K171<>0,K171=G171),AND(E171=0,F171=0,J171<>0,N171+O171+P171+Q171+R171+S171+T171+U171+W171+X171+Y171+Z171+AA171+AB171+AC171=0,K171=0,J171=H171)),\"OK\",\"??\"))","v":""}]
[165,null,null,null,null,null,null,null,{"$f":"IF(D172=\"\",\"\",I171+G172-H172)","v":""},null,null,{"$f":"IF(D172=\"\",\"\",L171+J172-K172)","v":""},{"$f":"IF(D172=\"\",\"\",I172+L172)","v":""},null,null,null,null,null,null,null,null,{"$f":"IF(E172+F172+G172+H172+J172+K172=0,IF(N172+O172+P172+Q172+R172+S172+T172+U172+W172+X172+Y172+Z172+AA172+AB172+AC172>0,\"Classe\",\"\"),IF(OR(AND(E172<>0,F172=0,SUM(N172:U172)=0,SUM(W172:AC172)=0,H172+K172=0,G172+J172=E172),AND(F172<>0,E172=0,SUM(N172:U172)=0,SUM(W172:AC172)=0,G172+J172=0,H172+K172=F172),AND(E172=0,F172=0,H172+K172<>0,H172+K172=SUM(W172:AC172),SUM(N172:U172)=0,(H172+K172)<>(G172+J172)),AND(E172=0,F172=0,G172+J172<>0,G172+J172=SUM(N172:U172),SUM(W172:AC172)=0,(H172+K172)<>(G172+J172)),AND(E172=0,F172=0,J172=0,N172+O172+P172+Q172+R172+S172+T172+U172+W172+X172+Y172+Z172+AA172+AB172+AC172=0,K172<>0,K172=G172),AND(E172=0,F172=0,J172<>0,N172+O172+P172+Q172+R172+S172+T172+U172+W172+X172+Y172+Z172+AA172+AB172+AC172=0,K172=0,J172=H172)),\"OK\",\"??\"))","v":""}]
[166,null,null,null,null,null,null,null,{"$f":"IF(D173=\"\",\"\",I172+G173-H173)","v":""},null,null,{"$f":"IF(D173=\"\",\"\",L172+J173-K173)","v":""},{"$f":"IF(D173=\"\",\"\",I173+L173)","v":""},null,null,null,null,null,null,null,null,{"$f":"IF(E173+F173+G173+H173+J173+K173=0,IF(N173+O173+P173+Q173+R173+S173+T173+U173+W173+X173+Y173+Z173+AA173+AB173+AC173>0,\"Classe\",\"\"),IF(OR(AND(E173<>0,F173=0,SUM(N173:U173)=0,SUM(W173:AC173)=0,H173+K173=0,G173+J173=E173),AND(F173<>0,E173=0,SUM(N173:U173)=0,SUM(W173:AC173)=0,G173+J173=0,H173+K173=F173),AND(E173=0,F173=0,H173+K173<>0,H173+K173=SUM(W173:AC173),SUM(N173:U173)=0,(H173+K173)<>(G173+J173)),AND(E173=0,F173=0,G173+J173<>0,G173+J173=SUM(N173:U173),SUM(W173:AC173)=0,(H173+K173)<>(G173+J173)),AND(E173=0,F173=0,J173=0,N173+O173+P173+Q173+R173+S173+T173+U173+W173+X173+Y173+Z173+AA173+AB173+AC173=0,K173<>0,K173=G173),AND(E173=0,F173=0,J173<>0,N173+O173+P173+Q173+R173+S173+T173+U173+W173+X173+Y173+Z173+AA173+AB173+AC173=0,K173=0,J173=H173)),\"OK\",\"??\"))","v":""}]
[167,null,null,null,null,null,null,null,{"$f":"IF(D174=\"\",\"\",I173+G174-H174)","v":""},null,null,{"$f":"IF(D174=\"\",\"\",L173+J174-K174)","v":""},{"$f":"IF(D174=\"\",\"\",I174+L174)","v":""},null,null,null,null,null,null,null,null,{"$f":"IF(E174+F174+G174+H174+J174+K174=0,IF(N174+O174+P174+Q174+R174+S174+T174+U174+W174+X174+Y174+Z174+AA174+AB174+AC174>0,\"Classe\",\"\"),IF(OR(AND(E174<>0,F174=0,SUM(N174:U174)=0,SUM(W174:AC174)=0,H174+K174=0,G174+J174=E174),AND(F174<>0,E174=0,SUM(N174:U174)=0,SUM(W174:AC174)=0,G174+J174=0,H174+K174=F174),AND(E174=0,F174=0,H174+K174<>0,H174+K174=SUM(W174:AC174),SUM(N174:U174)=0,(H174+K174)<>(G174+J174)),AND(E174=0,F174=0,G174+J174<>0,G174+J174=SUM(N174:U174),SUM(W174:AC174)=0,(H174+K174)<>(G174+J174)),AND(E174=0,F174=0,J174=0,N174+O174+P174+Q174+R174+S174+T174+U174+W174+X174+Y174+Z174+AA174+AB174+AC174=0,K174<>0,K174=G174),AND(E174=0,F174=0,J174<>0,N174+O174+P174+Q174+R174+S174+T174+U174+W174+X174+Y174+Z174+AA174+AB174+AC174=0,K174=0,J174=H174)),\"OK\",\"??\"))","v":""}]
[168,null,null,null,null,null,null,null,{"$f":"IF(D175=\"\",\"\",I174+G175-H175)","v":""},null,null,{"$f":"IF(D175=\"\",\"\",L174+J175-K175)","v":""},{"$f":"IF(D175=\"\",\"\",I175+L175)","v":""},null,null,null,null,null,null,null,null,{"$f":"IF(E175+F175+G175+H175+J175+K175=0,IF(N175+O175+P175+Q175+R175+S175+T175+U175+W175+X175+Y175+Z175+AA175+AB175+AC175>0,\"Classe\",\"\"),IF(OR(AND(E175<>0,F175=0,SUM(N175:U175)=0,SUM(W175:AC175)=0,H175+K175=0,G175+J175=E175),AND(F175<>0,E175=0,SUM(N175:U175)=0,SUM(W175:AC175)=0,G175+J175=0,H175+K175=F175),AND(E175=0,F175=0,H175+K175<>0,H175+K175=SUM(W175:AC175),SUM(N175:U175)=0,(H175+K175)<>(G175+J175)),AND(E175=0,F175=0,G175+J175<>0,G175+J175=SUM(N175:U175),SUM(W175:AC175)=0,(H175+K175)<>(G175+J175)),AND(E175=0,F175=0,J175=0,N175+O175+P175+Q175+R175+S175+T175+U175+W175+X175+Y175+Z175+AA175+AB175+AC175=0,K175<>0,K175=G175),AND(E175=0,F175=0,J175<>0,N175+O175+P175+Q175+R175+S175+T175+U175+W175+X175+Y175+Z175+AA175+AB175+AC175=0,K175=0,J175=H175)),\"OK\",\"??\"))","v":""}]
[169,null,null,null,null,null,null,null,{"$f":"IF(D176=\"\",\"\",I175+G176-H176)","v":""},null,null,{"$f":"IF(D176=\"\",\"\",L175+J176-K176)","v":""},{"$f":"IF(D176=\"\",\"\",I176+L176)","v":""},null,null,null,null,null,null,null,null,{"$f":"IF(E176+F176+G176+H176+J176+K176=0,IF(N176+O176+P176+Q176+R176+S176+T176+U176+W176+X176+Y176+Z176+AA176+AB176+AC176>0,\"Classe\",\"\"),IF(OR(AND(E176<>0,F176=0,SUM(N176:U176)=0,SUM(W176:AC176)=0,H176+K176=0,G176+J176=E176),AND(F176<>0,E176=0,SUM(N176:U176)=0,SUM(W176:AC176)=0,G176+J176=0,H176+K176=F176),AND(E176=0,F176=0,H176+K176<>0,H176+K176=SUM(W176:AC176),SUM(N176:U176)=0,(H176+K176)<>(G176+J176)),AND(E176=0,F176=0,G176+J176<>0,G176+J176=SUM(N176:U176),SUM(W176:AC176)=0,(H176+K176)<>(G176+J176)),AND(E176=0,F176=0,J176=0,N176+O176+P176+Q176+R176+S176+T176+U176+W176+X176+Y176+Z176+AA176+AB176+AC176=0,K176<>0,K176=G176),AND(E176=0,F176=0,J176<>0,N176+O176+P176+Q176+R176+S176+T176+U176+W176+X176+Y176+Z176+AA176+AB176+AC176=0,K176=0,J176=H176)),\"OK\",\"??\"))","v":""}]
[170,null,null,null,null,null,null,null,{"$f":"IF(D177=\"\",\"\",I176+G177-H177)","v":""},null,null,{"$f":"IF(D177=\"\",\"\",L176+J177-K177)","v":""},{"$f":"IF(D177=\"\",\"\",I177+L177)","v":""},null,null,null,null,null,null,null,null,{"$f":"IF(E177+F177+G177+H177+J177+K177=0,IF(N177+O177+P177+Q177+R177+S177+T177+U177+W177+X177+Y177+Z177+AA177+AB177+AC177>0,\"Classe\",\"\"),IF(OR(AND(E177<>0,F177=0,SUM(N177:U177)=0,SUM(W177:AC177)=0,H177+K177=0,G177+J177=E177),AND(F177<>0,E177=0,SUM(N177:U177)=0,SUM(W177:AC177)=0,G177+J177=0,H177+K177=F177),AND(E177=0,F177=0,H177+K177<>0,H177+K177=SUM(W177:AC177),SUM(N177:U177)=0,(H177+K177)<>(G177+J177)),AND(E177=0,F177=0,G177+J177<>0,G177+J177=SUM(N177:U177),SUM(W177:AC177)=0,(H177+K177)<>(G177+J177)),AND(E177=0,F177=0,J177=0,N177+O177+P177+Q177+R177+S177+T177+U177+W177+X177+Y177+Z177+AA177+AB177+AC177=0,K177<>0,K177=G177),AND(E177=0,F177=0,J177<>0,N177+O177+P177+Q177+R177+S177+T177+U177+W177+X177+Y177+Z177+AA177+AB177+AC177=0,K177=0,J177=H177)),\"OK\",\"??\"))","v":""}]
[171,null,null,null,null,null,null,null,{"$f":"IF(D178=\"\",\"\",I177+G178-H178)","v":""},null,null,{"$f":"IF(D178=\"\",\"\",L177+J178-K178)","v":""},{"$f":"IF(D178=\"\",\"\",I178+L178)","v":""},null,null,null,null,null,null,null,null,{"$f":"IF(E178+F178+G178+H178+J178+K178=0,IF(N178+O178+P178+Q178+R178+S178+T178+U178+W178+X178+Y178+Z178+AA178+AB178+AC178>0,\"Classe\",\"\"),IF(OR(AND(E178<>0,F178=0,SUM(N178:U178)=0,SUM(W178:AC178)=0,H178+K178=0,G178+J178=E178),AND(F178<>0,E178=0,SUM(N178:U178)=0,SUM(W178:AC178)=0,G178+J178=0,H178+K178=F178),AND(E178=0,F178=0,H178+K178<>0,H178+K178=SUM(W178:AC178),SUM(N178:U178)=0,(H178+K178)<>(G178+J178)),AND(E178=0,F178=0,G178+J178<>0,G178+J178=SUM(N178:U178),SUM(W178:AC178)=0,(H178+K178)<>(G178+J178)),AND(E178=0,F178=0,J178=0,N178+O178+P178+Q178+R178+S178+T178+U178+W178+X178+Y178+Z178+AA178+AB178+AC178=0,K178<>0,K178=G178),AND(E178=0,F178=0,J178<>0,N178+O178+P178+Q178+R178+S178+T178+U178+W178+X178+Y178+Z178+AA178+AB178+AC178=0,K178=0,J178=H178)),\"OK\",\"??\"))","v":""}]
[172,null,null,null,null,null,null,null,{"$f":"IF(D179=\"\",\"\",I178+G179-H179)","v":""},null,null,{"$f":"IF(D179=\"\",\"\",L178+J179-K179)","v":""},{"$f":"IF(D179=\"\",\"\",I179+L179)","v":""},null,null,null,null,null,null,null,null,{"$f":"IF(E179+F179+G179+H179+J179+K179=0,IF(N179+O179+P179+Q179+R179+S179+T179+U179+W179+X179+Y179+Z179+AA179+AB179+AC179>0,\"Classe\",\"\"),IF(OR(AND(E179<>0,F179=0,SUM(N179:U179)=0,SUM(W179:AC179)=0,H179+K179=0,G179+J179=E179),AND(F179<>0,E179=0,SUM(N179:U179)=0,SUM(W179:AC179)=0,G179+J179=0,H179+K179=F179),AND(E179=0,F179=0,H179+K179<>0,H179+K179=SUM(W179:AC179),SUM(N179:U179)=0,(H179+K179)<>(G179+J179)),AND(E179=0,F179=0,G179+J179<>0,G179+J179=SUM(N179:U179),SUM(W179:AC179)=0,(H179+K179)<>(G179+J179)),AND(E179=0,F179=0,J179=0,N179+O179+P179+Q179+R179+S179+T179+U179+W179+X179+Y179+Z179+AA179+AB179+AC179=0,K179<>0,K179=G179),AND(E179=0,F179=0,J179<>0,N179+O179+P179+Q179+R179+S179+T179+U179+W179+X179+Y179+Z179+AA179+AB179+AC179=0,K179=0,J179=H179)),\"OK\",\"??\"))","v":""}]
[173,null,null,null,null,null,null,null,{"$f":"IF(D180=\"\",\"\",I179+G180-H180)","v":""},null,null,{"$f":"IF(D180=\"\",\"\",L179+J180-K180)","v":""},{"$f":"IF(D180=\"\",\"\",I180+L180)","v":""},null,null,null,null,null,null,null,null,{"$f":"IF(E180+F180+G180+H180+J180+K180=0,IF(N180+O180+P180+Q180+R180+S180+T180+U180+W180+X180+Y180+Z180+AA180+AB180+AC180>0,\"Classe\",\"\"),IF(OR(AND(E180<>0,F180=0,SUM(N180:U180)=0,SUM(W180:AC180)=0,H180+K180=0,G180+J180=E180),AND(F180<>0,E180=0,SUM(N180:U180)=0,SUM(W180:AC180)=0,G180+J180=0,H180+K180=F180),AND(E180=0,F180=0,H180+K180<>0,H180+K180=SUM(W180:AC180),SUM(N180:U180)=0,(H180+K180)<>(G180+J180)),AND(E180=0,F180=0,G180+J180<>0,G180+J180=SUM(N180:U180),SUM(W180:AC180)=0,(H180+K180)<>(G180+J180)),AND(E180=0,F180=0,J180=0,N180+O180+P180+Q180+R180+S180+T180+U180+W180+X180+Y180+Z180+AA180+AB180+AC180=0,K180<>0,K180=G180),AND(E180=0,F180=0,J180<>0,N180+O180+P180+Q180+R180+S180+T180+U180+W180+X180+Y180+Z180+AA180+AB180+AC180=0,K180=0,J180=H180)),\"OK\",\"??\"))","v":""}]
[174,null,null,null,null,null,null,null,{"$f":"IF(D181=\"\",\"\",I180+G181-H181)","v":""},null,null,{"$f":"IF(D181=\"\",\"\",L180+J181-K181)","v":""},{"$f":"IF(D181=\"\",\"\",I181+L181)","v":""},null,null,null,null,null,null,null,null,{"$f":"IF(E181+F181+G181+H181+J181+K181=0,IF(N181+O181+P181+Q181+R181+S181+T181+U181+W181+X181+Y181+Z181+AA181+AB181+AC181>0,\"Classe\",\"\"),IF(OR(AND(E181<>0,F181=0,SUM(N181:U181)=0,SUM(W181:AC181)=0,H181+K181=0,G181+J181=E181),AND(F181<>0,E181=0,SUM(N181:U181)=0,SUM(W181:AC181)=0,G181+J181=0,H181+K181=F181),AND(E181=0,F181=0,H181+K181<>0,H181+K181=SUM(W181:AC181),SUM(N181:U181)=0,(H181+K181)<>(G181+J181)),AND(E181=0,F181=0,G181+J181<>0,G181+J181=SUM(N181:U181),SUM(W181:AC181)=0,(H181+K181)<>(G181+J181)),AND(E181=0,F181=0,J181=0,N181+O181+P181+Q181+R181+S181+T181+U181+W181+X181+Y181+Z181+AA181+AB181+AC181=0,K181<>0,K181=G181),AND(E181=0,F181=0,J181<>0,N181+O181+P181+Q181+R181+S181+T181+U181+W181+X181+Y181+Z181+AA181+AB181+AC181=0,K181=0,J181=H181)),\"OK\",\"??\"))","v":""}]
[175,null,null,null,null,null,null,null,{"$f":"IF(D182=\"\",\"\",I181+G182-H182)","v":""},null,null,{"$f":"IF(D182=\"\",\"\",L181+J182-K182)","v":""},{"$f":"IF(D182=\"\",\"\",I182+L182)","v":""},null,null,null,null,null,null,null,null,{"$f":"IF(E182+F182+G182+H182+J182+K182=0,IF(N182+O182+P182+Q182+R182+S182+T182+U182+W182+X182+Y182+Z182+AA182+AB182+AC182>0,\"Classe\",\"\"),IF(OR(AND(E182<>0,F182=0,SUM(N182:U182)=0,SUM(W182:AC182)=0,H182+K182=0,G182+J182=E182),AND(F182<>0,E182=0,SUM(N182:U182)=0,SUM(W182:AC182)=0,G182+J182=0,H182+K182=F182),AND(E182=0,F182=0,H182+K182<>0,H182+K182=SUM(W182:AC182),SUM(N182:U182)=0,(H182+K182)<>(G182+J182)),AND(E182=0,F182=0,G182+J182<>0,G182+J182=SUM(N182:U182),SUM(W182:AC182)=0,(H182+K182)<>(G182+J182)),AND(E182=0,F182=0,J182=0,N182+O182+P182+Q182+R182+S182+T182+U182+W182+X182+Y182+Z182+AA182+AB182+AC182=0,K182<>0,K182=G182),AND(E182=0,F182=0,J182<>0,N182+O182+P182+Q182+R182+S182+T182+U182+W182+X182+Y182+Z182+AA182+AB182+AC182=0,K182=0,J182=H182)),\"OK\",\"??\"))","v":""}]
[176,null,null,null,null,null,null,null,{"$f":"IF(D183=\"\",\"\",I182+G183-H183)","v":""},null,null,{"$f":"IF(D183=\"\",\"\",L182+J183-K183)","v":""},{"$f":"IF(D183=\"\",\"\",I183+L183)","v":""},null,null,null,null,null,null,null,null,{"$f":"IF(E183+F183+G183+H183+J183+K183=0,IF(N183+O183+P183+Q183+R183+S183+T183+U183+W183+X183+Y183+Z183+AA183+AB183+AC183>0,\"Classe\",\"\"),IF(OR(AND(E183<>0,F183=0,SUM(N183:U183)=0,SUM(W183:AC183)=0,H183+K183=0,G183+J183=E183),AND(F183<>0,E183=0,SUM(N183:U183)=0,SUM(W183:AC183)=0,G183+J183=0,H183+K183=F183),AND(E183=0,F183=0,H183+K183<>0,H183+K183=SUM(W183:AC183),SUM(N183:U183)=0,(H183+K183)<>(G183+J183)),AND(E183=0,F183=0,G183+J183<>0,G183+J183=SUM(N183:U183),SUM(W183:AC183)=0,(H183+K183)<>(G183+J183)),AND(E183=0,F183=0,J183=0,N183+O183+P183+Q183+R183+S183+T183+U183+W183+X183+Y183+Z183+AA183+AB183+AC183=0,K183<>0,K183=G183),AND(E183=0,F183=0,J183<>0,N183+O183+P183+Q183+R183+S183+T183+U183+W183+X183+Y183+Z183+AA183+AB183+AC183=0,K183=0,J183=H183)),\"OK\",\"??\"))","v":""}]
[177,null,null,null,null,null,null,null,{"$f":"IF(D184=\"\",\"\",I183+G184-H184)","v":""},null,null,{"$f":"IF(D184=\"\",\"\",L183+J184-K184)","v":""},{"$f":"IF(D184=\"\",\"\",I184+L184)","v":""},null,null,null,null,null,null,null,null,{"$f":"IF(E184+F184+G184+H184+J184+K184=0,IF(N184+O184+P184+Q184+R184+S184+T184+U184+W184+X184+Y184+Z184+AA184+AB184+AC184>0,\"Classe\",\"\"),IF(OR(AND(E184<>0,F184=0,SUM(N184:U184)=0,SUM(W184:AC184)=0,H184+K184=0,G184+J184=E184),AND(F184<>0,E184=0,SUM(N184:U184)=0,SUM(W184:AC184)=0,G184+J184=0,H184+K184=F184),AND(E184=0,F184=0,H184+K184<>0,H184+K184=SUM(W184:AC184),SUM(N184:U184)=0,(H184+K184)<>(G184+J184)),AND(E184=0,F184=0,G184+J184<>0,G184+J184=SUM(N184:U184),SUM(W184:AC184)=0,(H184+K184)<>(G184+J184)),AND(E184=0,F184=0,J184=0,N184+O184+P184+Q184+R184+S184+T184+U184+W184+X184+Y184+Z184+AA184+AB184+AC184=0,K184<>0,K184=G184),AND(E184=0,F184=0,J184<>0,N184+O184+P184+Q184+R184+S184+T184+U184+W184+X184+Y184+Z184+AA184+AB184+AC184=0,K184=0,J184=H184)),\"OK\",\"??\"))","v":""}]
[178,null,null,null,null,null,null,null,{"$f":"IF(D185=\"\",\"\",I184+G185-H185)","v":""},null,null,{"$f":"IF(D185=\"\",\"\",L184+J185-K185)","v":""},{"$f":"IF(D185=\"\",\"\",I185+L185)","v":""},null,null,null,null,null,null,null,null,{"$f":"IF(E185+F185+G185+H185+J185+K185=0,IF(N185+O185+P185+Q185+R185+S185+T185+U185+W185+X185+Y185+Z185+AA185+AB185+AC185>0,\"Classe\",\"\"),IF(OR(AND(E185<>0,F185=0,SUM(N185:U185)=0,SUM(W185:AC185)=0,H185+K185=0,G185+J185=E185),AND(F185<>0,E185=0,SUM(N185:U185)=0,SUM(W185:AC185)=0,G185+J185=0,H185+K185=F185),AND(E185=0,F185=0,H185+K185<>0,H185+K185=SUM(W185:AC185),SUM(N185:U185)=0,(H185+K185)<>(G185+J185)),AND(E185=0,F185=0,G185+J185<>0,G185+J185=SUM(N185:U185),SUM(W185:AC185)=0,(H185+K185)<>(G185+J185)),AND(E185=0,F185=0,J185=0,N185+O185+P185+Q185+R185+S185+T185+U185+W185+X185+Y185+Z185+AA185+AB185+AC185=0,K185<>0,K185=G185),AND(E185=0,F185=0,J185<>0,N185+O185+P185+Q185+R185+S185+T185+U185+W185+X185+Y185+Z185+AA185+AB185+AC185=0,K185=0,J185=H185)),\"OK\",\"??\"))","v":""}]
[179,null,null,null,null,null,null,null,{"$f":"IF(D186=\"\",\"\",I185+G186-H186)","v":""},null,null,{"$f":"IF(D186=\"\",\"\",L185+J186-K186)","v":""},{"$f":"IF(D186=\"\",\"\",I186+L186)","v":""},null,null,null,null,null,null,null,null,{"$f":"IF(E186+F186+G186+H186+J186+K186=0,IF(N186+O186+P186+Q186+R186+S186+T186+U186+W186+X186+Y186+Z186+AA186+AB186+AC186>0,\"Classe\",\"\"),IF(OR(AND(E186<>0,F186=0,SUM(N186:U186)=0,SUM(W186:AC186)=0,H186+K186=0,G186+J186=E186),AND(F186<>0,E186=0,SUM(N186:U186)=0,SUM(W186:AC186)=0,G186+J186=0,H186+K186=F186),AND(E186=0,F186=0,H186+K186<>0,H186+K186=SUM(W186:AC186),SUM(N186:U186)=0,(H186+K186)<>(G186+J186)),AND(E186=0,F186=0,G186+J186<>0,G186+J186=SUM(N186:U186),SUM(W186:AC186)=0,(H186+K186)<>(G186+J186)),AND(E186=0,F186=0,J186=0,N186+O186+P186+Q186+R186+S186+T186+U186+W186+X186+Y186+Z186+AA186+AB186+AC186=0,K186<>0,K186=G186),AND(E186=0,F186=0,J186<>0,N186+O186+P186+Q186+R186+S186+T186+U186+W186+X186+Y186+Z186+AA186+AB186+AC186=0,K186=0,J186=H186)),\"OK\",\"??\"))","v":""}]
[180,null,null,null,null,null,null,null,{"$f":"IF(D187=\"\",\"\",I186+G187-H187)","v":""},null,null,{"$f":"IF(D187=\"\",\"\",L186+J187-K187)","v":""},{"$f":"IF(D187=\"\",\"\",I187+L187)","v":""},null,null,null,null,null,null,null,null,{"$f":"IF(E187+F187+G187+H187+J187+K187=0,IF(N187+O187+P187+Q187+R187+S187+T187+U187+W187+X187+Y187+Z187+AA187+AB187+AC187>0,\"Classe\",\"\"),IF(OR(AND(E187<>0,F187=0,SUM(N187:U187)=0,SUM(W187:AC187)=0,H187+K187=0,G187+J187=E187),AND(F187<>0,E187=0,SUM(N187:U187)=0,SUM(W187:AC187)=0,G187+J187=0,H187+K187=F187),AND(E187=0,F187=0,H187+K187<>0,H187+K187=SUM(W187:AC187),SUM(N187:U187)=0,(H187+K187)<>(G187+J187)),AND(E187=0,F187=0,G187+J187<>0,G187+J187=SUM(N187:U187),SUM(W187:AC187)=0,(H187+K187)<>(G187+J187)),AND(E187=0,F187=0,J187=0,N187+O187+P187+Q187+R187+S187+T187+U187+W187+X187+Y187+Z187+AA187+AB187+AC187=0,K187<>0,K187=G187),AND(E187=0,F187=0,J187<>0,N187+O187+P187+Q187+R187+S187+T187+U187+W187+X187+Y187+Z187+AA187+AB187+AC187=0,K187=0,J187=H187)),\"OK\",\"??\"))","v":""}]
[181,null,null,null,null,null,null,null,{"$f":"IF(D188=\"\",\"\",I187+G188-H188)","v":""},null,null,{"$f":"IF(D188=\"\",\"\",L187+J188-K188)","v":""},{"$f":"IF(D188=\"\",\"\",I188+L188)","v":""},null,null,null,null,null,null,null,null,{"$f":"IF(E188+F188+G188+H188+J188+K188=0,IF(N188+O188+P188+Q188+R188+S188+T188+U188+W188+X188+Y188+Z188+AA188+AB188+AC188>0,\"Classe\",\"\"),IF(OR(AND(E188<>0,F188=0,SUM(N188:U188)=0,SUM(W188:AC188)=0,H188+K188=0,G188+J188=E188),AND(F188<>0,E188=0,SUM(N188:U188)=0,SUM(W188:AC188)=0,G188+J188=0,H188+K188=F188),AND(E188=0,F188=0,H188+K188<>0,H188+K188=SUM(W188:AC188),SUM(N188:U188)=0,(H188+K188)<>(G188+J188)),AND(E188=0,F188=0,G188+J188<>0,G188+J188=SUM(N188:U188),SUM(W188:AC188)=0,(H188+K188)<>(G188+J188)),AND(E188=0,F188=0,J188=0,N188+O188+P188+Q188+R188+S188+T188+U188+W188+X188+Y188+Z188+AA188+AB188+AC188=0,K188<>0,K188=G188),AND(E188=0,F188=0,J188<>0,N188+O188+P188+Q188+R188+S188+T188+U188+W188+X188+Y188+Z188+AA188+AB188+AC188=0,K188=0,J188=H188)),\"OK\",\"??\"))","v":""}]
[182,null,null,null,null,null,null,null,{"$f":"IF(D189=\"\",\"\",I188+G189-H189)","v":""},null,null,{"$f":"IF(D189=\"\",\"\",L188+J189-K189)","v":""},{"$f":"IF(D189=\"\",\"\",I189+L189)","v":""},null,null,null,null,null,null,null,null,{"$f":"IF(E189+F189+G189+H189+J189+K189=0,IF(N189+O189+P189+Q189+R189+S189+T189+U189+W189+X189+Y189+Z189+AA189+AB189+AC189>0,\"Classe\",\"\"),IF(OR(AND(E189<>0,F189=0,SUM(N189:U189)=0,SUM(W189:AC189)=0,H189+K189=0,G189+J189=E189),AND(F189<>0,E189=0,SUM(N189:U189)=0,SUM(W189:AC189)=0,G189+J189=0,H189+K189=F189),AND(E189=0,F189=0,H189+K189<>0,H189+K189=SUM(W189:AC189),SUM(N189:U189)=0,(H189+K189)<>(G189+J189)),AND(E189=0,F189=0,G189+J189<>0,G189+J189=SUM(N189:U189),SUM(W189:AC189)=0,(H189+K189)<>(G189+J189)),AND(E189=0,F189=0,J189=0,N189+O189+P189+Q189+R189+S189+T189+U189+W189+X189+Y189+Z189+AA189+AB189+AC189=0,K189<>0,K189=G189),AND(E189=0,F189=0,J189<>0,N189+O189+P189+Q189+R189+S189+T189+U189+W189+X189+Y189+Z189+AA189+AB189+AC189=0,K189=0,J189=H189)),\"OK\",\"??\"))","v":""}]
[183,null,null,null,null,null,null,null,{"$f":"IF(D190=\"\",\"\",I189+G190-H190)","v":""},null,null,{"$f":"IF(D190=\"\",\"\",L189+J190-K190)","v":""},{"$f":"IF(D190=\"\",\"\",I190+L190)","v":""},null,null,null,null,null,null,null,null,{"$f":"IF(E190+F190+G190+H190+J190+K190=0,IF(N190+O190+P190+Q190+R190+S190+T190+U190+W190+X190+Y190+Z190+AA190+AB190+AC190>0,\"Classe\",\"\"),IF(OR(AND(E190<>0,F190=0,SUM(N190:U190)=0,SUM(W190:AC190)=0,H190+K190=0,G190+J190=E190),AND(F190<>0,E190=0,SUM(N190:U190)=0,SUM(W190:AC190)=0,G190+J190=0,H190+K190=F190),AND(E190=0,F190=0,H190+K190<>0,H190+K190=SUM(W190:AC190),SUM(N190:U190)=0,(H190+K190)<>(G190+J190)),AND(E190=0,F190=0,G190+J190<>0,G190+J190=SUM(N190:U190),SUM(W190:AC190)=0,(H190+K190)<>(G190+J190)),AND(E190=0,F190=0,J190=0,N190+O190+P190+Q190+R190+S190+T190+U190+W190+X190+Y190+Z190+AA190+AB190+AC190=0,K190<>0,K190=G190),AND(E190=0,F190=0,J190<>0,N190+O190+P190+Q190+R190+S190+T190+U190+W190+X190+Y190+Z190+AA190+AB190+AC190=0,K190=0,J190=H190)),\"OK\",\"??\"))","v":""}]
[184,null,null,null,null,null,null,null,{"$f":"IF(D191=\"\",\"\",I190+G191-H191)","v":""},null,null,{"$f":"IF(D191=\"\",\"\",L190+J191-K191)","v":""},{"$f":"IF(D191=\"\",\"\",I191+L191)","v":""},null,null,null,null,null,null,null,null,{"$f":"IF(E191+F191+G191+H191+J191+K191=0,IF(N191+O191+P191+Q191+R191+S191+T191+U191+W191+X191+Y191+Z191+AA191+AB191+AC191>0,\"Classe\",\"\"),IF(OR(AND(E191<>0,F191=0,SUM(N191:U191)=0,SUM(W191:AC191)=0,H191+K191=0,G191+J191=E191),AND(F191<>0,E191=0,SUM(N191:U191)=0,SUM(W191:AC191)=0,G191+J191=0,H191+K191=F191),AND(E191=0,F191=0,H191+K191<>0,H191+K191=SUM(W191:AC191),SUM(N191:U191)=0,(H191+K191)<>(G191+J191)),AND(E191=0,F191=0,G191+J191<>0,G191+J191=SUM(N191:U191),SUM(W191:AC191)=0,(H191+K191)<>(G191+J191)),AND(E191=0,F191=0,J191=0,N191+O191+P191+Q191+R191+S191+T191+U191+W191+X191+Y191+Z191+AA191+AB191+AC191=0,K191<>0,K191=G191),AND(E191=0,F191=0,J191<>0,N191+O191+P191+Q191+R191+S191+T191+U191+W191+X191+Y191+Z191+AA191+AB191+AC191=0,K191=0,J191=H191)),\"OK\",\"??\"))","v":""}]
[185,null,null,null,null,null,null,null,{"$f":"IF(D192=\"\",\"\",I191+G192-H192)","v":""},null,null,{"$f":"IF(D192=\"\",\"\",L191+J192-K192)","v":""},{"$f":"IF(D192=\"\",\"\",I192+L192)","v":""},null,null,null,null,null,null,null,null,{"$f":"IF(E192+F192+G192+H192+J192+K192=0,IF(N192+O192+P192+Q192+R192+S192+T192+U192+W192+X192+Y192+Z192+AA192+AB192+AC192>0,\"Classe\",\"\"),IF(OR(AND(E192<>0,F192=0,SUM(N192:U192)=0,SUM(W192:AC192)=0,H192+K192=0,G192+J192=E192),AND(F192<>0,E192=0,SUM(N192:U192)=0,SUM(W192:AC192)=0,G192+J192=0,H192+K192=F192),AND(E192=0,F192=0,H192+K192<>0,H192+K192=SUM(W192:AC192),SUM(N192:U192)=0,(H192+K192)<>(G192+J192)),AND(E192=0,F192=0,G192+J192<>0,G192+J192=SUM(N192:U192),SUM(W192:AC192)=0,(H192+K192)<>(G192+J192)),AND(E192=0,F192=0,J192=0,N192+O192+P192+Q192+R192+S192+T192+U192+W192+X192+Y192+Z192+AA192+AB192+AC192=0,K192<>0,K192=G192),AND(E192=0,F192=0,J192<>0,N192+O192+P192+Q192+R192+S192+T192+U192+W192+X192+Y192+Z192+AA192+AB192+AC192=0,K192=0,J192=H192)),\"OK\",\"??\"))","v":""}]
[186,null,null,null,null,null,null,null,{"$f":"IF(D193=\"\",\"\",I192+G193-H193)","v":""},null,null,{"$f":"IF(D193=\"\",\"\",L192+J193-K193)","v":""},{"$f":"IF(D193=\"\",\"\",I193+L193)","v":""},null,null,null,null,null,null,null,null,{"$f":"IF(E193+F193+G193+H193+J193+K193=0,IF(N193+O193+P193+Q193+R193+S193+T193+U193+W193+X193+Y193+Z193+AA193+AB193+AC193>0,\"Classe\",\"\"),IF(OR(AND(E193<>0,F193=0,SUM(N193:U193)=0,SUM(W193:AC193)=0,H193+K193=0,G193+J193=E193),AND(F193<>0,E193=0,SUM(N193:U193)=0,SUM(W193:AC193)=0,G193+J193=0,H193+K193=F193),AND(E193=0,F193=0,H193+K193<>0,H193+K193=SUM(W193:AC193),SUM(N193:U193)=0,(H193+K193)<>(G193+J193)),AND(E193=0,F193=0,G193+J193<>0,G193+J193=SUM(N193:U193),SUM(W193:AC193)=0,(H193+K193)<>(G193+J193)),AND(E193=0,F193=0,J193=0,N193+O193+P193+Q193+R193+S193+T193+U193+W193+X193+Y193+Z193+AA193+AB193+AC193=0,K193<>0,K193=G193),AND(E193=0,F193=0,J193<>0,N193+O193+P193+Q193+R193+S193+T193+U193+W193+X193+Y193+Z193+AA193+AB193+AC193=0,K193=0,J193=H193)),\"OK\",\"??\"))","v":""}]
[187,null,null,null,null,null,null,null,{"$f":"IF(D194=\"\",\"\",I193+G194-H194)","v":""},null,null,{"$f":"IF(D194=\"\",\"\",L193+J194-K194)","v":""},{"$f":"IF(D194=\"\",\"\",I194+L194)","v":""},null,null,null,null,null,null,null,null,{"$f":"IF(E194+F194+G194+H194+J194+K194=0,IF(N194+O194+P194+Q194+R194+S194+T194+U194+W194+X194+Y194+Z194+AA194+AB194+AC194>0,\"Classe\",\"\"),IF(OR(AND(E194<>0,F194=0,SUM(N194:U194)=0,SUM(W194:AC194)=0,H194+K194=0,G194+J194=E194),AND(F194<>0,E194=0,SUM(N194:U194)=0,SUM(W194:AC194)=0,G194+J194=0,H194+K194=F194),AND(E194=0,F194=0,H194+K194<>0,H194+K194=SUM(W194:AC194),SUM(N194:U194)=0,(H194+K194)<>(G194+J194)),AND(E194=0,F194=0,G194+J194<>0,G194+J194=SUM(N194:U194),SUM(W194:AC194)=0,(H194+K194)<>(G194+J194)),AND(E194=0,F194=0,J194=0,N194+O194+P194+Q194+R194+S194+T194+U194+W194+X194+Y194+Z194+AA194+AB194+AC194=0,K194<>0,K194=G194),AND(E194=0,F194=0,J194<>0,N194+O194+P194+Q194+R194+S194+T194+U194+W194+X194+Y194+Z194+AA194+AB194+AC194=0,K194=0,J194=H194)),\"OK\",\"??\"))","v":""}]
[188,null,null,null,null,null,null,null,{"$f":"IF(D195=\"\",\"\",I194+G195-H195)","v":""},null,null,{"$f":"IF(D195=\"\",\"\",L194+J195-K195)","v":""},{"$f":"IF(D195=\"\",\"\",I195+L195)","v":""},null,null,null,null,null,null,null,null,{"$f":"IF(E195+F195+G195+H195+J195+K195=0,IF(N195+O195+P195+Q195+R195+S195+T195+U195+W195+X195+Y195+Z195+AA195+AB195+AC195>0,\"Classe\",\"\"),IF(OR(AND(E195<>0,F195=0,SUM(N195:U195)=0,SUM(W195:AC195)=0,H195+K195=0,G195+J195=E195),AND(F195<>0,E195=0,SUM(N195:U195)=0,SUM(W195:AC195)=0,G195+J195=0,H195+K195=F195),AND(E195=0,F195=0,H195+K195<>0,H195+K195=SUM(W195:AC195),SUM(N195:U195)=0,(H195+K195)<>(G195+J195)),AND(E195=0,F195=0,G195+J195<>0,G195+J195=SUM(N195:U195),SUM(W195:AC195)=0,(H195+K195)<>(G195+J195)),AND(E195=0,F195=0,J195=0,N195+O195+P195+Q195+R195+S195+T195+U195+W195+X195+Y195+Z195+AA195+AB195+AC195=0,K195<>0,K195=G195),AND(E195=0,F195=0,J195<>0,N195+O195+P195+Q195+R195+S195+T195+U195+W195+X195+Y195+Z195+AA195+AB195+AC195=0,K195=0,J195=H195)),\"OK\",\"??\"))","v":""}]
[189,null,null,null,null,null,null,null,{"$f":"IF(D196=\"\",\"\",I195+G196-H196)","v":""},null,null,{"$f":"IF(D196=\"\",\"\",L195+J196-K196)","v":""},{"$f":"IF(D196=\"\",\"\",I196+L196)","v":""},null,null,null,null,null,null,null,null,{"$f":"IF(E196+F196+G196+H196+J196+K196=0,IF(N196+O196+P196+Q196+R196+S196+T196+U196+W196+X196+Y196+Z196+AA196+AB196+AC196>0,\"Classe\",\"\"),IF(OR(AND(E196<>0,F196=0,SUM(N196:U196)=0,SUM(W196:AC196)=0,H196+K196=0,G196+J196=E196),AND(F196<>0,E196=0,SUM(N196:U196)=0,SUM(W196:AC196)=0,G196+J196=0,H196+K196=F196),AND(E196=0,F196=0,H196+K196<>0,H196+K196=SUM(W196:AC196),SUM(N196:U196)=0,(H196+K196)<>(G196+J196)),AND(E196=0,F196=0,G196+J196<>0,G196+J196=SUM(N196:U196),SUM(W196:AC196)=0,(H196+K196)<>(G196+J196)),AND(E196=0,F196=0,J196=0,N196+O196+P196+Q196+R196+S196+T196+U196+W196+X196+Y196+Z196+AA196+AB196+AC196=0,K196<>0,K196=G196),AND(E196=0,F196=0,J196<>0,N196+O196+P196+Q196+R196+S196+T196+U196+W196+X196+Y196+Z196+AA196+AB196+AC196=0,K196=0,J196=H196)),\"OK\",\"??\"))","v":""}]
[190,null,null,null,null,null,null,null,{"$f":"IF(D197=\"\",\"\",I196+G197-H197)","v":""},null,null,{"$f":"IF(D197=\"\",\"\",L196+J197-K197)","v":""},{"$f":"IF(D197=\"\",\"\",I197+L197)","v":""},null,null,null,null,null,null,null,null,{"$f":"IF(E197+F197+G197+H197+J197+K197=0,IF(N197+O197+P197+Q197+R197+S197+T197+U197+W197+X197+Y197+Z197+AA197+AB197+AC197>0,\"Classe\",\"\"),IF(OR(AND(E197<>0,F197=0,SUM(N197:U197)=0,SUM(W197:AC197)=0,H197+K197=0,G197+J197=E197),AND(F197<>0,E197=0,SUM(N197:U197)=0,SUM(W197:AC197)=0,G197+J197=0,H197+K197=F197),AND(E197=0,F197=0,H197+K197<>0,H197+K197=SUM(W197:AC197),SUM(N197:U197)=0,(H197+K197)<>(G197+J197)),AND(E197=0,F197=0,G197+J197<>0,G197+J197=SUM(N197:U197),SUM(W197:AC197)=0,(H197+K197)<>(G197+J197)),AND(E197=0,F197=0,J197=0,N197+O197+P197+Q197+R197+S197+T197+U197+W197+X197+Y197+Z197+AA197+AB197+AC197=0,K197<>0,K197=G197),AND(E197=0,F197=0,J197<>0,N197+O197+P197+Q197+R197+S197+T197+U197+W197+X197+Y197+Z197+AA197+AB197+AC197=0,K197=0,J197=H197)),\"OK\",\"??\"))","v":""}]
[191,null,null,null,null,null,null,null,{"$f":"IF(D198=\"\",\"\",I197+G198-H198)","v":""},null,null,{"$f":"IF(D198=\"\",\"\",L197+J198-K198)","v":""},{"$f":"IF(D198=\"\",\"\",I198+L198)","v":""},null,null,null,null,null,null,null,null,{"$f":"IF(E198+F198+G198+H198+J198+K198=0,IF(N198+O198+P198+Q198+R198+S198+T198+U198+W198+X198+Y198+Z198+AA198+AB198+AC198>0,\"Classe\",\"\"),IF(OR(AND(E198<>0,F198=0,SUM(N198:U198)=0,SUM(W198:AC198)=0,H198+K198=0,G198+J198=E198),AND(F198<>0,E198=0,SUM(N198:U198)=0,SUM(W198:AC198)=0,G198+J198=0,H198+K198=F198),AND(E198=0,F198=0,H198+K198<>0,H198+K198=SUM(W198:AC198),SUM(N198:U198)=0,(H198+K198)<>(G198+J198)),AND(E198=0,F198=0,G198+J198<>0,G198+J198=SUM(N198:U198),SUM(W198:AC198)=0,(H198+K198)<>(G198+J198)),AND(E198=0,F198=0,J198=0,N198+O198+P198+Q198+R198+S198+T198+U198+W198+X198+Y198+Z198+AA198+AB198+AC198=0,K198<>0,K198=G198),AND(E198=0,F198=0,J198<>0,N198+O198+P198+Q198+R198+S198+T198+U198+W198+X198+Y198+Z198+AA198+AB198+AC198=0,K198=0,J198=H198)),\"OK\",\"??\"))","v":""}]
[192,null,null,null,null,null,null,null,{"$f":"IF(D199=\"\",\"\",I198+G199-H199)","v":""},null,null,{"$f":"IF(D199=\"\",\"\",L198+J199-K199)","v":""},{"$f":"IF(D199=\"\",\"\",I199+L199)","v":""},null,null,null,null,null,null,null,null,{"$f":"IF(E199+F199+G199+H199+J199+K199=0,IF(N199+O199+P199+Q199+R199+S199+T199+U199+W199+X199+Y199+Z199+AA199+AB199+AC199>0,\"Classe\",\"\"),IF(OR(AND(E199<>0,F199=0,SUM(N199:U199)=0,SUM(W199:AC199)=0,H199+K199=0,G199+J199=E199),AND(F199<>0,E199=0,SUM(N199:U199)=0,SUM(W199:AC199)=0,G199+J199=0,H199+K199=F199),AND(E199=0,F199=0,H199+K199<>0,H199+K199=SUM(W199:AC199),SUM(N199:U199)=0,(H199+K199)<>(G199+J199)),AND(E199=0,F199=0,G199+J199<>0,G199+J199=SUM(N199:U199),SUM(W199:AC199)=0,(H199+K199)<>(G199+J199)),AND(E199=0,F199=0,J199=0,N199+O199+P199+Q199+R199+S199+T199+U199+W199+X199+Y199+Z199+AA199+AB199+AC199=0,K199<>0,K199=G199),AND(E199=0,F199=0,J199<>0,N199+O199+P199+Q199+R199+S199+T199+U199+W199+X199+Y199+Z199+AA199+AB199+AC199=0,K199=0,J199=H199)),\"OK\",\"??\"))","v":""}]
[193,null,null,null,null,null,null,null,{"$f":"IF(D200=\"\",\"\",I199+G200-H200)","v":""},null,null,{"$f":"IF(D200=\"\",\"\",L199+J200-K200)","v":""},{"$f":"IF(D200=\"\",\"\",I200+L200)","v":""},null,null,null,null,null,null,null,null,{"$f":"IF(E200+F200+G200+H200+J200+K200=0,IF(N200+O200+P200+Q200+R200+S200+T200+U200+W200+X200+Y200+Z200+AA200+AB200+AC200>0,\"Classe\",\"\"),IF(OR(AND(E200<>0,F200=0,SUM(N200:U200)=0,SUM(W200:AC200)=0,H200+K200=0,G200+J200=E200),AND(F200<>0,E200=0,SUM(N200:U200)=0,SUM(W200:AC200)=0,G200+J200=0,H200+K200=F200),AND(E200=0,F200=0,H200+K200<>0,H200+K200=SUM(W200:AC200),SUM(N200:U200)=0,(H200+K200)<>(G200+J200)),AND(E200=0,F200=0,G200+J200<>0,G200+J200=SUM(N200:U200),SUM(W200:AC200)=0,(H200+K200)<>(G200+J200)),AND(E200=0,F200=0,J200=0,N200+O200+P200+Q200+R200+S200+T200+U200+W200+X200+Y200+Z200+AA200+AB200+AC200=0,K200<>0,K200=G200),AND(E200=0,F200=0,J200<>0,N200+O200+P200+Q200+R200+S200+T200+U200+W200+X200+Y200+Z200+AA200+AB200+AC200=0,K200=0,J200=H200)),\"OK\",\"??\"))","v":""}]
[194,null,null,null,null,null,null,null,{"$f":"IF(D201=\"\",\"\",I200+G201-H201)","v":""},null,null,{"$f":"IF(D201=\"\",\"\",L200+J201-K201)","v":""},{"$f":"IF(D201=\"\",\"\",I201+L201)","v":""},null,null,null,null,null,null,null,null,{"$f":"IF(E201+F201+G201+H201+J201+K201=0,IF(N201+O201+P201+Q201+R201+S201+T201+U201+W201+X201+Y201+Z201+AA201+AB201+AC201>0,\"Classe\",\"\"),IF(OR(AND(E201<>0,F201=0,SUM(N201:U201)=0,SUM(W201:AC201)=0,H201+K201=0,G201+J201=E201),AND(F201<>0,E201=0,SUM(N201:U201)=0,SUM(W201:AC201)=0,G201+J201=0,H201+K201=F201),AND(E201=0,F201=0,H201+K201<>0,H201+K201=SUM(W201:AC201),SUM(N201:U201)=0,(H201+K201)<>(G201+J201)),AND(E201=0,F201=0,G201+J201<>0,G201+J201=SUM(N201:U201),SUM(W201:AC201)=0,(H201+K201)<>(G201+J201)),AND(E201=0,F201=0,J201=0,N201+O201+P201+Q201+R201+S201+T201+U201+W201+X201+Y201+Z201+AA201+AB201+AC201=0,K201<>0,K201=G201),AND(E201=0,F201=0,J201<>0,N201+O201+P201+Q201+R201+S201+T201+U201+W201+X201+Y201+Z201+AA201+AB201+AC201=0,K201=0,J201=H201)),\"OK\",\"??\"))","v":""}]
[195,null,null,null,null,null,null,null,{"$f":"IF(D202=\"\",\"\",I201+G202-H202)","v":""},null,null,{"$f":"IF(D202=\"\",\"\",L201+J202-K202)","v":""},{"$f":"IF(D202=\"\",\"\",I202+L202)","v":""},null,null,null,null,null,null,null,null,{"$f":"IF(E202+F202+G202+H202+J202+K202=0,IF(N202+O202+P202+Q202+R202+S202+T202+U202+W202+X202+Y202+Z202+AA202+AB202+AC202>0,\"Classe\",\"\"),IF(OR(AND(E202<>0,F202=0,SUM(N202:U202)=0,SUM(W202:AC202)=0,H202+K202=0,G202+J202=E202),AND(F202<>0,E202=0,SUM(N202:U202)=0,SUM(W202:AC202)=0,G202+J202=0,H202+K202=F202),AND(E202=0,F202=0,H202+K202<>0,H202+K202=SUM(W202:AC202),SUM(N202:U202)=0,(H202+K202)<>(G202+J202)),AND(E202=0,F202=0,G202+J202<>0,G202+J202=SUM(N202:U202),SUM(W202:AC202)=0,(H202+K202)<>(G202+J202)),AND(E202=0,F202=0,J202=0,N202+O202+P202+Q202+R202+S202+T202+U202+W202+X202+Y202+Z202+AA202+AB202+AC202=0,K202<>0,K202=G202),AND(E202=0,F202=0,J202<>0,N202+O202+P202+Q202+R202+S202+T202+U202+W202+X202+Y202+Z202+AA202+AB202+AC202=0,K202=0,J202=H202)),\"OK\",\"??\"))","v":""}]
[196,null,null,null,null,null,null,null,{"$f":"IF(D203=\"\",\"\",I202+G203-H203)","v":""},null,null,{"$f":"IF(D203=\"\",\"\",L202+J203-K203)","v":""},{"$f":"IF(D203=\"\",\"\",I203+L203)","v":""},null,null,null,null,null,null,null,null,{"$f":"IF(E203+F203+G203+H203+J203+K203=0,IF(N203+O203+P203+Q203+R203+S203+T203+U203+W203+X203+Y203+Z203+AA203+AB203+AC203>0,\"Classe\",\"\"),IF(OR(AND(E203<>0,F203=0,SUM(N203:U203)=0,SUM(W203:AC203)=0,H203+K203=0,G203+J203=E203),AND(F203<>0,E203=0,SUM(N203:U203)=0,SUM(W203:AC203)=0,G203+J203=0,H203+K203=F203),AND(E203=0,F203=0,H203+K203<>0,H203+K203=SUM(W203:AC203),SUM(N203:U203)=0,(H203+K203)<>(G203+J203)),AND(E203=0,F203=0,G203+J203<>0,G203+J203=SUM(N203:U203),SUM(W203:AC203)=0,(H203+K203)<>(G203+J203)),AND(E203=0,F203=0,J203=0,N203+O203+P203+Q203+R203+S203+T203+U203+W203+X203+Y203+Z203+AA203+AB203+AC203=0,K203<>0,K203=G203),AND(E203=0,F203=0,J203<>0,N203+O203+P203+Q203+R203+S203+T203+U203+W203+X203+Y203+Z203+AA203+AB203+AC203=0,K203=0,J203=H203)),\"OK\",\"??\"))","v":""}]
[197,null,null,null,null,null,null,null,{"$f":"IF(D204=\"\",\"\",I203+G204-H204)","v":""},null,null,{"$f":"IF(D204=\"\",\"\",L203+J204-K204)","v":""},{"$f":"IF(D204=\"\",\"\",I204+L204)","v":""},null,null,null,null,null,null,null,null,{"$f":"IF(E204+F204+G204+H204+J204+K204=0,IF(N204+O204+P204+Q204+R204+S204+T204+U204+W204+X204+Y204+Z204+AA204+AB204+AC204>0,\"Classe\",\"\"),IF(OR(AND(E204<>0,F204=0,SUM(N204:U204)=0,SUM(W204:AC204)=0,H204+K204=0,G204+J204=E204),AND(F204<>0,E204=0,SUM(N204:U204)=0,SUM(W204:AC204)=0,G204+J204=0,H204+K204=F204),AND(E204=0,F204=0,H204+K204<>0,H204+K204=SUM(W204:AC204),SUM(N204:U204)=0,(H204+K204)<>(G204+J204)),AND(E204=0,F204=0,G204+J204<>0,G204+J204=SUM(N204:U204),SUM(W204:AC204)=0,(H204+K204)<>(G204+J204)),AND(E204=0,F204=0,J204=0,N204+O204+P204+Q204+R204+S204+T204+U204+W204+X204+Y204+Z204+AA204+AB204+AC204=0,K204<>0,K204=G204),AND(E204=0,F204=0,J204<>0,N204+O204+P204+Q204+R204+S204+T204+U204+W204+X204+Y204+Z204+AA204+AB204+AC204=0,K204=0,J204=H204)),\"OK\",\"??\"))","v":""}]
[198,null,null,null,null,null,null,null,{"$f":"IF(D205=\"\",\"\",I204+G205-H205)","v":""},null,null,{"$f":"IF(D205=\"\",\"\",L204+J205-K205)","v":""},{"$f":"IF(D205=\"\",\"\",I205+L205)","v":""},null,null,null,null,null,null,null,null,{"$f":"IF(E205+F205+G205+H205+J205+K205=0,IF(N205+O205+P205+Q205+R205+S205+T205+U205+W205+X205+Y205+Z205+AA205+AB205+AC205>0,\"Classe\",\"\"),IF(OR(AND(E205<>0,F205=0,SUM(N205:U205)=0,SUM(W205:AC205)=0,H205+K205=0,G205+J205=E205),AND(F205<>0,E205=0,SUM(N205:U205)=0,SUM(W205:AC205)=0,G205+J205=0,H205+K205=F205),AND(E205=0,F205=0,H205+K205<>0,H205+K205=SUM(W205:AC205),SUM(N205:U205)=0,(H205+K205)<>(G205+J205)),AND(E205=0,F205=0,G205+J205<>0,G205+J205=SUM(N205:U205),SUM(W205:AC205)=0,(H205+K205)<>(G205+J205)),AND(E205=0,F205=0,J205=0,N205+O205+P205+Q205+R205+S205+T205+U205+W205+X205+Y205+Z205+AA205+AB205+AC205=0,K205<>0,K205=G205),AND(E205=0,F205=0,J205<>0,N205+O205+P205+Q205+R205+S205+T205+U205+W205+X205+Y205+Z205+AA205+AB205+AC205=0,K205=0,J205=H205)),\"OK\",\"??\"))","v":""}]
[199,null,null,null,null,null,null,null,{"$f":"IF(D206=\"\",\"\",I205+G206-H206)","v":""},null,null,{"$f":"IF(D206=\"\",\"\",L205+J206-K206)","v":""},{"$f":"IF(D206=\"\",\"\",I206+L206)","v":""},null,null,null,null,null,null,null,null,{"$f":"IF(E206+F206+G206+H206+J206+K206=0,IF(N206+O206+P206+Q206+R206+S206+T206+U206+W206+X206+Y206+Z206+AA206+AB206+AC206>0,\"Classe\",\"\"),IF(OR(AND(E206<>0,F206=0,SUM(N206:U206)=0,SUM(W206:AC206)=0,H206+K206=0,G206+J206=E206),AND(F206<>0,E206=0,SUM(N206:U206)=0,SUM(W206:AC206)=0,G206+J206=0,H206+K206=F206),AND(E206=0,F206=0,H206+K206<>0,H206+K206=SUM(W206:AC206),SUM(N206:U206)=0,(H206+K206)<>(G206+J206)),AND(E206=0,F206=0,G206+J206<>0,G206+J206=SUM(N206:U206),SUM(W206:AC206)=0,(H206+K206)<>(G206+J206)),AND(E206=0,F206=0,J206=0,N206+O206+P206+Q206+R206+S206+T206+U206+W206+X206+Y206+Z206+AA206+AB206+AC206=0,K206<>0,K206=G206),AND(E206=0,F206=0,J206<>0,N206+O206+P206+Q206+R206+S206+T206+U206+W206+X206+Y206+Z206+AA206+AB206+AC206=0,K206=0,J206=H206)),\"OK\",\"??\"))","v":""}]
[200,null,null,null,null,null,null,null,{"$f":"IF(D207=\"\",\"\",I206+G207-H207)","v":""},null,null,{"$f":"IF(D207=\"\",\"\",L206+J207-K207)","v":""},{"$f":"IF(D207=\"\",\"\",I207+L207)","v":""},null,null,null,null,null,null,null,null,{"$f":"IF(E207+F207+G207+H207+J207+K207=0,IF(N207+O207+P207+Q207+R207+S207+T207+U207+W207+X207+Y207+Z207+AA207+AB207+AC207>0,\"Classe\",\"\"),IF(OR(AND(E207<>0,F207=0,SUM(N207:U207)=0,SUM(W207:AC207)=0,H207+K207=0,G207+J207=E207),AND(F207<>0,E207=0,SUM(N207:U207)=0,SUM(W207:AC207)=0,G207+J207=0,H207+K207=F207),AND(E207=0,F207=0,H207+K207<>0,H207+K207=SUM(W207:AC207),SUM(N207:U207)=0,(H207+K207)<>(G207+J207)),AND(E207=0,F207=0,G207+J207<>0,G207+J207=SUM(N207:U207),SUM(W207:AC207)=0,(H207+K207)<>(G207+J207)),AND(E207=0,F207=0,J207=0,N207+O207+P207+Q207+R207+S207+T207+U207+W207+X207+Y207+Z207+AA207+AB207+AC207=0,K207<>0,K207=G207),AND(E207=0,F207=0,J207<>0,N207+O207+P207+Q207+R207+S207+T207+U207+W207+X207+Y207+Z207+AA207+AB207+AC207=0,K207=0,J207=H207)),\"OK\",\"??\"))","v":""}]
[201,null,null,null,null,null,null,null,{"$f":"IF(D208=\"\",\"\",I207+G208-H208)","v":""},null,null,{"$f":"IF(D208=\"\",\"\",L207+J208-K208)","v":""},{"$f":"IF(D208=\"\",\"\",I208+L208)","v":""},null,null,null,null,null,null,null,null,{"$f":"IF(E208+F208+G208+H208+J208+K208=0,IF(N208+O208+P208+Q208+R208+S208+T208+U208+W208+X208+Y208+Z208+AA208+AB208+AC208>0,\"Classe\",\"\"),IF(OR(AND(E208<>0,F208=0,SUM(N208:U208)=0,SUM(W208:AC208)=0,H208+K208=0,G208+J208=E208),AND(F208<>0,E208=0,SUM(N208:U208)=0,SUM(W208:AC208)=0,G208+J208=0,H208+K208=F208),AND(E208=0,F208=0,H208+K208<>0,H208+K208=SUM(W208:AC208),SUM(N208:U208)=0,(H208+K208)<>(G208+J208)),AND(E208=0,F208=0,G208+J208<>0,G208+J208=SUM(N208:U208),SUM(W208:AC208)=0,(H208+K208)<>(G208+J208)),AND(E208=0,F208=0,J208=0,N208+O208+P208+Q208+R208+S208+T208+U208+W208+X208+Y208+Z208+AA208+AB208+AC208=0,K208<>0,K208=G208),AND(E208=0,F208=0,J208<>0,N208+O208+P208+Q208+R208+S208+T208+U208+W208+X208+Y208+Z208+AA208+AB208+AC208=0,K208=0,J208=H208)),\"OK\",\"??\"))","v":""}]
[202,null,null,null,null,null,null,null,{"$f":"IF(D209=\"\",\"\",I208+G209-H209)","v":""},null,null,{"$f":"IF(D209=\"\",\"\",L208+J209-K209)","v":""},{"$f":"IF(D209=\"\",\"\",I209+L209)","v":""},null,null,null,null,null,null,null,null,{"$f":"IF(E209+F209+G209+H209+J209+K209=0,IF(N209+O209+P209+Q209+R209+S209+T209+U209+W209+X209+Y209+Z209+AA209+AB209+AC209>0,\"Classe\",\"\"),IF(OR(AND(E209<>0,F209=0,SUM(N209:U209)=0,SUM(W209:AC209)=0,H209+K209=0,G209+J209=E209),AND(F209<>0,E209=0,SUM(N209:U209)=0,SUM(W209:AC209)=0,G209+J209=0,H209+K209=F209),AND(E209=0,F209=0,H209+K209<>0,H209+K209=SUM(W209:AC209),SUM(N209:U209)=0,(H209+K209)<>(G209+J209)),AND(E209=0,F209=0,G209+J209<>0,G209+J209=SUM(N209:U209),SUM(W209:AC209)=0,(H209+K209)<>(G209+J209)),AND(E209=0,F209=0,J209=0,N209+O209+P209+Q209+R209+S209+T209+U209+W209+X209+Y209+Z209+AA209+AB209+AC209=0,K209<>0,K209=G209),AND(E209=0,F209=0,J209<>0,N209+O209+P209+Q209+R209+S209+T209+U209+W209+X209+Y209+Z209+AA209+AB209+AC209=0,K209=0,J209=H209)),\"OK\",\"??\"))","v":""}]
[203,null,null,null,null,null,null,null,{"$f":"IF(D210=\"\",\"\",I209+G210-H210)","v":""},null,null,{"$f":"IF(D210=\"\",\"\",L209+J210-K210)","v":""},{"$f":"IF(D210=\"\",\"\",I210+L210)","v":""},null,null,null,null,null,null,null,null,{"$f":"IF(E210+F210+G210+H210+J210+K210=0,IF(N210+O210+P210+Q210+R210+S210+T210+U210+W210+X210+Y210+Z210+AA210+AB210+AC210>0,\"Classe\",\"\"),IF(OR(AND(E210<>0,F210=0,SUM(N210:U210)=0,SUM(W210:AC210)=0,H210+K210=0,G210+J210=E210),AND(F210<>0,E210=0,SUM(N210:U210)=0,SUM(W210:AC210)=0,G210+J210=0,H210+K210=F210),AND(E210=0,F210=0,H210+K210<>0,H210+K210=SUM(W210:AC210),SUM(N210:U210)=0,(H210+K210)<>(G210+J210)),AND(E210=0,F210=0,G210+J210<>0,G210+J210=SUM(N210:U210),SUM(W210:AC210)=0,(H210+K210)<>(G210+J210)),AND(E210=0,F210=0,J210=0,N210+O210+P210+Q210+R210+S210+T210+U210+W210+X210+Y210+Z210+AA210+AB210+AC210=0,K210<>0,K210=G210),AND(E210=0,F210=0,J210<>0,N210+O210+P210+Q210+R210+S210+T210+U210+W210+X210+Y210+Z210+AA210+AB210+AC210=0,K210=0,J210=H210)),\"OK\",\"??\"))","v":""}]
[204,null,null,null,null,null,null,null,{"$f":"IF(D211=\"\",\"\",I210+G211-H211)","v":""},null,null,{"$f":"IF(D211=\"\",\"\",L210+J211-K211)","v":""},{"$f":"IF(D211=\"\",\"\",I211+L211)","v":""},null,null,null,null,null,null,null,null,{"$f":"IF(E211+F211+G211+H211+J211+K211=0,IF(N211+O211+P211+Q211+R211+S211+T211+U211+W211+X211+Y211+Z211+AA211+AB211+AC211>0,\"Classe\",\"\"),IF(OR(AND(E211<>0,F211=0,SUM(N211:U211)=0,SUM(W211:AC211)=0,H211+K211=0,G211+J211=E211),AND(F211<>0,E211=0,SUM(N211:U211)=0,SUM(W211:AC211)=0,G211+J211=0,H211+K211=F211),AND(E211=0,F211=0,H211+K211<>0,H211+K211=SUM(W211:AC211),SUM(N211:U211)=0,(H211+K211)<>(G211+J211)),AND(E211=0,F211=0,G211+J211<>0,G211+J211=SUM(N211:U211),SUM(W211:AC211)=0,(H211+K211)<>(G211+J211)),AND(E211=0,F211=0,J211=0,N211+O211+P211+Q211+R211+S211+T211+U211+W211+X211+Y211+Z211+AA211+AB211+AC211=0,K211<>0,K211=G211),AND(E211=0,F211=0,J211<>0,N211+O211+P211+Q211+R211+S211+T211+U211+W211+X211+Y211+Z211+AA211+AB211+AC211=0,K211=0,J211=H211)),\"OK\",\"??\"))","v":""}]
[205,null,null,null,null,null,null,null,{"$f":"IF(D212=\"\",\"\",I211+G212-H212)","v":""},null,null,{"$f":"IF(D212=\"\",\"\",L211+J212-K212)","v":""},{"$f":"IF(D212=\"\",\"\",I212+L212)","v":""},null,null,null,null,null,null,null,null,{"$f":"IF(E212+F212+G212+H212+J212+K212=0,IF(N212+O212+P212+Q212+R212+S212+T212+U212+W212+X212+Y212+Z212+AA212+AB212+AC212>0,\"Classe\",\"\"),IF(OR(AND(E212<>0,F212=0,SUM(N212:U212)=0,SUM(W212:AC212)=0,H212+K212=0,G212+J212=E212),AND(F212<>0,E212=0,SUM(N212:U212)=0,SUM(W212:AC212)=0,G212+J212=0,H212+K212=F212),AND(E212=0,F212=0,H212+K212<>0,H212+K212=SUM(W212:AC212),SUM(N212:U212)=0,(H212+K212)<>(G212+J212)),AND(E212=0,F212=0,G212+J212<>0,G212+J212=SUM(N212:U212),SUM(W212:AC212)=0,(H212+K212)<>(G212+J212)),AND(E212=0,F212=0,J212=0,N212+O212+P212+Q212+R212+S212+T212+U212+W212+X212+Y212+Z212+AA212+AB212+AC212=0,K212<>0,K212=G212),AND(E212=0,F212=0,J212<>0,N212+O212+P212+Q212+R212+S212+T212+U212+W212+X212+Y212+Z212+AA212+AB212+AC212=0,K212=0,J212=H212)),\"OK\",\"??\"))","v":""}]
[206,null,null,null,null,null,null,null,{"$f":"IF(D213=\"\",\"\",I212+G213-H213)","v":""},null,null,{"$f":"IF(D213=\"\",\"\",L212+J213-K213)","v":""},{"$f":"IF(D213=\"\",\"\",I213+L213)","v":""},null,null,null,null,null,null,null,null,{"$f":"IF(E213+F213+G213+H213+J213+K213=0,IF(N213+O213+P213+Q213+R213+S213+T213+U213+W213+X213+Y213+Z213+AA213+AB213+AC213>0,\"Classe\",\"\"),IF(OR(AND(E213<>0,F213=0,SUM(N213:U213)=0,SUM(W213:AC213)=0,H213+K213=0,G213+J213=E213),AND(F213<>0,E213=0,SUM(N213:U213)=0,SUM(W213:AC213)=0,G213+J213=0,H213+K213=F213),AND(E213=0,F213=0,H213+K213<>0,H213+K213=SUM(W213:AC213),SUM(N213:U213)=0,(H213+K213)<>(G213+J213)),AND(E213=0,F213=0,G213+J213<>0,G213+J213=SUM(N213:U213),SUM(W213:AC213)=0,(H213+K213)<>(G213+J213)),AND(E213=0,F213=0,J213=0,N213+O213+P213+Q213+R213+S213+T213+U213+W213+X213+Y213+Z213+AA213+AB213+AC213=0,K213<>0,K213=G213),AND(E213=0,F213=0,J213<>0,N213+O213+P213+Q213+R213+S213+T213+U213+W213+X213+Y213+Z213+AA213+AB213+AC213=0,K213=0,J213=H213)),\"OK\",\"??\"))","v":""}]
[207,null,null,null,null,null,null,null,{"$f":"IF(D214=\"\",\"\",I213+G214-H214)","v":""},null,null,{"$f":"IF(D214=\"\",\"\",L213+J214-K214)","v":""},{"$f":"IF(D214=\"\",\"\",I214+L214)","v":""},null,null,null,null,null,null,null,null,{"$f":"IF(E214+F214+G214+H214+J214+K214=0,IF(N214+O214+P214+Q214+R214+S214+T214+U214+W214+X214+Y214+Z214+AA214+AB214+AC214>0,\"Classe\",\"\"),IF(OR(AND(E214<>0,F214=0,SUM(N214:U214)=0,SUM(W214:AC214)=0,H214+K214=0,G214+J214=E214),AND(F214<>0,E214=0,SUM(N214:U214)=0,SUM(W214:AC214)=0,G214+J214=0,H214+K214=F214),AND(E214=0,F214=0,H214+K214<>0,H214+K214=SUM(W214:AC214),SUM(N214:U214)=0,(H214+K214)<>(G214+J214)),AND(E214=0,F214=0,G214+J214<>0,G214+J214=SUM(N214:U214),SUM(W214:AC214)=0,(H214+K214)<>(G214+J214)),AND(E214=0,F214=0,J214=0,N214+O214+P214+Q214+R214+S214+T214+U214+W214+X214+Y214+Z214+AA214+AB214+AC214=0,K214<>0,K214=G214),AND(E214=0,F214=0,J214<>0,N214+O214+P214+Q214+R214+S214+T214+U214+W214+X214+Y214+Z214+AA214+AB214+AC214=0,K214=0,J214=H214)),\"OK\",\"??\"))","v":""}]
[208,null,null,null,null,null,null,null,{"$f":"IF(D215=\"\",\"\",I214+G215-H215)","v":""},null,null,{"$f":"IF(D215=\"\",\"\",L214+J215-K215)","v":""},{"$f":"IF(D215=\"\",\"\",I215+L215)","v":""},null,null,null,null,null,null,null,null,{"$f":"IF(E215+F215+G215+H215+J215+K215=0,IF(N215+O215+P215+Q215+R215+S215+T215+U215+W215+X215+Y215+Z215+AA215+AB215+AC215>0,\"Classe\",\"\"),IF(OR(AND(E215<>0,F215=0,SUM(N215:U215)=0,SUM(W215:AC215)=0,H215+K215=0,G215+J215=E215),AND(F215<>0,E215=0,SUM(N215:U215)=0,SUM(W215:AC215)=0,G215+J215=0,H215+K215=F215),AND(E215=0,F215=0,H215+K215<>0,H215+K215=SUM(W215:AC215),SUM(N215:U215)=0,(H215+K215)<>(G215+J215)),AND(E215=0,F215=0,G215+J215<>0,G215+J215=SUM(N215:U215),SUM(W215:AC215)=0,(H215+K215)<>(G215+J215)),AND(E215=0,F215=0,J215=0,N215+O215+P215+Q215+R215+S215+T215+U215+W215+X215+Y215+Z215+AA215+AB215+AC215=0,K215<>0,K215=G215),AND(E215=0,F215=0,J215<>0,N215+O215+P215+Q215+R215+S215+T215+U215+W215+X215+Y215+Z215+AA215+AB215+AC215=0,K215=0,J215=H215)),\"OK\",\"??\"))","v":""}]
[209,null,null,null,null,null,null,null,{"$f":"IF(D216=\"\",\"\",I215+G216-H216)","v":""},null,null,{"$f":"IF(D216=\"\",\"\",L215+J216-K216)","v":""},{"$f":"IF(D216=\"\",\"\",I216+L216)","v":""},null,null,null,null,null,null,null,null,{"$f":"IF(E216+F216+G216+H216+J216+K216=0,IF(N216+O216+P216+Q216+R216+S216+T216+U216+W216+X216+Y216+Z216+AA216+AB216+AC216>0,\"Classe\",\"\"),IF(OR(AND(E216<>0,F216=0,SUM(N216:U216)=0,SUM(W216:AC216)=0,H216+K216=0,G216+J216=E216),AND(F216<>0,E216=0,SUM(N216:U216)=0,SUM(W216:AC216)=0,G216+J216=0,H216+K216=F216),AND(E216=0,F216=0,H216+K216<>0,H216+K216=SUM(W216:AC216),SUM(N216:U216)=0,(H216+K216)<>(G216+J216)),AND(E216=0,F216=0,G216+J216<>0,G216+J216=SUM(N216:U216),SUM(W216:AC216)=0,(H216+K216)<>(G216+J216)),AND(E216=0,F216=0,J216=0,N216+O216+P216+Q216+R216+S216+T216+U216+W216+X216+Y216+Z216+AA216+AB216+AC216=0,K216<>0,K216=G216),AND(E216=0,F216=0,J216<>0,N216+O216+P216+Q216+R216+S216+T216+U216+W216+X216+Y216+Z216+AA216+AB216+AC216=0,K216=0,J216=H216)),\"OK\",\"??\"))","v":""}]
[210,null,null,null,null,null,null,null,{"$f":"IF(D217=\"\",\"\",I216+G217-H217)","v":""},null,null,{"$f":"IF(D217=\"\",\"\",L216+J217-K217)","v":""},{"$f":"IF(D217=\"\",\"\",I217+L217)","v":""},null,null,null,null,null,null,null,null,{"$f":"IF(E217+F217+G217+H217+J217+K217=0,IF(N217+O217+P217+Q217+R217+S217+T217+U217+W217+X217+Y217+Z217+AA217+AB217+AC217>0,\"Classe\",\"\"),IF(OR(AND(E217<>0,F217=0,SUM(N217:U217)=0,SUM(W217:AC217)=0,H217+K217=0,G217+J217=E217),AND(F217<>0,E217=0,SUM(N217:U217)=0,SUM(W217:AC217)=0,G217+J217=0,H217+K217=F217),AND(E217=0,F217=0,H217+K217<>0,H217+K217=SUM(W217:AC217),SUM(N217:U217)=0,(H217+K217)<>(G217+J217)),AND(E217=0,F217=0,G217+J217<>0,G217+J217=SUM(N217:U217),SUM(W217:AC217)=0,(H217+K217)<>(G217+J217)),AND(E217=0,F217=0,J217=0,N217+O217+P217+Q217+R217+S217+T217+U217+W217+X217+Y217+Z217+AA217+AB217+AC217=0,K217<>0,K217=G217),AND(E217=0,F217=0,J217<>0,N217+O217+P217+Q217+R217+S217+T217+U217+W217+X217+Y217+Z217+AA217+AB217+AC217=0,K217=0,J217=H217)),\"OK\",\"??\"))","v":""}]
[211,null,null,null,null,null,null,null,{"$f":"IF(D218=\"\",\"\",I217+G218-H218)","v":""},null,null,{"$f":"IF(D218=\"\",\"\",L217+J218-K218)","v":""},{"$f":"IF(D218=\"\",\"\",I218+L218)","v":""},null,null,null,null,null,null,null,null,{"$f":"IF(E218+F218+G218+H218+J218+K218=0,IF(N218+O218+P218+Q218+R218+S218+T218+U218+W218+X218+Y218+Z218+AA218+AB218+AC218>0,\"Classe\",\"\"),IF(OR(AND(E218<>0,F218=0,SUM(N218:U218)=0,SUM(W218:AC218)=0,H218+K218=0,G218+J218=E218),AND(F218<>0,E218=0,SUM(N218:U218)=0,SUM(W218:AC218)=0,G218+J218=0,H218+K218=F218),AND(E218=0,F218=0,H218+K218<>0,H218+K218=SUM(W218:AC218),SUM(N218:U218)=0,(H218+K218)<>(G218+J218)),AND(E218=0,F218=0,G218+J218<>0,G218+J218=SUM(N218:U218),SUM(W218:AC218)=0,(H218+K218)<>(G218+J218)),AND(E218=0,F218=0,J218=0,N218+O218+P218+Q218+R218+S218+T218+U218+W218+X218+Y218+Z218+AA218+AB218+AC218=0,K218<>0,K218=G218),AND(E218=0,F218=0,J218<>0,N218+O218+P218+Q218+R218+S218+T218+U218+W218+X218+Y218+Z218+AA218+AB218+AC218=0,K218=0,J218=H218)),\"OK\",\"??\"))","v":""}]
[212,null,null,null,null,null,null,null,{"$f":"IF(D219=\"\",\"\",I218+G219-H219)","v":""},null,null,{"$f":"IF(D219=\"\",\"\",L218+J219-K219)","v":""},{"$f":"IF(D219=\"\",\"\",I219+L219)","v":""},null,null,null,null,null,null,null,null,{"$f":"IF(E219+F219+G219+H219+J219+K219=0,IF(N219+O219+P219+Q219+R219+S219+T219+U219+W219+X219+Y219+Z219+AA219+AB219+AC219>0,\"Classe\",\"\"),IF(OR(AND(E219<>0,F219=0,SUM(N219:U219)=0,SUM(W219:AC219)=0,H219+K219=0,G219+J219=E219),AND(F219<>0,E219=0,SUM(N219:U219)=0,SUM(W219:AC219)=0,G219+J219=0,H219+K219=F219),AND(E219=0,F219=0,H219+K219<>0,H219+K219=SUM(W219:AC219),SUM(N219:U219)=0,(H219+K219)<>(G219+J219)),AND(E219=0,F219=0,G219+J219<>0,G219+J219=SUM(N219:U219),SUM(W219:AC219)=0,(H219+K219)<>(G219+J219)),AND(E219=0,F219=0,J219=0,N219+O219+P219+Q219+R219+S219+T219+U219+W219+X219+Y219+Z219+AA219+AB219+AC219=0,K219<>0,K219=G219),AND(E219=0,F219=0,J219<>0,N219+O219+P219+Q219+R219+S219+T219+U219+W219+X219+Y219+Z219+AA219+AB219+AC219=0,K219=0,J219=H219)),\"OK\",\"??\"))","v":""}]
[213,null,null,null,null,null,null,null,{"$f":"IF(D220=\"\",\"\",I219+G220-H220)","v":""},null,null,{"$f":"IF(D220=\"\",\"\",L219+J220-K220)","v":""},{"$f":"IF(D220=\"\",\"\",I220+L220)","v":""},null,null,null,null,null,null,null,null,{"$f":"IF(E220+F220+G220+H220+J220+K220=0,IF(N220+O220+P220+Q220+R220+S220+T220+U220+W220+X220+Y220+Z220+AA220+AB220+AC220>0,\"Classe\",\"\"),IF(OR(AND(E220<>0,F220=0,SUM(N220:U220)=0,SUM(W220:AC220)=0,H220+K220=0,G220+J220=E220),AND(F220<>0,E220=0,SUM(N220:U220)=0,SUM(W220:AC220)=0,G220+J220=0,H220+K220=F220),AND(E220=0,F220=0,H220+K220<>0,H220+K220=SUM(W220:AC220),SUM(N220:U220)=0,(H220+K220)<>(G220+J220)),AND(E220=0,F220=0,G220+J220<>0,G220+J220=SUM(N220:U220),SUM(W220:AC220)=0,(H220+K220)<>(G220+J220)),AND(E220=0,F220=0,J220=0,N220+O220+P220+Q220+R220+S220+T220+U220+W220+X220+Y220+Z220+AA220+AB220+AC220=0,K220<>0,K220=G220),AND(E220=0,F220=0,J220<>0,N220+O220+P220+Q220+R220+S220+T220+U220+W220+X220+Y220+Z220+AA220+AB220+AC220=0,K220=0,J220=H220)),\"OK\",\"??\"))","v":""}]
[214,null,null,null,null,null,null,null,{"$f":"IF(D221=\"\",\"\",I220+G221-H221)","v":""},null,null,{"$f":"IF(D221=\"\",\"\",L220+J221-K221)","v":""},{"$f":"IF(D221=\"\",\"\",I221+L221)","v":""},null,null,null,null,null,null,null,null,{"$f":"IF(E221+F221+G221+H221+J221+K221=0,IF(N221+O221+P221+Q221+R221+S221+T221+U221+W221+X221+Y221+Z221+AA221+AB221+AC221>0,\"Classe\",\"\"),IF(OR(AND(E221<>0,F221=0,SUM(N221:U221)=0,SUM(W221:AC221)=0,H221+K221=0,G221+J221=E221),AND(F221<>0,E221=0,SUM(N221:U221)=0,SUM(W221:AC221)=0,G221+J221=0,H221+K221=F221),AND(E221=0,F221=0,H221+K221<>0,H221+K221=SUM(W221:AC221),SUM(N221:U221)=0,(H221+K221)<>(G221+J221)),AND(E221=0,F221=0,G221+J221<>0,G221+J221=SUM(N221:U221),SUM(W221:AC221)=0,(H221+K221)<>(G221+J221)),AND(E221=0,F221=0,J221=0,N221+O221+P221+Q221+R221+S221+T221+U221+W221+X221+Y221+Z221+AA221+AB221+AC221=0,K221<>0,K221=G221),AND(E221=0,F221=0,J221<>0,N221+O221+P221+Q221+R221+S221+T221+U221+W221+X221+Y221+Z221+AA221+AB221+AC221=0,K221=0,J221=H221)),\"OK\",\"??\"))","v":""}]
[215,null,null,null,null,null,null,null,{"$f":"IF(D222=\"\",\"\",I221+G222-H222)","v":""},null,null,{"$f":"IF(D222=\"\",\"\",L221+J222-K222)","v":""},{"$f":"IF(D222=\"\",\"\",I222+L222)","v":""},null,null,null,null,null,null,null,null,{"$f":"IF(E222+F222+G222+H222+J222+K222=0,IF(N222+O222+P222+Q222+R222+S222+T222+U222+W222+X222+Y222+Z222+AA222+AB222+AC222>0,\"Classe\",\"\"),IF(OR(AND(E222<>0,F222=0,SUM(N222:U222)=0,SUM(W222:AC222)=0,H222+K222=0,G222+J222=E222),AND(F222<>0,E222=0,SUM(N222:U222)=0,SUM(W222:AC222)=0,G222+J222=0,H222+K222=F222),AND(E222=0,F222=0,H222+K222<>0,H222+K222=SUM(W222:AC222),SUM(N222:U222)=0,(H222+K222)<>(G222+J222)),AND(E222=0,F222=0,G222+J222<>0,G222+J222=SUM(N222:U222),SUM(W222:AC222)=0,(H222+K222)<>(G222+J222)),AND(E222=0,F222=0,J222=0,N222+O222+P222+Q222+R222+S222+T222+U222+W222+X222+Y222+Z222+AA222+AB222+AC222=0,K222<>0,K222=G222),AND(E222=0,F222=0,J222<>0,N222+O222+P222+Q222+R222+S222+T222+U222+W222+X222+Y222+Z222+AA222+AB222+AC222=0,K222=0,J222=H222)),\"OK\",\"??\"))","v":""}]
[216,null,null,null,null,null,null,null,{"$f":"IF(D223=\"\",\"\",I222+G223-H223)","v":""},null,null,{"$f":"IF(D223=\"\",\"\",L222+J223-K223)","v":""},{"$f":"IF(D223=\"\",\"\",I223+L223)","v":""},null,null,null,null,null,null,null,null,{"$f":"IF(E223+F223+G223+H223+J223+K223=0,IF(N223+O223+P223+Q223+R223+S223+T223+U223+W223+X223+Y223+Z223+AA223+AB223+AC223>0,\"Classe\",\"\"),IF(OR(AND(E223<>0,F223=0,SUM(N223:U223)=0,SUM(W223:AC223)=0,H223+K223=0,G223+J223=E223),AND(F223<>0,E223=0,SUM(N223:U223)=0,SUM(W223:AC223)=0,G223+J223=0,H223+K223=F223),AND(E223=0,F223=0,H223+K223<>0,H223+K223=SUM(W223:AC223),SUM(N223:U223)=0,(H223+K223)<>(G223+J223)),AND(E223=0,F223=0,G223+J223<>0,G223+J223=SUM(N223:U223),SUM(W223:AC223)=0,(H223+K223)<>(G223+J223)),AND(E223=0,F223=0,J223=0,N223+O223+P223+Q223+R223+S223+T223+U223+W223+X223+Y223+Z223+AA223+AB223+AC223=0,K223<>0,K223=G223),AND(E223=0,F223=0,J223<>0,N223+O223+P223+Q223+R223+S223+T223+U223+W223+X223+Y223+Z223+AA223+AB223+AC223=0,K223=0,J223=H223)),\"OK\",\"??\"))","v":""}]
[217,null,null,null,null,null,null,null,{"$f":"IF(D224=\"\",\"\",I223+G224-H224)","v":""},null,null,{"$f":"IF(D224=\"\",\"\",L223+J224-K224)","v":""},{"$f":"IF(D224=\"\",\"\",I224+L224)","v":""},null,null,null,null,null,null,null,null,{"$f":"IF(E224+F224+G224+H224+J224+K224=0,IF(N224+O224+P224+Q224+R224+S224+T224+U224+W224+X224+Y224+Z224+AA224+AB224+AC224>0,\"Classe\",\"\"),IF(OR(AND(E224<>0,F224=0,SUM(N224:U224)=0,SUM(W224:AC224)=0,H224+K224=0,G224+J224=E224),AND(F224<>0,E224=0,SUM(N224:U224)=0,SUM(W224:AC224)=0,G224+J224=0,H224+K224=F224),AND(E224=0,F224=0,H224+K224<>0,H224+K224=SUM(W224:AC224),SUM(N224:U224)=0,(H224+K224)<>(G224+J224)),AND(E224=0,F224=0,G224+J224<>0,G224+J224=SUM(N224:U224),SUM(W224:AC224)=0,(H224+K224)<>(G224+J224)),AND(E224=0,F224=0,J224=0,N224+O224+P224+Q224+R224+S224+T224+U224+W224+X224+Y224+Z224+AA224+AB224+AC224=0,K224<>0,K224=G224),AND(E224=0,F224=0,J224<>0,N224+O224+P224+Q224+R224+S224+T224+U224+W224+X224+Y224+Z224+AA224+AB224+AC224=0,K224=0,J224=H224)),\"OK\",\"??\"))","v":""}]
[218,null,null,null,null,null,null,null,{"$f":"IF(D225=\"\",\"\",I224+G225-H225)","v":""},null,null,{"$f":"IF(D225=\"\",\"\",L224+J225-K225)","v":""},{"$f":"IF(D225=\"\",\"\",I225+L225)","v":""},null,null,null,null,null,null,null,null,{"$f":"IF(E225+F225+G225+H225+J225+K225=0,IF(N225+O225+P225+Q225+R225+S225+T225+U225+W225+X225+Y225+Z225+AA225+AB225+AC225>0,\"Classe\",\"\"),IF(OR(AND(E225<>0,F225=0,SUM(N225:U225)=0,SUM(W225:AC225)=0,H225+K225=0,G225+J225=E225),AND(F225<>0,E225=0,SUM(N225:U225)=0,SUM(W225:AC225)=0,G225+J225=0,H225+K225=F225),AND(E225=0,F225=0,H225+K225<>0,H225+K225=SUM(W225:AC225),SUM(N225:U225)=0,(H225+K225)<>(G225+J225)),AND(E225=0,F225=0,G225+J225<>0,G225+J225=SUM(N225:U225),SUM(W225:AC225)=0,(H225+K225)<>(G225+J225)),AND(E225=0,F225=0,J225=0,N225+O225+P225+Q225+R225+S225+T225+U225+W225+X225+Y225+Z225+AA225+AB225+AC225=0,K225<>0,K225=G225),AND(E225=0,F225=0,J225<>0,N225+O225+P225+Q225+R225+S225+T225+U225+W225+X225+Y225+Z225+AA225+AB225+AC225=0,K225=0,J225=H225)),\"OK\",\"??\"))","v":""}]
[219,null,null,null,null,null,null,null,{"$f":"IF(D226=\"\",\"\",I225+G226-H226)","v":""},null,null,{"$f":"IF(D226=\"\",\"\",L225+J226-K226)","v":""},{"$f":"IF(D226=\"\",\"\",I226+L226)","v":""},null,null,null,null,null,null,null,null,{"$f":"IF(E226+F226+G226+H226+J226+K226=0,IF(N226+O226+P226+Q226+R226+S226+T226+U226+W226+X226+Y226+Z226+AA226+AB226+AC226>0,\"Classe\",\"\"),IF(OR(AND(E226<>0,F226=0,SUM(N226:U226)=0,SUM(W226:AC226)=0,H226+K226=0,G226+J226=E226),AND(F226<>0,E226=0,SUM(N226:U226)=0,SUM(W226:AC226)=0,G226+J226=0,H226+K226=F226),AND(E226=0,F226=0,H226+K226<>0,H226+K226=SUM(W226:AC226),SUM(N226:U226)=0,(H226+K226)<>(G226+J226)),AND(E226=0,F226=0,G226+J226<>0,G226+J226=SUM(N226:U226),SUM(W226:AC226)=0,(H226+K226)<>(G226+J226)),AND(E226=0,F226=0,J226=0,N226+O226+P226+Q226+R226+S226+T226+U226+W226+X226+Y226+Z226+AA226+AB226+AC226=0,K226<>0,K226=G226),AND(E226=0,F226=0,J226<>0,N226+O226+P226+Q226+R226+S226+T226+U226+W226+X226+Y226+Z226+AA226+AB226+AC226=0,K226=0,J226=H226)),\"OK\",\"??\"))","v":""}]
[220,null,null,null,null,null,null,null,{"$f":"IF(D227=\"\",\"\",I226+G227-H227)","v":""},null,null,{"$f":"IF(D227=\"\",\"\",L226+J227-K227)","v":""},{"$f":"IF(D227=\"\",\"\",I227+L227)","v":""},null,null,null,null,null,null,null,null,{"$f":"IF(E227+F227+G227+H227+J227+K227=0,IF(N227+O227+P227+Q227+R227+S227+T227+U227+W227+X227+Y227+Z227+AA227+AB227+AC227>0,\"Classe\",\"\"),IF(OR(AND(E227<>0,F227=0,SUM(N227:U227)=0,SUM(W227:AC227)=0,H227+K227=0,G227+J227=E227),AND(F227<>0,E227=0,SUM(N227:U227)=0,SUM(W227:AC227)=0,G227+J227=0,H227+K227=F227),AND(E227=0,F227=0,H227+K227<>0,H227+K227=SUM(W227:AC227),SUM(N227:U227)=0,(H227+K227)<>(G227+J227)),AND(E227=0,F227=0,G227+J227<>0,G227+J227=SUM(N227:U227),SUM(W227:AC227)=0,(H227+K227)<>(G227+J227)),AND(E227=0,F227=0,J227=0,N227+O227+P227+Q227+R227+S227+T227+U227+W227+X227+Y227+Z227+AA227+AB227+AC227=0,K227<>0,K227=G227),AND(E227=0,F227=0,J227<>0,N227+O227+P227+Q227+R227+S227+T227+U227+W227+X227+Y227+Z227+AA227+AB227+AC227=0,K227=0,J227=H227)),\"OK\",\"??\"))","v":""}]
[221,null,null,null,null,null,null,null,{"$f":"IF(D228=\"\",\"\",I227+G228-H228)","v":""},null,null,{"$f":"IF(D228=\"\",\"\",L227+J228-K228)","v":""},{"$f":"IF(D228=\"\",\"\",I228+L228)","v":""},null,null,null,null,null,null,null,null,{"$f":"IF(E228+F228+G228+H228+J228+K228=0,IF(N228+O228+P228+Q228+R228+S228+T228+U228+W228+X228+Y228+Z228+AA228+AB228+AC228>0,\"Classe\",\"\"),IF(OR(AND(E228<>0,F228=0,SUM(N228:U228)=0,SUM(W228:AC228)=0,H228+K228=0,G228+J228=E228),AND(F228<>0,E228=0,SUM(N228:U228)=0,SUM(W228:AC228)=0,G228+J228=0,H228+K228=F228),AND(E228=0,F228=0,H228+K228<>0,H228+K228=SUM(W228:AC228),SUM(N228:U228)=0,(H228+K228)<>(G228+J228)),AND(E228=0,F228=0,G228+J228<>0,G228+J228=SUM(N228:U228),SUM(W228:AC228)=0,(H228+K228)<>(G228+J228)),AND(E228=0,F228=0,J228=0,N228+O228+P228+Q228+R228+S228+T228+U228+W228+X228+Y228+Z228+AA228+AB228+AC228=0,K228<>0,K228=G228),AND(E228=0,F228=0,J228<>0,N228+O228+P228+Q228+R228+S228+T228+U228+W228+X228+Y228+Z228+AA228+AB228+AC228=0,K228=0,J228=H228)),\"OK\",\"??\"))","v":""}]
[222,null,null,null,null,null,null,null,{"$f":"IF(D229=\"\",\"\",I228+G229-H229)","v":""},null,null,{"$f":"IF(D229=\"\",\"\",L228+J229-K229)","v":""},{"$f":"IF(D229=\"\",\"\",I229+L229)","v":""},null,null,null,null,null,null,null,null,{"$f":"IF(E229+F229+G229+H229+J229+K229=0,IF(N229+O229+P229+Q229+R229+S229+T229+U229+W229+X229+Y229+Z229+AA229+AB229+AC229>0,\"Classe\",\"\"),IF(OR(AND(E229<>0,F229=0,SUM(N229:U229)=0,SUM(W229:AC229)=0,H229+K229=0,G229+J229=E229),AND(F229<>0,E229=0,SUM(N229:U229)=0,SUM(W229:AC229)=0,G229+J229=0,H229+K229=F229),AND(E229=0,F229=0,H229+K229<>0,H229+K229=SUM(W229:AC229),SUM(N229:U229)=0,(H229+K229)<>(G229+J229)),AND(E229=0,F229=0,G229+J229<>0,G229+J229=SUM(N229:U229),SUM(W229:AC229)=0,(H229+K229)<>(G229+J229)),AND(E229=0,F229=0,J229=0,N229+O229+P229+Q229+R229+S229+T229+U229+W229+X229+Y229+Z229+AA229+AB229+AC229=0,K229<>0,K229=G229),AND(E229=0,F229=0,J229<>0,N229+O229+P229+Q229+R229+S229+T229+U229+W229+X229+Y229+Z229+AA229+AB229+AC229=0,K229=0,J229=H229)),\"OK\",\"??\"))","v":""}]
[223,null,null,null,null,null,null,null,{"$f":"IF(D230=\"\",\"\",I229+G230-H230)","v":""},null,null,{"$f":"IF(D230=\"\",\"\",L229+J230-K230)","v":""},{"$f":"IF(D230=\"\",\"\",I230+L230)","v":""},null,null,null,null,null,null,null,null,{"$f":"IF(E230+F230+G230+H230+J230+K230=0,IF(N230+O230+P230+Q230+R230+S230+T230+U230+W230+X230+Y230+Z230+AA230+AB230+AC230>0,\"Classe\",\"\"),IF(OR(AND(E230<>0,F230=0,SUM(N230:U230)=0,SUM(W230:AC230)=0,H230+K230=0,G230+J230=E230),AND(F230<>0,E230=0,SUM(N230:U230)=0,SUM(W230:AC230)=0,G230+J230=0,H230+K230=F230),AND(E230=0,F230=0,H230+K230<>0,H230+K230=SUM(W230:AC230),SUM(N230:U230)=0,(H230+K230)<>(G230+J230)),AND(E230=0,F230=0,G230+J230<>0,G230+J230=SUM(N230:U230),SUM(W230:AC230)=0,(H230+K230)<>(G230+J230)),AND(E230=0,F230=0,J230=0,N230+O230+P230+Q230+R230+S230+T230+U230+W230+X230+Y230+Z230+AA230+AB230+AC230=0,K230<>0,K230=G230),AND(E230=0,F230=0,J230<>0,N230+O230+P230+Q230+R230+S230+T230+U230+W230+X230+Y230+Z230+AA230+AB230+AC230=0,K230=0,J230=H230)),\"OK\",\"??\"))","v":""}]
[224,null,null,null,null,null,null,null,{"$f":"IF(D231=\"\",\"\",I230+G231-H231)","v":""},null,null,{"$f":"IF(D231=\"\",\"\",L230+J231-K231)","v":""},{"$f":"IF(D231=\"\",\"\",I231+L231)","v":""},null,null,null,null,null,null,null,null,{"$f":"IF(E231+F231+G231+H231+J231+K231=0,IF(N231+O231+P231+Q231+R231+S231+T231+U231+W231+X231+Y231+Z231+AA231+AB231+AC231>0,\"Classe\",\"\"),IF(OR(AND(E231<>0,F231=0,SUM(N231:U231)=0,SUM(W231:AC231)=0,H231+K231=0,G231+J231=E231),AND(F231<>0,E231=0,SUM(N231:U231)=0,SUM(W231:AC231)=0,G231+J231=0,H231+K231=F231),AND(E231=0,F231=0,H231+K231<>0,H231+K231=SUM(W231:AC231),SUM(N231:U231)=0,(H231+K231)<>(G231+J231)),AND(E231=0,F231=0,G231+J231<>0,G231+J231=SUM(N231:U231),SUM(W231:AC231)=0,(H231+K231)<>(G231+J231)),AND(E231=0,F231=0,J231=0,N231+O231+P231+Q231+R231+S231+T231+U231+W231+X231+Y231+Z231+AA231+AB231+AC231=0,K231<>0,K231=G231),AND(E231=0,F231=0,J231<>0,N231+O231+P231+Q231+R231+S231+T231+U231+W231+X231+Y231+Z231+AA231+AB231+AC231=0,K231=0,J231=H231)),\"OK\",\"??\"))","v":""}]
[225,null,null,null,null,null,null,null,{"$f":"IF(D232=\"\",\"\",I231+G232-H232)","v":""},null,null,{"$f":"IF(D232=\"\",\"\",L231+J232-K232)","v":""},{"$f":"IF(D232=\"\",\"\",I232+L232)","v":""},null,null,null,null,null,null,null,null,{"$f":"IF(E232+F232+G232+H232+J232+K232=0,IF(N232+O232+P232+Q232+R232+S232+T232+U232+W232+X232+Y232+Z232+AA232+AB232+AC232>0,\"Classe\",\"\"),IF(OR(AND(E232<>0,F232=0,SUM(N232:U232)=0,SUM(W232:AC232)=0,H232+K232=0,G232+J232=E232),AND(F232<>0,E232=0,SUM(N232:U232)=0,SUM(W232:AC232)=0,G232+J232=0,H232+K232=F232),AND(E232=0,F232=0,H232+K232<>0,H232+K232=SUM(W232:AC232),SUM(N232:U232)=0,(H232+K232)<>(G232+J232)),AND(E232=0,F232=0,G232+J232<>0,G232+J232=SUM(N232:U232),SUM(W232:AC232)=0,(H232+K232)<>(G232+J232)),AND(E232=0,F232=0,J232=0,N232+O232+P232+Q232+R232+S232+T232+U232+W232+X232+Y232+Z232+AA232+AB232+AC232=0,K232<>0,K232=G232),AND(E232=0,F232=0,J232<>0,N232+O232+P232+Q232+R232+S232+T232+U232+W232+X232+Y232+Z232+AA232+AB232+AC232=0,K232=0,J232=H232)),\"OK\",\"??\"))","v":""}]
[226,null,null,null,null,null,null,null,{"$f":"IF(D233=\"\",\"\",I232+G233-H233)","v":""},null,null,{"$f":"IF(D233=\"\",\"\",L232+J233-K233)","v":""},{"$f":"IF(D233=\"\",\"\",I233+L233)","v":""},null,null,null,null,null,null,null,null,{"$f":"IF(E233+F233+G233+H233+J233+K233=0,IF(N233+O233+P233+Q233+R233+S233+T233+U233+W233+X233+Y233+Z233+AA233+AB233+AC233>0,\"Classe\",\"\"),IF(OR(AND(E233<>0,F233=0,SUM(N233:U233)=0,SUM(W233:AC233)=0,H233+K233=0,G233+J233=E233),AND(F233<>0,E233=0,SUM(N233:U233)=0,SUM(W233:AC233)=0,G233+J233=0,H233+K233=F233),AND(E233=0,F233=0,H233+K233<>0,H233+K233=SUM(W233:AC233),SUM(N233:U233)=0,(H233+K233)<>(G233+J233)),AND(E233=0,F233=0,G233+J233<>0,G233+J233=SUM(N233:U233),SUM(W233:AC233)=0,(H233+K233)<>(G233+J233)),AND(E233=0,F233=0,J233=0,N233+O233+P233+Q233+R233+S233+T233+U233+W233+X233+Y233+Z233+AA233+AB233+AC233=0,K233<>0,K233=G233),AND(E233=0,F233=0,J233<>0,N233+O233+P233+Q233+R233+S233+T233+U233+W233+X233+Y233+Z233+AA233+AB233+AC233=0,K233=0,J233=H233)),\"OK\",\"??\"))","v":""}]
[227,null,null,null,null,null,null,null,{"$f":"IF(D234=\"\",\"\",I233+G234-H234)","v":""},null,null,{"$f":"IF(D234=\"\",\"\",L233+J234-K234)","v":""},{"$f":"IF(D234=\"\",\"\",I234+L234)","v":""},null,null,null,null,null,null,null,null,{"$f":"IF(E234+F234+G234+H234+J234+K234=0,IF(N234+O234+P234+Q234+R234+S234+T234+U234+W234+X234+Y234+Z234+AA234+AB234+AC234>0,\"Classe\",\"\"),IF(OR(AND(E234<>0,F234=0,SUM(N234:U234)=0,SUM(W234:AC234)=0,H234+K234=0,G234+J234=E234),AND(F234<>0,E234=0,SUM(N234:U234)=0,SUM(W234:AC234)=0,G234+J234=0,H234+K234=F234),AND(E234=0,F234=0,H234+K234<>0,H234+K234=SUM(W234:AC234),SUM(N234:U234)=0,(H234+K234)<>(G234+J234)),AND(E234=0,F234=0,G234+J234<>0,G234+J234=SUM(N234:U234),SUM(W234:AC234)=0,(H234+K234)<>(G234+J234)),AND(E234=0,F234=0,J234=0,N234+O234+P234+Q234+R234+S234+T234+U234+W234+X234+Y234+Z234+AA234+AB234+AC234=0,K234<>0,K234=G234),AND(E234=0,F234=0,J234<>0,N234+O234+P234+Q234+R234+S234+T234+U234+W234+X234+Y234+Z234+AA234+AB234+AC234=0,K234=0,J234=H234)),\"OK\",\"??\"))","v":""}]
[228,null,null,null,null,null,null,null,{"$f":"IF(D235=\"\",\"\",I234+G235-H235)","v":""},null,null,{"$f":"IF(D235=\"\",\"\",L234+J235-K235)","v":""},{"$f":"IF(D235=\"\",\"\",I235+L235)","v":""},null,null,null,null,null,null,null,null,{"$f":"IF(E235+F235+G235+H235+J235+K235=0,IF(N235+O235+P235+Q235+R235+S235+T235+U235+W235+X235+Y235+Z235+AA235+AB235+AC235>0,\"Classe\",\"\"),IF(OR(AND(E235<>0,F235=0,SUM(N235:U235)=0,SUM(W235:AC235)=0,H235+K235=0,G235+J235=E235),AND(F235<>0,E235=0,SUM(N235:U235)=0,SUM(W235:AC235)=0,G235+J235=0,H235+K235=F235),AND(E235=0,F235=0,H235+K235<>0,H235+K235=SUM(W235:AC235),SUM(N235:U235)=0,(H235+K235)<>(G235+J235)),AND(E235=0,F235=0,G235+J235<>0,G235+J235=SUM(N235:U235),SUM(W235:AC235)=0,(H235+K235)<>(G235+J235)),AND(E235=0,F235=0,J235=0,N235+O235+P235+Q235+R235+S235+T235+U235+W235+X235+Y235+Z235+AA235+AB235+AC235=0,K235<>0,K235=G235),AND(E235=0,F235=0,J235<>0,N235+O235+P235+Q235+R235+S235+T235+U235+W235+X235+Y235+Z235+AA235+AB235+AC235=0,K235=0,J235=H235)),\"OK\",\"??\"))","v":""}]
[229,null,null,null,null,null,null,null,{"$f":"IF(D236=\"\",\"\",I235+G236-H236)","v":""},null,null,{"$f":"IF(D236=\"\",\"\",L235+J236-K236)","v":""},{"$f":"IF(D236=\"\",\"\",I236+L236)","v":""},null,null,null,null,null,null,null,null,{"$f":"IF(E236+F236+G236+H236+J236+K236=0,IF(N236+O236+P236+Q236+R236+S236+T236+U236+W236+X236+Y236+Z236+AA236+AB236+AC236>0,\"Classe\",\"\"),IF(OR(AND(E236<>0,F236=0,SUM(N236:U236)=0,SUM(W236:AC236)=0,H236+K236=0,G236+J236=E236),AND(F236<>0,E236=0,SUM(N236:U236)=0,SUM(W236:AC236)=0,G236+J236=0,H236+K236=F236),AND(E236=0,F236=0,H236+K236<>0,H236+K236=SUM(W236:AC236),SUM(N236:U236)=0,(H236+K236)<>(G236+J236)),AND(E236=0,F236=0,G236+J236<>0,G236+J236=SUM(N236:U236),SUM(W236:AC236)=0,(H236+K236)<>(G236+J236)),AND(E236=0,F236=0,J236=0,N236+O236+P236+Q236+R236+S236+T236+U236+W236+X236+Y236+Z236+AA236+AB236+AC236=0,K236<>0,K236=G236),AND(E236=0,F236=0,J236<>0,N236+O236+P236+Q236+R236+S236+T236+U236+W236+X236+Y236+Z236+AA236+AB236+AC236=0,K236=0,J236=H236)),\"OK\",\"??\"))","v":""}]
[230,null,null,null,null,null,null,null,{"$f":"IF(D237=\"\",\"\",I236+G237-H237)","v":""},null,null,{"$f":"IF(D237=\"\",\"\",L236+J237-K237)","v":""},{"$f":"IF(D237=\"\",\"\",I237+L237)","v":""},null,null,null,null,null,null,null,null,{"$f":"IF(E237+F237+G237+H237+J237+K237=0,IF(N237+O237+P237+Q237+R237+S237+T237+U237+W237+X237+Y237+Z237+AA237+AB237+AC237>0,\"Classe\",\"\"),IF(OR(AND(E237<>0,F237=0,SUM(N237:U237)=0,SUM(W237:AC237)=0,H237+K237=0,G237+J237=E237),AND(F237<>0,E237=0,SUM(N237:U237)=0,SUM(W237:AC237)=0,G237+J237=0,H237+K237=F237),AND(E237=0,F237=0,H237+K237<>0,H237+K237=SUM(W237:AC237),SUM(N237:U237)=0,(H237+K237)<>(G237+J237)),AND(E237=0,F237=0,G237+J237<>0,G237+J237=SUM(N237:U237),SUM(W237:AC237)=0,(H237+K237)<>(G237+J237)),AND(E237=0,F237=0,J237=0,N237+O237+P237+Q237+R237+S237+T237+U237+W237+X237+Y237+Z237+AA237+AB237+AC237=0,K237<>0,K237=G237),AND(E237=0,F237=0,J237<>0,N237+O237+P237+Q237+R237+S237+T237+U237+W237+X237+Y237+Z237+AA237+AB237+AC237=0,K237=0,J237=H237)),\"OK\",\"??\"))","v":""}]
[231,null,null,null,null,null,null,null,{"$f":"IF(D238=\"\",\"\",I237+G238-H238)","v":""},null,null,{"$f":"IF(D238=\"\",\"\",L237+J238-K238)","v":""},{"$f":"IF(D238=\"\",\"\",I238+L238)","v":""},null,null,null,null,null,null,null,null,{"$f":"IF(E238+F238+G238+H238+J238+K238=0,IF(N238+O238+P238+Q238+R238+S238+T238+U238+W238+X238+Y238+Z238+AA238+AB238+AC238>0,\"Classe\",\"\"),IF(OR(AND(E238<>0,F238=0,SUM(N238:U238)=0,SUM(W238:AC238)=0,H238+K238=0,G238+J238=E238),AND(F238<>0,E238=0,SUM(N238:U238)=0,SUM(W238:AC238)=0,G238+J238=0,H238+K238=F238),AND(E238=0,F238=0,H238+K238<>0,H238+K238=SUM(W238:AC238),SUM(N238:U238)=0,(H238+K238)<>(G238+J238)),AND(E238=0,F238=0,G238+J238<>0,G238+J238=SUM(N238:U238),SUM(W238:AC238)=0,(H238+K238)<>(G238+J238)),AND(E238=0,F238=0,J238=0,N238+O238+P238+Q238+R238+S238+T238+U238+W238+X238+Y238+Z238+AA238+AB238+AC238=0,K238<>0,K238=G238),AND(E238=0,F238=0,J238<>0,N238+O238+P238+Q238+R238+S238+T238+U238+W238+X238+Y238+Z238+AA238+AB238+AC238=0,K238=0,J238=H238)),\"OK\",\"??\"))","v":""}]
[232,null,null,null,null,null,null,null,{"$f":"IF(D239=\"\",\"\",I238+G239-H239)","v":""},null,null,{"$f":"IF(D239=\"\",\"\",L238+J239-K239)","v":""},{"$f":"IF(D239=\"\",\"\",I239+L239)","v":""},null,null,null,null,null,null,null,null,{"$f":"IF(E239+F239+G239+H239+J239+K239=0,IF(N239+O239+P239+Q239+R239+S239+T239+U239+W239+X239+Y239+Z239+AA239+AB239+AC239>0,\"Classe\",\"\"),IF(OR(AND(E239<>0,F239=0,SUM(N239:U239)=0,SUM(W239:AC239)=0,H239+K239=0,G239+J239=E239),AND(F239<>0,E239=0,SUM(N239:U239)=0,SUM(W239:AC239)=0,G239+J239=0,H239+K239=F239),AND(E239=0,F239=0,H239+K239<>0,H239+K239=SUM(W239:AC239),SUM(N239:U239)=0,(H239+K239)<>(G239+J239)),AND(E239=0,F239=0,G239+J239<>0,G239+J239=SUM(N239:U239),SUM(W239:AC239)=0,(H239+K239)<>(G239+J239)),AND(E239=0,F239=0,J239=0,N239+O239+P239+Q239+R239+S239+T239+U239+W239+X239+Y239+Z239+AA239+AB239+AC239=0,K239<>0,K239=G239),AND(E239=0,F239=0,J239<>0,N239+O239+P239+Q239+R239+S239+T239+U239+W239+X239+Y239+Z239+AA239+AB239+AC239=0,K239=0,J239=H239)),\"OK\",\"??\"))","v":""}]
[233,null,null,null,null,null,null,null,{"$f":"IF(D240=\"\",\"\",I239+G240-H240)","v":""},null,null,{"$f":"IF(D240=\"\",\"\",L239+J240-K240)","v":""},{"$f":"IF(D240=\"\",\"\",I240+L240)","v":""},null,null,null,null,null,null,null,null,{"$f":"IF(E240+F240+G240+H240+J240+K240=0,IF(N240+O240+P240+Q240+R240+S240+T240+U240+W240+X240+Y240+Z240+AA240+AB240+AC240>0,\"Classe\",\"\"),IF(OR(AND(E240<>0,F240=0,SUM(N240:U240)=0,SUM(W240:AC240)=0,H240+K240=0,G240+J240=E240),AND(F240<>0,E240=0,SUM(N240:U240)=0,SUM(W240:AC240)=0,G240+J240=0,H240+K240=F240),AND(E240=0,F240=0,H240+K240<>0,H240+K240=SUM(W240:AC240),SUM(N240:U240)=0,(H240+K240)<>(G240+J240)),AND(E240=0,F240=0,G240+J240<>0,G240+J240=SUM(N240:U240),SUM(W240:AC240)=0,(H240+K240)<>(G240+J240)),AND(E240=0,F240=0,J240=0,N240+O240+P240+Q240+R240+S240+T240+U240+W240+X240+Y240+Z240+AA240+AB240+AC240=0,K240<>0,K240=G240),AND(E240=0,F240=0,J240<>0,N240+O240+P240+Q240+R240+S240+T240+U240+W240+X240+Y240+Z240+AA240+AB240+AC240=0,K240=0,J240=H240)),\"OK\",\"??\"))","v":""}]
[234,null,null,null,null,null,null,null,{"$f":"IF(D241=\"\",\"\",I240+G241-H241)","v":""},null,null,{"$f":"IF(D241=\"\",\"\",L240+J241-K241)","v":""},{"$f":"IF(D241=\"\",\"\",I241+L241)","v":""},null,null,null,null,null,null,null,null,{"$f":"IF(E241+F241+G241+H241+J241+K241=0,IF(N241+O241+P241+Q241+R241+S241+T241+U241+W241+X241+Y241+Z241+AA241+AB241+AC241>0,\"Classe\",\"\"),IF(OR(AND(E241<>0,F241=0,SUM(N241:U241)=0,SUM(W241:AC241)=0,H241+K241=0,G241+J241=E241),AND(F241<>0,E241=0,SUM(N241:U241)=0,SUM(W241:AC241)=0,G241+J241=0,H241+K241=F241),AND(E241=0,F241=0,H241+K241<>0,H241+K241=SUM(W241:AC241),SUM(N241:U241)=0,(H241+K241)<>(G241+J241)),AND(E241=0,F241=0,G241+J241<>0,G241+J241=SUM(N241:U241),SUM(W241:AC241)=0,(H241+K241)<>(G241+J241)),AND(E241=0,F241=0,J241=0,N241+O241+P241+Q241+R241+S241+T241+U241+W241+X241+Y241+Z241+AA241+AB241+AC241=0,K241<>0,K241=G241),AND(E241=0,F241=0,J241<>0,N241+O241+P241+Q241+R241+S241+T241+U241+W241+X241+Y241+Z241+AA241+AB241+AC241=0,K241=0,J241=H241)),\"OK\",\"??\"))","v":""}]
[235,null,null,null,null,null,null,null,{"$f":"IF(D242=\"\",\"\",I241+G242-H242)","v":""},null,null,{"$f":"IF(D242=\"\",\"\",L241+J242-K242)","v":""},{"$f":"IF(D242=\"\",\"\",I242+L242)","v":""},null,null,null,null,null,null,null,null,{"$f":"IF(E242+F242+G242+H242+J242+K242=0,IF(N242+O242+P242+Q242+R242+S242+T242+U242+W242+X242+Y242+Z242+AA242+AB242+AC242>0,\"Classe\",\"\"),IF(OR(AND(E242<>0,F242=0,SUM(N242:U242)=0,SUM(W242:AC242)=0,H242+K242=0,G242+J242=E242),AND(F242<>0,E242=0,SUM(N242:U242)=0,SUM(W242:AC242)=0,G242+J242=0,H242+K242=F242),AND(E242=0,F242=0,H242+K242<>0,H242+K242=SUM(W242:AC242),SUM(N242:U242)=0,(H242+K242)<>(G242+J242)),AND(E242=0,F242=0,G242+J242<>0,G242+J242=SUM(N242:U242),SUM(W242:AC242)=0,(H242+K242)<>(G242+J242)),AND(E242=0,F242=0,J242=0,N242+O242+P242+Q242+R242+S242+T242+U242+W242+X242+Y242+Z242+AA242+AB242+AC242=0,K242<>0,K242=G242),AND(E242=0,F242=0,J242<>0,N242+O242+P242+Q242+R242+S242+T242+U242+W242+X242+Y242+Z242+AA242+AB242+AC242=0,K242=0,J242=H242)),\"OK\",\"??\"))","v":""}]
[236,null,null,null,null,null,null,null,{"$f":"IF(D243=\"\",\"\",I242+G243-H243)","v":""},null,null,{"$f":"IF(D243=\"\",\"\",L242+J243-K243)","v":""},{"$f":"IF(D243=\"\",\"\",I243+L243)","v":""},null,null,null,null,null,null,null,null,{"$f":"IF(E243+F243+G243+H243+J243+K243=0,IF(N243+O243+P243+Q243+R243+S243+T243+U243+W243+X243+Y243+Z243+AA243+AB243+AC243>0,\"Classe\",\"\"),IF(OR(AND(E243<>0,F243=0,SUM(N243:U243)=0,SUM(W243:AC243)=0,H243+K243=0,G243+J243=E243),AND(F243<>0,E243=0,SUM(N243:U243)=0,SUM(W243:AC243)=0,G243+J243=0,H243+K243=F243),AND(E243=0,F243=0,H243+K243<>0,H243+K243=SUM(W243:AC243),SUM(N243:U243)=0,(H243+K243)<>(G243+J243)),AND(E243=0,F243=0,G243+J243<>0,G243+J243=SUM(N243:U243),SUM(W243:AC243)=0,(H243+K243)<>(G243+J243)),AND(E243=0,F243=0,J243=0,N243+O243+P243+Q243+R243+S243+T243+U243+W243+X243+Y243+Z243+AA243+AB243+AC243=0,K243<>0,K243=G243),AND(E243=0,F243=0,J243<>0,N243+O243+P243+Q243+R243+S243+T243+U243+W243+X243+Y243+Z243+AA243+AB243+AC243=0,K243=0,J243=H243)),\"OK\",\"??\"))","v":""}]
[237,null,null,null,null,null,null,null,{"$f":"IF(D244=\"\",\"\",I243+G244-H244)","v":""},null,null,{"$f":"IF(D244=\"\",\"\",L243+J244-K244)","v":""},{"$f":"IF(D244=\"\",\"\",I244+L244)","v":""},null,null,null,null,null,null,null,null,{"$f":"IF(E244+F244+G244+H244+J244+K244=0,IF(N244+O244+P244+Q244+R244+S244+T244+U244+W244+X244+Y244+Z244+AA244+AB244+AC244>0,\"Classe\",\"\"),IF(OR(AND(E244<>0,F244=0,SUM(N244:U244)=0,SUM(W244:AC244)=0,H244+K244=0,G244+J244=E244),AND(F244<>0,E244=0,SUM(N244:U244)=0,SUM(W244:AC244)=0,G244+J244=0,H244+K244=F244),AND(E244=0,F244=0,H244+K244<>0,H244+K244=SUM(W244:AC244),SUM(N244:U244)=0,(H244+K244)<>(G244+J244)),AND(E244=0,F244=0,G244+J244<>0,G244+J244=SUM(N244:U244),SUM(W244:AC244)=0,(H244+K244)<>(G244+J244)),AND(E244=0,F244=0,J244=0,N244+O244+P244+Q244+R244+S244+T244+U244+W244+X244+Y244+Z244+AA244+AB244+AC244=0,K244<>0,K244=G244),AND(E244=0,F244=0,J244<>0,N244+O244+P244+Q244+R244+S244+T244+U244+W244+X244+Y244+Z244+AA244+AB244+AC244=0,K244=0,J244=H244)),\"OK\",\"??\"))","v":""}]
[238,null,null,null,null,null,null,null,{"$f":"IF(D245=\"\",\"\",I244+G245-H245)","v":""},null,null,{"$f":"IF(D245=\"\",\"\",L244+J245-K245)","v":""},{"$f":"IF(D245=\"\",\"\",I245+L245)","v":""},null,null,null,null,null,null,null,null,{"$f":"IF(E245+F245+G245+H245+J245+K245=0,IF(N245+O245+P245+Q245+R245+S245+T245+U245+W245+X245+Y245+Z245+AA245+AB245+AC245>0,\"Classe\",\"\"),IF(OR(AND(E245<>0,F245=0,SUM(N245:U245)=0,SUM(W245:AC245)=0,H245+K245=0,G245+J245=E245),AND(F245<>0,E245=0,SUM(N245:U245)=0,SUM(W245:AC245)=0,G245+J245=0,H245+K245=F245),AND(E245=0,F245=0,H245+K245<>0,H245+K245=SUM(W245:AC245),SUM(N245:U245)=0,(H245+K245)<>(G245+J245)),AND(E245=0,F245=0,G245+J245<>0,G245+J245=SUM(N245:U245),SUM(W245:AC245)=0,(H245+K245)<>(G245+J245)),AND(E245=0,F245=0,J245=0,N245+O245+P245+Q245+R245+S245+T245+U245+W245+X245+Y245+Z245+AA245+AB245+AC245=0,K245<>0,K245=G245),AND(E245=0,F245=0,J245<>0,N245+O245+P245+Q245+R245+S245+T245+U245+W245+X245+Y245+Z245+AA245+AB245+AC245=0,K245=0,J245=H245)),\"OK\",\"??\"))","v":""}]
[239,null,null,null,null,null,null,null,{"$f":"IF(D246=\"\",\"\",I245+G246-H246)","v":""},null,null,{"$f":"IF(D246=\"\",\"\",L245+J246-K246)","v":""},{"$f":"IF(D246=\"\",\"\",I246+L246)","v":""},null,null,null,null,null,null,null,null,{"$f":"IF(E246+F246+G246+H246+J246+K246=0,IF(N246+O246+P246+Q246+R246+S246+T246+U246+W246+X246+Y246+Z246+AA246+AB246+AC246>0,\"Classe\",\"\"),IF(OR(AND(E246<>0,F246=0,SUM(N246:U246)=0,SUM(W246:AC246)=0,H246+K246=0,G246+J246=E246),AND(F246<>0,E246=0,SUM(N246:U246)=0,SUM(W246:AC246)=0,G246+J246=0,H246+K246=F246),AND(E246=0,F246=0,H246+K246<>0,H246+K246=SUM(W246:AC246),SUM(N246:U246)=0,(H246+K246)<>(G246+J246)),AND(E246=0,F246=0,G246+J246<>0,G246+J246=SUM(N246:U246),SUM(W246:AC246)=0,(H246+K246)<>(G246+J246)),AND(E246=0,F246=0,J246=0,N246+O246+P246+Q246+R246+S246+T246+U246+W246+X246+Y246+Z246+AA246+AB246+AC246=0,K246<>0,K246=G246),AND(E246=0,F246=0,J246<>0,N246+O246+P246+Q246+R246+S246+T246+U246+W246+X246+Y246+Z246+AA246+AB246+AC246=0,K246=0,J246=H246)),\"OK\",\"??\"))","v":""}]
[240,null,null,null,null,null,null,null,{"$f":"IF(D247=\"\",\"\",I246+G247-H247)","v":""},null,null,{"$f":"IF(D247=\"\",\"\",L246+J247-K247)","v":""},{"$f":"IF(D247=\"\",\"\",I247+L247)","v":""},null,null,null,null,null,null,null,null,{"$f":"IF(E247+F247+G247+H247+J247+K247=0,IF(N247+O247+P247+Q247+R247+S247+T247+U247+W247+X247+Y247+Z247+AA247+AB247+AC247>0,\"Classe\",\"\"),IF(OR(AND(E247<>0,F247=0,SUM(N247:U247)=0,SUM(W247:AC247)=0,H247+K247=0,G247+J247=E247),AND(F247<>0,E247=0,SUM(N247:U247)=0,SUM(W247:AC247)=0,G247+J247=0,H247+K247=F247),AND(E247=0,F247=0,H247+K247<>0,H247+K247=SUM(W247:AC247),SUM(N247:U247)=0,(H247+K247)<>(G247+J247)),AND(E247=0,F247=0,G247+J247<>0,G247+J247=SUM(N247:U247),SUM(W247:AC247)=0,(H247+K247)<>(G247+J247)),AND(E247=0,F247=0,J247=0,N247+O247+P247+Q247+R247+S247+T247+U247+W247+X247+Y247+Z247+AA247+AB247+AC247=0,K247<>0,K247=G247),AND(E247=0,F247=0,J247<>0,N247+O247+P247+Q247+R247+S247+T247+U247+W247+X247+Y247+Z247+AA247+AB247+AC247=0,K247=0,J247=H247)),\"OK\",\"??\"))","v":""}]
[241,null,null,null,null,null,null,null,{"$f":"IF(D248=\"\",\"\",I247+G248-H248)","v":""},null,null,{"$f":"IF(D248=\"\",\"\",L247+J248-K248)","v":""},{"$f":"IF(D248=\"\",\"\",I248+L248)","v":""},null,null,null,null,null,null,null,null,{"$f":"IF(E248+F248+G248+H248+J248+K248=0,IF(N248+O248+P248+Q248+R248+S248+T248+U248+W248+X248+Y248+Z248+AA248+AB248+AC248>0,\"Classe\",\"\"),IF(OR(AND(E248<>0,F248=0,SUM(N248:U248)=0,SUM(W248:AC248)=0,H248+K248=0,G248+J248=E248),AND(F248<>0,E248=0,SUM(N248:U248)=0,SUM(W248:AC248)=0,G248+J248=0,H248+K248=F248),AND(E248=0,F248=0,H248+K248<>0,H248+K248=SUM(W248:AC248),SUM(N248:U248)=0,(H248+K248)<>(G248+J248)),AND(E248=0,F248=0,G248+J248<>0,G248+J248=SUM(N248:U248),SUM(W248:AC248)=0,(H248+K248)<>(G248+J248)),AND(E248=0,F248=0,J248=0,N248+O248+P248+Q248+R248+S248+T248+U248+W248+X248+Y248+Z248+AA248+AB248+AC248=0,K248<>0,K248=G248),AND(E248=0,F248=0,J248<>0,N248+O248+P248+Q248+R248+S248+T248+U248+W248+X248+Y248+Z248+AA248+AB248+AC248=0,K248=0,J248=H248)),\"OK\",\"??\"))","v":""}]
[242,null,null,null,null,null,null,null,{"$f":"IF(D249=\"\",\"\",I248+G249-H249)","v":""},null,null,{"$f":"IF(D249=\"\",\"\",L248+J249-K249)","v":""},{"$f":"IF(D249=\"\",\"\",I249+L249)","v":""},null,null,null,null,null,null,null,null,{"$f":"IF(E249+F249+G249+H249+J249+K249=0,IF(N249+O249+P249+Q249+R249+S249+T249+U249+W249+X249+Y249+Z249+AA249+AB249+AC249>0,\"Classe\",\"\"),IF(OR(AND(E249<>0,F249=0,SUM(N249:U249)=0,SUM(W249:AC249)=0,H249+K249=0,G249+J249=E249),AND(F249<>0,E249=0,SUM(N249:U249)=0,SUM(W249:AC249)=0,G249+J249=0,H249+K249=F249),AND(E249=0,F249=0,H249+K249<>0,H249+K249=SUM(W249:AC249),SUM(N249:U249)=0,(H249+K249)<>(G249+J249)),AND(E249=0,F249=0,G249+J249<>0,G249+J249=SUM(N249:U249),SUM(W249:AC249)=0,(H249+K249)<>(G249+J249)),AND(E249=0,F249=0,J249=0,N249+O249+P249+Q249+R249+S249+T249+U249+W249+X249+Y249+Z249+AA249+AB249+AC249=0,K249<>0,K249=G249),AND(E249=0,F249=0,J249<>0,N249+O249+P249+Q249+R249+S249+T249+U249+W249+X249+Y249+Z249+AA249+AB249+AC249=0,K249=0,J249=H249)),\"OK\",\"??\"))","v":""}]
[243,null,null,null,null,null,null,null,{"$f":"IF(D250=\"\",\"\",I249+G250-H250)","v":""},null,null,{"$f":"IF(D250=\"\",\"\",L249+J250-K250)","v":""},{"$f":"IF(D250=\"\",\"\",I250+L250)","v":""},null,null,null,null,null,null,null,null,{"$f":"IF(E250+F250+G250+H250+J250+K250=0,IF(N250+O250+P250+Q250+R250+S250+T250+U250+W250+X250+Y250+Z250+AA250+AB250+AC250>0,\"Classe\",\"\"),IF(OR(AND(E250<>0,F250=0,SUM(N250:U250)=0,SUM(W250:AC250)=0,H250+K250=0,G250+J250=E250),AND(F250<>0,E250=0,SUM(N250:U250)=0,SUM(W250:AC250)=0,G250+J250=0,H250+K250=F250),AND(E250=0,F250=0,H250+K250<>0,H250+K250=SUM(W250:AC250),SUM(N250:U250)=0,(H250+K250)<>(G250+J250)),AND(E250=0,F250=0,G250+J250<>0,G250+J250=SUM(N250:U250),SUM(W250:AC250)=0,(H250+K250)<>(G250+J250)),AND(E250=0,F250=0,J250=0,N250+O250+P250+Q250+R250+S250+T250+U250+W250+X250+Y250+Z250+AA250+AB250+AC250=0,K250<>0,K250=G250),AND(E250=0,F250=0,J250<>0,N250+O250+P250+Q250+R250+S250+T250+U250+W250+X250+Y250+Z250+AA250+AB250+AC250=0,K250=0,J250=H250)),\"OK\",\"??\"))","v":""}]
[244,null,null,null,null,null,null,null,{"$f":"IF(D251=\"\",\"\",I250+G251-H251)","v":""},null,null,{"$f":"IF(D251=\"\",\"\",L250+J251-K251)","v":""},{"$f":"IF(D251=\"\",\"\",I251+L251)","v":""},null,null,null,null,null,null,null,null,{"$f":"IF(E251+F251+G251+H251+J251+K251=0,IF(N251+O251+P251+Q251+R251+S251+T251+U251+W251+X251+Y251+Z251+AA251+AB251+AC251>0,\"Classe\",\"\"),IF(OR(AND(E251<>0,F251=0,SUM(N251:U251)=0,SUM(W251:AC251)=0,H251+K251=0,G251+J251=E251),AND(F251<>0,E251=0,SUM(N251:U251)=0,SUM(W251:AC251)=0,G251+J251=0,H251+K251=F251),AND(E251=0,F251=0,H251+K251<>0,H251+K251=SUM(W251:AC251),SUM(N251:U251)=0,(H251+K251)<>(G251+J251)),AND(E251=0,F251=0,G251+J251<>0,G251+J251=SUM(N251:U251),SUM(W251:AC251)=0,(H251+K251)<>(G251+J251)),AND(E251=0,F251=0,J251=0,N251+O251+P251+Q251+R251+S251+T251+U251+W251+X251+Y251+Z251+AA251+AB251+AC251=0,K251<>0,K251=G251),AND(E251=0,F251=0,J251<>0,N251+O251+P251+Q251+R251+S251+T251+U251+W251+X251+Y251+Z251+AA251+AB251+AC251=0,K251=0,J251=H251)),\"OK\",\"??\"))","v":""}]
[245,null,null,null,null,null,null,null,{"$f":"IF(D252=\"\",\"\",I251+G252-H252)","v":""},null,null,{"$f":"IF(D252=\"\",\"\",L251+J252-K252)","v":""},{"$f":"IF(D252=\"\",\"\",I252+L252)","v":""},null,null,null,null,null,null,null,null,{"$f":"IF(E252+F252+G252+H252+J252+K252=0,IF(N252+O252+P252+Q252+R252+S252+T252+U252+W252+X252+Y252+Z252+AA252+AB252+AC252>0,\"Classe\",\"\"),IF(OR(AND(E252<>0,F252=0,SUM(N252:U252)=0,SUM(W252:AC252)=0,H252+K252=0,G252+J252=E252),AND(F252<>0,E252=0,SUM(N252:U252)=0,SUM(W252:AC252)=0,G252+J252=0,H252+K252=F252),AND(E252=0,F252=0,H252+K252<>0,H252+K252=SUM(W252:AC252),SUM(N252:U252)=0,(H252+K252)<>(G252+J252)),AND(E252=0,F252=0,G252+J252<>0,G252+J252=SUM(N252:U252),SUM(W252:AC252)=0,(H252+K252)<>(G252+J252)),AND(E252=0,F252=0,J252=0,N252+O252+P252+Q252+R252+S252+T252+U252+W252+X252+Y252+Z252+AA252+AB252+AC252=0,K252<>0,K252=G252),AND(E252=0,F252=0,J252<>0,N252+O252+P252+Q252+R252+S252+T252+U252+W252+X252+Y252+Z252+AA252+AB252+AC252=0,K252=0,J252=H252)),\"OK\",\"??\"))","v":""}]
[246,null,null,null,null,null,null,null,{"$f":"IF(D253=\"\",\"\",I252+G253-H253)","v":""},null,null,{"$f":"IF(D253=\"\",\"\",L252+J253-K253)","v":""},{"$f":"IF(D253=\"\",\"\",I253+L253)","v":""},null,null,null,null,null,null,null,null,{"$f":"IF(E253+F253+G253+H253+J253+K253=0,IF(N253+O253+P253+Q253+R253+S253+T253+U253+W253+X253+Y253+Z253+AA253+AB253+AC253>0,\"Classe\",\"\"),IF(OR(AND(E253<>0,F253=0,SUM(N253:U253)=0,SUM(W253:AC253)=0,H253+K253=0,G253+J253=E253),AND(F253<>0,E253=0,SUM(N253:U253)=0,SUM(W253:AC253)=0,G253+J253=0,H253+K253=F253),AND(E253=0,F253=0,H253+K253<>0,H253+K253=SUM(W253:AC253),SUM(N253:U253)=0,(H253+K253)<>(G253+J253)),AND(E253=0,F253=0,G253+J253<>0,G253+J253=SUM(N253:U253),SUM(W253:AC253)=0,(H253+K253)<>(G253+J253)),AND(E253=0,F253=0,J253=0,N253+O253+P253+Q253+R253+S253+T253+U253+W253+X253+Y253+Z253+AA253+AB253+AC253=0,K253<>0,K253=G253),AND(E253=0,F253=0,J253<>0,N253+O253+P253+Q253+R253+S253+T253+U253+W253+X253+Y253+Z253+AA253+AB253+AC253=0,K253=0,J253=H253)),\"OK\",\"??\"))","v":""}]
[247,null,null,null,null,null,null,null,{"$f":"IF(D254=\"\",\"\",I253+G254-H254)","v":""},null,null,{"$f":"IF(D254=\"\",\"\",L253+J254-K254)","v":""},{"$f":"IF(D254=\"\",\"\",I254+L254)","v":""},null,null,null,null,null,null,null,null,{"$f":"IF(E254+F254+G254+H254+J254+K254=0,IF(N254+O254+P254+Q254+R254+S254+T254+U254+W254+X254+Y254+Z254+AA254+AB254+AC254>0,\"Classe\",\"\"),IF(OR(AND(E254<>0,F254=0,SUM(N254:U254)=0,SUM(W254:AC254)=0,H254+K254=0,G254+J254=E254),AND(F254<>0,E254=0,SUM(N254:U254)=0,SUM(W254:AC254)=0,G254+J254=0,H254+K254=F254),AND(E254=0,F254=0,H254+K254<>0,H254+K254=SUM(W254:AC254),SUM(N254:U254)=0,(H254+K254)<>(G254+J254)),AND(E254=0,F254=0,G254+J254<>0,G254+J254=SUM(N254:U254),SUM(W254:AC254)=0,(H254+K254)<>(G254+J254)),AND(E254=0,F254=0,J254=0,N254+O254+P254+Q254+R254+S254+T254+U254+W254+X254+Y254+Z254+AA254+AB254+AC254=0,K254<>0,K254=G254),AND(E254=0,F254=0,J254<>0,N254+O254+P254+Q254+R254+S254+T254+U254+W254+X254+Y254+Z254+AA254+AB254+AC254=0,K254=0,J254=H254)),\"OK\",\"??\"))","v":""}]
[248,null,null,null,null,null,null,null,{"$f":"IF(D255=\"\",\"\",I254+G255-H255)","v":""},null,null,{"$f":"IF(D255=\"\",\"\",L254+J255-K255)","v":""},{"$f":"IF(D255=\"\",\"\",I255+L255)","v":""},null,null,null,null,null,null,null,null,{"$f":"IF(E255+F255+G255+H255+J255+K255=0,IF(N255+O255+P255+Q255+R255+S255+T255+U255+W255+X255+Y255+Z255+AA255+AB255+AC255>0,\"Classe\",\"\"),IF(OR(AND(E255<>0,F255=0,SUM(N255:U255)=0,SUM(W255:AC255)=0,H255+K255=0,G255+J255=E255),AND(F255<>0,E255=0,SUM(N255:U255)=0,SUM(W255:AC255)=0,G255+J255=0,H255+K255=F255),AND(E255=0,F255=0,H255+K255<>0,H255+K255=SUM(W255:AC255),SUM(N255:U255)=0,(H255+K255)<>(G255+J255)),AND(E255=0,F255=0,G255+J255<>0,G255+J255=SUM(N255:U255),SUM(W255:AC255)=0,(H255+K255)<>(G255+J255)),AND(E255=0,F255=0,J255=0,N255+O255+P255+Q255+R255+S255+T255+U255+W255+X255+Y255+Z255+AA255+AB255+AC255=0,K255<>0,K255=G255),AND(E255=0,F255=0,J255<>0,N255+O255+P255+Q255+R255+S255+T255+U255+W255+X255+Y255+Z255+AA255+AB255+AC255=0,K255=0,J255=H255)),\"OK\",\"??\"))","v":""}]
[249,null,null,null,null,null,null,null,{"$f":"IF(D256=\"\",\"\",I255+G256-H256)","v":""},null,null,{"$f":"IF(D256=\"\",\"\",L255+J256-K256)","v":""},{"$f":"IF(D256=\"\",\"\",I256+L256)","v":""},null,null,null,null,null,null,null,null,{"$f":"IF(E256+F256+G256+H256+J256+K256=0,IF(N256+O256+P256+Q256+R256+S256+T256+U256+W256+X256+Y256+Z256+AA256+AB256+AC256>0,\"Classe\",\"\"),IF(OR(AND(E256<>0,F256=0,SUM(N256:U256)=0,SUM(W256:AC256)=0,H256+K256=0,G256+J256=E256),AND(F256<>0,E256=0,SUM(N256:U256)=0,SUM(W256:AC256)=0,G256+J256=0,H256+K256=F256),AND(E256=0,F256=0,H256+K256<>0,H256+K256=SUM(W256:AC256),SUM(N256:U256)=0,(H256+K256)<>(G256+J256)),AND(E256=0,F256=0,G256+J256<>0,G256+J256=SUM(N256:U256),SUM(W256:AC256)=0,(H256+K256)<>(G256+J256)),AND(E256=0,F256=0,J256=0,N256+O256+P256+Q256+R256+S256+T256+U256+W256+X256+Y256+Z256+AA256+AB256+AC256=0,K256<>0,K256=G256),AND(E256=0,F256=0,J256<>0,N256+O256+P256+Q256+R256+S256+T256+U256+W256+X256+Y256+Z256+AA256+AB256+AC256=0,K256=0,J256=H256)),\"OK\",\"??\"))","v":""}]
[250,null,null,null,null,null,null,null,{"$f":"IF(D257=\"\",\"\",I256+G257-H257)","v":""},null,null,{"$f":"IF(D257=\"\",\"\",L256+J257-K257)","v":""},{"$f":"IF(D257=\"\",\"\",I257+L257)","v":""},null,null,null,null,null,null,null,null,{"$f":"IF(E257+F257+G257+H257+J257+K257=0,IF(N257+O257+P257+Q257+R257+S257+T257+U257+W257+X257+Y257+Z257+AA257+AB257+AC257>0,\"Classe\",\"\"),IF(OR(AND(E257<>0,F257=0,SUM(N257:U257)=0,SUM(W257:AC257)=0,H257+K257=0,G257+J257=E257),AND(F257<>0,E257=0,SUM(N257:U257)=0,SUM(W257:AC257)=0,G257+J257=0,H257+K257=F257),AND(E257=0,F257=0,H257+K257<>0,H257+K257=SUM(W257:AC257),SUM(N257:U257)=0,(H257+K257)<>(G257+J257)),AND(E257=0,F257=0,G257+J257<>0,G257+J257=SUM(N257:U257),SUM(W257:AC257)=0,(H257+K257)<>(G257+J257)),AND(E257=0,F257=0,J257=0,N257+O257+P257+Q257+R257+S257+T257+U257+W257+X257+Y257+Z257+AA257+AB257+AC257=0,K257<>0,K257=G257),AND(E257=0,F257=0,J257<>0,N257+O257+P257+Q257+R257+S257+T257+U257+W257+X257+Y257+Z257+AA257+AB257+AC257=0,K257=0,J257=H257)),\"OK\",\"??\"))","v":""}]
[251,null,null,null,null,null,null,null,{"$f":"IF(D258=\"\",\"\",I257+G258-H258)","v":""},null,null,{"$f":"IF(D258=\"\",\"\",L257+J258-K258)","v":""},{"$f":"IF(D258=\"\",\"\",I258+L258)","v":""},null,null,null,null,null,null,null,null,{"$f":"IF(E258+F258+G258+H258+J258+K258=0,IF(N258+O258+P258+Q258+R258+S258+T258+U258+W258+X258+Y258+Z258+AA258+AB258+AC258>0,\"Classe\",\"\"),IF(OR(AND(E258<>0,F258=0,SUM(N258:U258)=0,SUM(W258:AC258)=0,H258+K258=0,G258+J258=E258),AND(F258<>0,E258=0,SUM(N258:U258)=0,SUM(W258:AC258)=0,G258+J258=0,H258+K258=F258),AND(E258=0,F258=0,H258+K258<>0,H258+K258=SUM(W258:AC258),SUM(N258:U258)=0,(H258+K258)<>(G258+J258)),AND(E258=0,F258=0,G258+J258<>0,G258+J258=SUM(N258:U258),SUM(W258:AC258)=0,(H258+K258)<>(G258+J258)),AND(E258=0,F258=0,J258=0,N258+O258+P258+Q258+R258+S258+T258+U258+W258+X258+Y258+Z258+AA258+AB258+AC258=0,K258<>0,K258=G258),AND(E258=0,F258=0,J258<>0,N258+O258+P258+Q258+R258+S258+T258+U258+W258+X258+Y258+Z258+AA258+AB258+AC258=0,K258=0,J258=H258)),\"OK\",\"??\"))","v":""}]
[252,null,null,null,null,null,null,null,{"$f":"IF(D259=\"\",\"\",I258+G259-H259)","v":""},null,null,{"$f":"IF(D259=\"\",\"\",L258+J259-K259)","v":""},{"$f":"IF(D259=\"\",\"\",I259+L259)","v":""},null,null,null,null,null,null,null,null,{"$f":"IF(E259+F259+G259+H259+J259+K259=0,IF(N259+O259+P259+Q259+R259+S259+T259+U259+W259+X259+Y259+Z259+AA259+AB259+AC259>0,\"Classe\",\"\"),IF(OR(AND(E259<>0,F259=0,SUM(N259:U259)=0,SUM(W259:AC259)=0,H259+K259=0,G259+J259=E259),AND(F259<>0,E259=0,SUM(N259:U259)=0,SUM(W259:AC259)=0,G259+J259=0,H259+K259=F259),AND(E259=0,F259=0,H259+K259<>0,H259+K259=SUM(W259:AC259),SUM(N259:U259)=0,(H259+K259)<>(G259+J259)),AND(E259=0,F259=0,G259+J259<>0,G259+J259=SUM(N259:U259),SUM(W259:AC259)=0,(H259+K259)<>(G259+J259)),AND(E259=0,F259=0,J259=0,N259+O259+P259+Q259+R259+S259+T259+U259+W259+X259+Y259+Z259+AA259+AB259+AC259=0,K259<>0,K259=G259),AND(E259=0,F259=0,J259<>0,N259+O259+P259+Q259+R259+S259+T259+U259+W259+X259+Y259+Z259+AA259+AB259+AC259=0,K259=0,J259=H259)),\"OK\",\"??\"))","v":""}]
[253,null,null,null,null,null,null,null,{"$f":"IF(D260=\"\",\"\",I259+G260-H260)","v":""},null,null,{"$f":"IF(D260=\"\",\"\",L259+J260-K260)","v":""},{"$f":"IF(D260=\"\",\"\",I260+L260)","v":""},null,null,null,null,null,null,null,null,{"$f":"IF(E260+F260+G260+H260+J260+K260=0,IF(N260+O260+P260+Q260+R260+S260+T260+U260+W260+X260+Y260+Z260+AA260+AB260+AC260>0,\"Classe\",\"\"),IF(OR(AND(E260<>0,F260=0,SUM(N260:U260)=0,SUM(W260:AC260)=0,H260+K260=0,G260+J260=E260),AND(F260<>0,E260=0,SUM(N260:U260)=0,SUM(W260:AC260)=0,G260+J260=0,H260+K260=F260),AND(E260=0,F260=0,H260+K260<>0,H260+K260=SUM(W260:AC260),SUM(N260:U260)=0,(H260+K260)<>(G260+J260)),AND(E260=0,F260=0,G260+J260<>0,G260+J260=SUM(N260:U260),SUM(W260:AC260)=0,(H260+K260)<>(G260+J260)),AND(E260=0,F260=0,J260=0,N260+O260+P260+Q260+R260+S260+T260+U260+W260+X260+Y260+Z260+AA260+AB260+AC260=0,K260<>0,K260=G260),AND(E260=0,F260=0,J260<>0,N260+O260+P260+Q260+R260+S260+T260+U260+W260+X260+Y260+Z260+AA260+AB260+AC260=0,K260=0,J260=H260)),\"OK\",\"??\"))","v":""}]
[254,null,null,null,null,null,null,null,{"$f":"IF(D261=\"\",\"\",I260+G261-H261)","v":""},null,null,{"$f":"IF(D261=\"\",\"\",L260+J261-K261)","v":""},{"$f":"IF(D261=\"\",\"\",I261+L261)","v":""},null,null,null,null,null,null,null,null,{"$f":"IF(E261+F261+G261+H261+J261+K261=0,IF(N261+O261+P261+Q261+R261+S261+T261+U261+W261+X261+Y261+Z261+AA261+AB261+AC261>0,\"Classe\",\"\"),IF(OR(AND(E261<>0,F261=0,SUM(N261:U261)=0,SUM(W261:AC261)=0,H261+K261=0,G261+J261=E261),AND(F261<>0,E261=0,SUM(N261:U261)=0,SUM(W261:AC261)=0,G261+J261=0,H261+K261=F261),AND(E261=0,F261=0,H261+K261<>0,H261+K261=SUM(W261:AC261),SUM(N261:U261)=0,(H261+K261)<>(G261+J261)),AND(E261=0,F261=0,G261+J261<>0,G261+J261=SUM(N261:U261),SUM(W261:AC261)=0,(H261+K261)<>(G261+J261)),AND(E261=0,F261=0,J261=0,N261+O261+P261+Q261+R261+S261+T261+U261+W261+X261+Y261+Z261+AA261+AB261+AC261=0,K261<>0,K261=G261),AND(E261=0,F261=0,J261<>0,N261+O261+P261+Q261+R261+S261+T261+U261+W261+X261+Y261+Z261+AA261+AB261+AC261=0,K261=0,J261=H261)),\"OK\",\"??\"))","v":""}]
[255,null,null,null,null,null,null,null,{"$f":"IF(D262=\"\",\"\",I261+G262-H262)","v":""},null,null,{"$f":"IF(D262=\"\",\"\",L261+J262-K262)","v":""},{"$f":"IF(D262=\"\",\"\",I262+L262)","v":""},null,null,null,null,null,null,null,null,{"$f":"IF(E262+F262+G262+H262+J262+K262=0,IF(N262+O262+P262+Q262+R262+S262+T262+U262+W262+X262+Y262+Z262+AA262+AB262+AC262>0,\"Classe\",\"\"),IF(OR(AND(E262<>0,F262=0,SUM(N262:U262)=0,SUM(W262:AC262)=0,H262+K262=0,G262+J262=E262),AND(F262<>0,E262=0,SUM(N262:U262)=0,SUM(W262:AC262)=0,G262+J262=0,H262+K262=F262),AND(E262=0,F262=0,H262+K262<>0,H262+K262=SUM(W262:AC262),SUM(N262:U262)=0,(H262+K262)<>(G262+J262)),AND(E262=0,F262=0,G262+J262<>0,G262+J262=SUM(N262:U262),SUM(W262:AC262)=0,(H262+K262)<>(G262+J262)),AND(E262=0,F262=0,J262=0,N262+O262+P262+Q262+R262+S262+T262+U262+W262+X262+Y262+Z262+AA262+AB262+AC262=0,K262<>0,K262=G262),AND(E262=0,F262=0,J262<>0,N262+O262+P262+Q262+R262+S262+T262+U262+W262+X262+Y262+Z262+AA262+AB262+AC262=0,K262=0,J262=H262)),\"OK\",\"??\"))","v":""}]
[256,null,null,null,null,null,null,null,{"$f":"IF(D263=\"\",\"\",I262+G263-H263)","v":""},null,null,{"$f":"IF(D263=\"\",\"\",L262+J263-K263)","v":""},{"$f":"IF(D263=\"\",\"\",I263+L263)","v":""},null,null,null,null,null,null,null,null,{"$f":"IF(E263+F263+G263+H263+J263+K263=0,IF(N263+O263+P263+Q263+R263+S263+T263+U263+W263+X263+Y263+Z263+AA263+AB263+AC263>0,\"Classe\",\"\"),IF(OR(AND(E263<>0,F263=0,SUM(N263:U263)=0,SUM(W263:AC263)=0,H263+K263=0,G263+J263=E263),AND(F263<>0,E263=0,SUM(N263:U263)=0,SUM(W263:AC263)=0,G263+J263=0,H263+K263=F263),AND(E263=0,F263=0,H263+K263<>0,H263+K263=SUM(W263:AC263),SUM(N263:U263)=0,(H263+K263)<>(G263+J263)),AND(E263=0,F263=0,G263+J263<>0,G263+J263=SUM(N263:U263),SUM(W263:AC263)=0,(H263+K263)<>(G263+J263)),AND(E263=0,F263=0,J263=0,N263+O263+P263+Q263+R263+S263+T263+U263+W263+X263+Y263+Z263+AA263+AB263+AC263=0,K263<>0,K263=G263),AND(E263=0,F263=0,J263<>0,N263+O263+P263+Q263+R263+S263+T263+U263+W263+X263+Y263+Z263+AA263+AB263+AC263=0,K263=0,J263=H263)),\"OK\",\"??\"))","v":""}]
[257,null,null,null,null,null,null,null,{"$f":"IF(D264=\"\",\"\",I263+G264-H264)","v":""},null,null,{"$f":"IF(D264=\"\",\"\",L263+J264-K264)","v":""},{"$f":"IF(D264=\"\",\"\",I264+L264)","v":""},null,null,null,null,null,null,null,null,{"$f":"IF(E264+F264+G264+H264+J264+K264=0,IF(N264+O264+P264+Q264+R264+S264+T264+U264+W264+X264+Y264+Z264+AA264+AB264+AC264>0,\"Classe\",\"\"),IF(OR(AND(E264<>0,F264=0,SUM(N264:U264)=0,SUM(W264:AC264)=0,H264+K264=0,G264+J264=E264),AND(F264<>0,E264=0,SUM(N264:U264)=0,SUM(W264:AC264)=0,G264+J264=0,H264+K264=F264),AND(E264=0,F264=0,H264+K264<>0,H264+K264=SUM(W264:AC264),SUM(N264:U264)=0,(H264+K264)<>(G264+J264)),AND(E264=0,F264=0,G264+J264<>0,G264+J264=SUM(N264:U264),SUM(W264:AC264)=0,(H264+K264)<>(G264+J264)),AND(E264=0,F264=0,J264=0,N264+O264+P264+Q264+R264+S264+T264+U264+W264+X264+Y264+Z264+AA264+AB264+AC264=0,K264<>0,K264=G264),AND(E264=0,F264=0,J264<>0,N264+O264+P264+Q264+R264+S264+T264+U264+W264+X264+Y264+Z264+AA264+AB264+AC264=0,K264=0,J264=H264)),\"OK\",\"??\"))","v":""}]
[258,null,null,null,null,null,null,null,{"$f":"IF(D265=\"\",\"\",I264+G265-H265)","v":""},null,null,{"$f":"IF(D265=\"\",\"\",L264+J265-K265)","v":""},{"$f":"IF(D265=\"\",\"\",I265+L265)","v":""},null,null,null,null,null,null,null,null,{"$f":"IF(E265+F265+G265+H265+J265+K265=0,IF(N265+O265+P265+Q265+R265+S265+T265+U265+W265+X265+Y265+Z265+AA265+AB265+AC265>0,\"Classe\",\"\"),IF(OR(AND(E265<>0,F265=0,SUM(N265:U265)=0,SUM(W265:AC265)=0,H265+K265=0,G265+J265=E265),AND(F265<>0,E265=0,SUM(N265:U265)=0,SUM(W265:AC265)=0,G265+J265=0,H265+K265=F265),AND(E265=0,F265=0,H265+K265<>0,H265+K265=SUM(W265:AC265),SUM(N265:U265)=0,(H265+K265)<>(G265+J265)),AND(E265=0,F265=0,G265+J265<>0,G265+J265=SUM(N265:U265),SUM(W265:AC265)=0,(H265+K265)<>(G265+J265)),AND(E265=0,F265=0,J265=0,N265+O265+P265+Q265+R265+S265+T265+U265+W265+X265+Y265+Z265+AA265+AB265+AC265=0,K265<>0,K265=G265),AND(E265=0,F265=0,J265<>0,N265+O265+P265+Q265+R265+S265+T265+U265+W265+X265+Y265+Z265+AA265+AB265+AC265=0,K265=0,J265=H265)),\"OK\",\"??\"))","v":""}]
[259,null,null,null,null,null,null,null,{"$f":"IF(D266=\"\",\"\",I265+G266-H266)","v":""},null,null,{"$f":"IF(D266=\"\",\"\",L265+J266-K266)","v":""},{"$f":"IF(D266=\"\",\"\",I266+L266)","v":""},null,null,null,null,null,null,null,null,{"$f":"IF(E266+F266+G266+H266+J266+K266=0,IF(N266+O266+P266+Q266+R266+S266+T266+U266+W266+X266+Y266+Z266+AA266+AB266+AC266>0,\"Classe\",\"\"),IF(OR(AND(E266<>0,F266=0,SUM(N266:U266)=0,SUM(W266:AC266)=0,H266+K266=0,G266+J266=E266),AND(F266<>0,E266=0,SUM(N266:U266)=0,SUM(W266:AC266)=0,G266+J266=0,H266+K266=F266),AND(E266=0,F266=0,H266+K266<>0,H266+K266=SUM(W266:AC266),SUM(N266:U266)=0,(H266+K266)<>(G266+J266)),AND(E266=0,F266=0,G266+J266<>0,G266+J266=SUM(N266:U266),SUM(W266:AC266)=0,(H266+K266)<>(G266+J266)),AND(E266=0,F266=0,J266=0,N266+O266+P266+Q266+R266+S266+T266+U266+W266+X266+Y266+Z266+AA266+AB266+AC266=0,K266<>0,K266=G266),AND(E266=0,F266=0,J266<>0,N266+O266+P266+Q266+R266+S266+T266+U266+W266+X266+Y266+Z266+AA266+AB266+AC266=0,K266=0,J266=H266)),\"OK\",\"??\"))","v":""}]
[260,null,null,null,null,null,null,null,{"$f":"IF(D267=\"\",\"\",I266+G267-H267)","v":""},null,null,{"$f":"IF(D267=\"\",\"\",L266+J267-K267)","v":""},{"$f":"IF(D267=\"\",\"\",I267+L267)","v":""},null,null,null,null,null,null,null,null,{"$f":"IF(E267+F267+G267+H267+J267+K267=0,IF(N267+O267+P267+Q267+R267+S267+T267+U267+W267+X267+Y267+Z267+AA267+AB267+AC267>0,\"Classe\",\"\"),IF(OR(AND(E267<>0,F267=0,SUM(N267:U267)=0,SUM(W267:AC267)=0,H267+K267=0,G267+J267=E267),AND(F267<>0,E267=0,SUM(N267:U267)=0,SUM(W267:AC267)=0,G267+J267=0,H267+K267=F267),AND(E267=0,F267=0,H267+K267<>0,H267+K267=SUM(W267:AC267),SUM(N267:U267)=0,(H267+K267)<>(G267+J267)),AND(E267=0,F267=0,G267+J267<>0,G267+J267=SUM(N267:U267),SUM(W267:AC267)=0,(H267+K267)<>(G267+J267)),AND(E267=0,F267=0,J267=0,N267+O267+P267+Q267+R267+S267+T267+U267+W267+X267+Y267+Z267+AA267+AB267+AC267=0,K267<>0,K267=G267),AND(E267=0,F267=0,J267<>0,N267+O267+P267+Q267+R267+S267+T267+U267+W267+X267+Y267+Z267+AA267+AB267+AC267=0,K267=0,J267=H267)),\"OK\",\"??\"))","v":""}]
[261,null,null,null,null,null,null,null,{"$f":"IF(D268=\"\",\"\",I267+G268-H268)","v":""},null,null,{"$f":"IF(D268=\"\",\"\",L267+J268-K268)","v":""},{"$f":"IF(D268=\"\",\"\",I268+L268)","v":""},null,null,null,null,null,null,null,null,{"$f":"IF(E268+F268+G268+H268+J268+K268=0,IF(N268+O268+P268+Q268+R268+S268+T268+U268+W268+X268+Y268+Z268+AA268+AB268+AC268>0,\"Classe\",\"\"),IF(OR(AND(E268<>0,F268=0,SUM(N268:U268)=0,SUM(W268:AC268)=0,H268+K268=0,G268+J268=E268),AND(F268<>0,E268=0,SUM(N268:U268)=0,SUM(W268:AC268)=0,G268+J268=0,H268+K268=F268),AND(E268=0,F268=0,H268+K268<>0,H268+K268=SUM(W268:AC268),SUM(N268:U268)=0,(H268+K268)<>(G268+J268)),AND(E268=0,F268=0,G268+J268<>0,G268+J268=SUM(N268:U268),SUM(W268:AC268)=0,(H268+K268)<>(G268+J268)),AND(E268=0,F268=0,J268=0,N268+O268+P268+Q268+R268+S268+T268+U268+W268+X268+Y268+Z268+AA268+AB268+AC268=0,K268<>0,K268=G268),AND(E268=0,F268=0,J268<>0,N268+O268+P268+Q268+R268+S268+T268+U268+W268+X268+Y268+Z268+AA268+AB268+AC268=0,K268=0,J268=H268)),\"OK\",\"??\"))","v":""}]
[262,null,null,null,null,null,null,null,{"$f":"IF(D269=\"\",\"\",I268+G269-H269)","v":""},null,null,{"$f":"IF(D269=\"\",\"\",L268+J269-K269)","v":""},{"$f":"IF(D269=\"\",\"\",I269+L269)","v":""},null,null,null,null,null,null,null,null,{"$f":"IF(E269+F269+G269+H269+J269+K269=0,IF(N269+O269+P269+Q269+R269+S269+T269+U269+W269+X269+Y269+Z269+AA269+AB269+AC269>0,\"Classe\",\"\"),IF(OR(AND(E269<>0,F269=0,SUM(N269:U269)=0,SUM(W269:AC269)=0,H269+K269=0,G269+J269=E269),AND(F269<>0,E269=0,SUM(N269:U269)=0,SUM(W269:AC269)=0,G269+J269=0,H269+K269=F269),AND(E269=0,F269=0,H269+K269<>0,H269+K269=SUM(W269:AC269),SUM(N269:U269)=0,(H269+K269)<>(G269+J269)),AND(E269=0,F269=0,G269+J269<>0,G269+J269=SUM(N269:U269),SUM(W269:AC269)=0,(H269+K269)<>(G269+J269)),AND(E269=0,F269=0,J269=0,N269+O269+P269+Q269+R269+S269+T269+U269+W269+X269+Y269+Z269+AA269+AB269+AC269=0,K269<>0,K269=G269),AND(E269=0,F269=0,J269<>0,N269+O269+P269+Q269+R269+S269+T269+U269+W269+X269+Y269+Z269+AA269+AB269+AC269=0,K269=0,J269=H269)),\"OK\",\"??\"))","v":""}]
[263,null,null,null,null,null,null,null,{"$f":"IF(D270=\"\",\"\",I269+G270-H270)","v":""},null,null,{"$f":"IF(D270=\"\",\"\",L269+J270-K270)","v":""},{"$f":"IF(D270=\"\",\"\",I270+L270)","v":""},null,null,null,null,null,null,null,null,{"$f":"IF(E270+F270+G270+H270+J270+K270=0,IF(N270+O270+P270+Q270+R270+S270+T270+U270+W270+X270+Y270+Z270+AA270+AB270+AC270>0,\"Classe\",\"\"),IF(OR(AND(E270<>0,F270=0,SUM(N270:U270)=0,SUM(W270:AC270)=0,H270+K270=0,G270+J270=E270),AND(F270<>0,E270=0,SUM(N270:U270)=0,SUM(W270:AC270)=0,G270+J270=0,H270+K270=F270),AND(E270=0,F270=0,H270+K270<>0,H270+K270=SUM(W270:AC270),SUM(N270:U270)=0,(H270+K270)<>(G270+J270)),AND(E270=0,F270=0,G270+J270<>0,G270+J270=SUM(N270:U270),SUM(W270:AC270)=0,(H270+K270)<>(G270+J270)),AND(E270=0,F270=0,J270=0,N270+O270+P270+Q270+R270+S270+T270+U270+W270+X270+Y270+Z270+AA270+AB270+AC270=0,K270<>0,K270=G270),AND(E270=0,F270=0,J270<>0,N270+O270+P270+Q270+R270+S270+T270+U270+W270+X270+Y270+Z270+AA270+AB270+AC270=0,K270=0,J270=H270)),\"OK\",\"??\"))","v":""}]
[264,null,null,null,null,null,null,null,{"$f":"IF(D271=\"\",\"\",I270+G271-H271)","v":""},null,null,{"$f":"IF(D271=\"\",\"\",L270+J271-K271)","v":""},{"$f":"IF(D271=\"\",\"\",I271+L271)","v":""},null,null,null,null,null,null,null,null,{"$f":"IF(E271+F271+G271+H271+J271+K271=0,IF(N271+O271+P271+Q271+R271+S271+T271+U271+W271+X271+Y271+Z271+AA271+AB271+AC271>0,\"Classe\",\"\"),IF(OR(AND(E271<>0,F271=0,SUM(N271:U271)=0,SUM(W271:AC271)=0,H271+K271=0,G271+J271=E271),AND(F271<>0,E271=0,SUM(N271:U271)=0,SUM(W271:AC271)=0,G271+J271=0,H271+K271=F271),AND(E271=0,F271=0,H271+K271<>0,H271+K271=SUM(W271:AC271),SUM(N271:U271)=0,(H271+K271)<>(G271+J271)),AND(E271=0,F271=0,G271+J271<>0,G271+J271=SUM(N271:U271),SUM(W271:AC271)=0,(H271+K271)<>(G271+J271)),AND(E271=0,F271=0,J271=0,N271+O271+P271+Q271+R271+S271+T271+U271+W271+X271+Y271+Z271+AA271+AB271+AC271=0,K271<>0,K271=G271),AND(E271=0,F271=0,J271<>0,N271+O271+P271+Q271+R271+S271+T271+U271+W271+X271+Y271+Z271+AA271+AB271+AC271=0,K271=0,J271=H271)),\"OK\",\"??\"))","v":""}]
[265,null,null,null,null,null,null,null,{"$f":"IF(D272=\"\",\"\",I271+G272-H272)","v":""},null,null,{"$f":"IF(D272=\"\",\"\",L271+J272-K272)","v":""},{"$f":"IF(D272=\"\",\"\",I272+L272)","v":""},null,null,null,null,null,null,null,null,{"$f":"IF(E272+F272+G272+H272+J272+K272=0,IF(N272+O272+P272+Q272+R272+S272+T272+U272+W272+X272+Y272+Z272+AA272+AB272+AC272>0,\"Classe\",\"\"),IF(OR(AND(E272<>0,F272=0,SUM(N272:U272)=0,SUM(W272:AC272)=0,H272+K272=0,G272+J272=E272),AND(F272<>0,E272=0,SUM(N272:U272)=0,SUM(W272:AC272)=0,G272+J272=0,H272+K272=F272),AND(E272=0,F272=0,H272+K272<>0,H272+K272=SUM(W272:AC272),SUM(N272:U272)=0,(H272+K272)<>(G272+J272)),AND(E272=0,F272=0,G272+J272<>0,G272+J272=SUM(N272:U272),SUM(W272:AC272)=0,(H272+K272)<>(G272+J272)),AND(E272=0,F272=0,J272=0,N272+O272+P272+Q272+R272+S272+T272+U272+W272+X272+Y272+Z272+AA272+AB272+AC272=0,K272<>0,K272=G272),AND(E272=0,F272=0,J272<>0,N272+O272+P272+Q272+R272+S272+T272+U272+W272+X272+Y272+Z272+AA272+AB272+AC272=0,K272=0,J272=H272)),\"OK\",\"??\"))","v":""}]
[266,null,null,null,null,null,null,null,{"$f":"IF(D273=\"\",\"\",I272+G273-H273)","v":""},null,null,{"$f":"IF(D273=\"\",\"\",L272+J273-K273)","v":""},{"$f":"IF(D273=\"\",\"\",I273+L273)","v":""},null,null,null,null,null,null,null,null,{"$f":"IF(E273+F273+G273+H273+J273+K273=0,IF(N273+O273+P273+Q273+R273+S273+T273+U273+W273+X273+Y273+Z273+AA273+AB273+AC273>0,\"Classe\",\"\"),IF(OR(AND(E273<>0,F273=0,SUM(N273:U273)=0,SUM(W273:AC273)=0,H273+K273=0,G273+J273=E273),AND(F273<>0,E273=0,SUM(N273:U273)=0,SUM(W273:AC273)=0,G273+J273=0,H273+K273=F273),AND(E273=0,F273=0,H273+K273<>0,H273+K273=SUM(W273:AC273),SUM(N273:U273)=0,(H273+K273)<>(G273+J273)),AND(E273=0,F273=0,G273+J273<>0,G273+J273=SUM(N273:U273),SUM(W273:AC273)=0,(H273+K273)<>(G273+J273)),AND(E273=0,F273=0,J273=0,N273+O273+P273+Q273+R273+S273+T273+U273+W273+X273+Y273+Z273+AA273+AB273+AC273=0,K273<>0,K273=G273),AND(E273=0,F273=0,J273<>0,N273+O273+P273+Q273+R273+S273+T273+U273+W273+X273+Y273+Z273+AA273+AB273+AC273=0,K273=0,J273=H273)),\"OK\",\"??\"))","v":""}]
[267,null,null,null,null,null,null,null,{"$f":"IF(D274=\"\",\"\",I273+G274-H274)","v":""},null,null,{"$f":"IF(D274=\"\",\"\",L273+J274-K274)","v":""},{"$f":"IF(D274=\"\",\"\",I274+L274)","v":""},null,null,null,null,null,null,null,null,{"$f":"IF(E274+F274+G274+H274+J274+K274=0,IF(N274+O274+P274+Q274+R274+S274+T274+U274+W274+X274+Y274+Z274+AA274+AB274+AC274>0,\"Classe\",\"\"),IF(OR(AND(E274<>0,F274=0,SUM(N274:U274)=0,SUM(W274:AC274)=0,H274+K274=0,G274+J274=E274),AND(F274<>0,E274=0,SUM(N274:U274)=0,SUM(W274:AC274)=0,G274+J274=0,H274+K274=F274),AND(E274=0,F274=0,H274+K274<>0,H274+K274=SUM(W274:AC274),SUM(N274:U274)=0,(H274+K274)<>(G274+J274)),AND(E274=0,F274=0,G274+J274<>0,G274+J274=SUM(N274:U274),SUM(W274:AC274)=0,(H274+K274)<>(G274+J274)),AND(E274=0,F274=0,J274=0,N274+O274+P274+Q274+R274+S274+T274+U274+W274+X274+Y274+Z274+AA274+AB274+AC274=0,K274<>0,K274=G274),AND(E274=0,F274=0,J274<>0,N274+O274+P274+Q274+R274+S274+T274+U274+W274+X274+Y274+Z274+AA274+AB274+AC274=0,K274=0,J274=H274)),\"OK\",\"??\"))","v":""}]
[268,null,null,null,null,null,null,null,{"$f":"IF(D275=\"\",\"\",I274+G275-H275)","v":""},null,null,{"$f":"IF(D275=\"\",\"\",L274+J275-K275)","v":""},{"$f":"IF(D275=\"\",\"\",I275+L275)","v":""},null,null,null,null,null,null,null,null,{"$f":"IF(E275+F275+G275+H275+J275+K275=0,IF(N275+O275+P275+Q275+R275+S275+T275+U275+W275+X275+Y275+Z275+AA275+AB275+AC275>0,\"Classe\",\"\"),IF(OR(AND(E275<>0,F275=0,SUM(N275:U275)=0,SUM(W275:AC275)=0,H275+K275=0,G275+J275=E275),AND(F275<>0,E275=0,SUM(N275:U275)=0,SUM(W275:AC275)=0,G275+J275=0,H275+K275=F275),AND(E275=0,F275=0,H275+K275<>0,H275+K275=SUM(W275:AC275),SUM(N275:U275)=0,(H275+K275)<>(G275+J275)),AND(E275=0,F275=0,G275+J275<>0,G275+J275=SUM(N275:U275),SUM(W275:AC275)=0,(H275+K275)<>(G275+J275)),AND(E275=0,F275=0,J275=0,N275+O275+P275+Q275+R275+S275+T275+U275+W275+X275+Y275+Z275+AA275+AB275+AC275=0,K275<>0,K275=G275),AND(E275=0,F275=0,J275<>0,N275+O275+P275+Q275+R275+S275+T275+U275+W275+X275+Y275+Z275+AA275+AB275+AC275=0,K275=0,J275=H275)),\"OK\",\"??\"))","v":""}]
[269,null,null,null,null,null,null,null,{"$f":"IF(D276=\"\",\"\",I275+G276-H276)","v":""},null,null,{"$f":"IF(D276=\"\",\"\",L275+J276-K276)","v":""},{"$f":"IF(D276=\"\",\"\",I276+L276)","v":""},null,null,null,null,null,null,null,null,{"$f":"IF(E276+F276+G276+H276+J276+K276=0,IF(N276+O276+P276+Q276+R276+S276+T276+U276+W276+X276+Y276+Z276+AA276+AB276+AC276>0,\"Classe\",\"\"),IF(OR(AND(E276<>0,F276=0,SUM(N276:U276)=0,SUM(W276:AC276)=0,H276+K276=0,G276+J276=E276),AND(F276<>0,E276=0,SUM(N276:U276)=0,SUM(W276:AC276)=0,G276+J276=0,H276+K276=F276),AND(E276=0,F276=0,H276+K276<>0,H276+K276=SUM(W276:AC276),SUM(N276:U276)=0,(H276+K276)<>(G276+J276)),AND(E276=0,F276=0,G276+J276<>0,G276+J276=SUM(N276:U276),SUM(W276:AC276)=0,(H276+K276)<>(G276+J276)),AND(E276=0,F276=0,J276=0,N276+O276+P276+Q276+R276+S276+T276+U276+W276+X276+Y276+Z276+AA276+AB276+AC276=0,K276<>0,K276=G276),AND(E276=0,F276=0,J276<>0,N276+O276+P276+Q276+R276+S276+T276+U276+W276+X276+Y276+Z276+AA276+AB276+AC276=0,K276=0,J276=H276)),\"OK\",\"??\"))","v":""}]
[270,null,null,null,null,null,null,null,{"$f":"IF(D277=\"\",\"\",I276+G277-H277)","v":""},null,null,{"$f":"IF(D277=\"\",\"\",L276+J277-K277)","v":""},{"$f":"IF(D277=\"\",\"\",I277+L277)","v":""},null,null,null,null,null,null,null,null,{"$f":"IF(E277+F277+G277+H277+J277+K277=0,IF(N277+O277+P277+Q277+R277+S277+T277+U277+W277+X277+Y277+Z277+AA277+AB277+AC277>0,\"Classe\",\"\"),IF(OR(AND(E277<>0,F277=0,SUM(N277:U277)=0,SUM(W277:AC277)=0,H277+K277=0,G277+J277=E277),AND(F277<>0,E277=0,SUM(N277:U277)=0,SUM(W277:AC277)=0,G277+J277=0,H277+K277=F277),AND(E277=0,F277=0,H277+K277<>0,H277+K277=SUM(W277:AC277),SUM(N277:U277)=0,(H277+K277)<>(G277+J277)),AND(E277=0,F277=0,G277+J277<>0,G277+J277=SUM(N277:U277),SUM(W277:AC277)=0,(H277+K277)<>(G277+J277)),AND(E277=0,F277=0,J277=0,N277+O277+P277+Q277+R277+S277+T277+U277+W277+X277+Y277+Z277+AA277+AB277+AC277=0,K277<>0,K277=G277),AND(E277=0,F277=0,J277<>0,N277+O277+P277+Q277+R277+S277+T277+U277+W277+X277+Y277+Z277+AA277+AB277+AC277=0,K277=0,J277=H277)),\"OK\",\"??\"))","v":""}]
[271,null,null,null,null,null,null,null,{"$f":"IF(D278=\"\",\"\",I277+G278-H278)","v":""},null,null,{"$f":"IF(D278=\"\",\"\",L277+J278-K278)","v":""},{"$f":"IF(D278=\"\",\"\",I278+L278)","v":""},null,null,null,null,null,null,null,null,{"$f":"IF(E278+F278+G278+H278+J278+K278=0,IF(N278+O278+P278+Q278+R278+S278+T278+U278+W278+X278+Y278+Z278+AA278+AB278+AC278>0,\"Classe\",\"\"),IF(OR(AND(E278<>0,F278=0,SUM(N278:U278)=0,SUM(W278:AC278)=0,H278+K278=0,G278+J278=E278),AND(F278<>0,E278=0,SUM(N278:U278)=0,SUM(W278:AC278)=0,G278+J278=0,H278+K278=F278),AND(E278=0,F278=0,H278+K278<>0,H278+K278=SUM(W278:AC278),SUM(N278:U278)=0,(H278+K278)<>(G278+J278)),AND(E278=0,F278=0,G278+J278<>0,G278+J278=SUM(N278:U278),SUM(W278:AC278)=0,(H278+K278)<>(G278+J278)),AND(E278=0,F278=0,J278=0,N278+O278+P278+Q278+R278+S278+T278+U278+W278+X278+Y278+Z278+AA278+AB278+AC278=0,K278<>0,K278=G278),AND(E278=0,F278=0,J278<>0,N278+O278+P278+Q278+R278+S278+T278+U278+W278+X278+Y278+Z278+AA278+AB278+AC278=0,K278=0,J278=H278)),\"OK\",\"??\"))","v":""}]
[272,null,null,null,null,null,null,null,{"$f":"IF(D279=\"\",\"\",I278+G279-H279)","v":""},null,null,{"$f":"IF(D279=\"\",\"\",L278+J279-K279)","v":""},{"$f":"IF(D279=\"\",\"\",I279+L279)","v":""},null,null,null,null,null,null,null,null,{"$f":"IF(E279+F279+G279+H279+J279+K279=0,IF(N279+O279+P279+Q279+R279+S279+T279+U279+W279+X279+Y279+Z279+AA279+AB279+AC279>0,\"Classe\",\"\"),IF(OR(AND(E279<>0,F279=0,SUM(N279:U279)=0,SUM(W279:AC279)=0,H279+K279=0,G279+J279=E279),AND(F279<>0,E279=0,SUM(N279:U279)=0,SUM(W279:AC279)=0,G279+J279=0,H279+K279=F279),AND(E279=0,F279=0,H279+K279<>0,H279+K279=SUM(W279:AC279),SUM(N279:U279)=0,(H279+K279)<>(G279+J279)),AND(E279=0,F279=0,G279+J279<>0,G279+J279=SUM(N279:U279),SUM(W279:AC279)=0,(H279+K279)<>(G279+J279)),AND(E279=0,F279=0,J279=0,N279+O279+P279+Q279+R279+S279+T279+U279+W279+X279+Y279+Z279+AA279+AB279+AC279=0,K279<>0,K279=G279),AND(E279=0,F279=0,J279<>0,N279+O279+P279+Q279+R279+S279+T279+U279+W279+X279+Y279+Z279+AA279+AB279+AC279=0,K279=0,J279=H279)),\"OK\",\"??\"))","v":""}]
[273,null,null,null,null,null,null,null,{"$f":"IF(D280=\"\",\"\",I279+G280-H280)","v":""},null,null,{"$f":"IF(D280=\"\",\"\",L279+J280-K280)","v":""},{"$f":"IF(D280=\"\",\"\",I280+L280)","v":""},null,null,null,null,null,null,null,null,{"$f":"IF(E280+F280+G280+H280+J280+K280=0,IF(N280+O280+P280+Q280+R280+S280+T280+U280+W280+X280+Y280+Z280+AA280+AB280+AC280>0,\"Classe\",\"\"),IF(OR(AND(E280<>0,F280=0,SUM(N280:U280)=0,SUM(W280:AC280)=0,H280+K280=0,G280+J280=E280),AND(F280<>0,E280=0,SUM(N280:U280)=0,SUM(W280:AC280)=0,G280+J280=0,H280+K280=F280),AND(E280=0,F280=0,H280+K280<>0,H280+K280=SUM(W280:AC280),SUM(N280:U280)=0,(H280+K280)<>(G280+J280)),AND(E280=0,F280=0,G280+J280<>0,G280+J280=SUM(N280:U280),SUM(W280:AC280)=0,(H280+K280)<>(G280+J280)),AND(E280=0,F280=0,J280=0,N280+O280+P280+Q280+R280+S280+T280+U280+W280+X280+Y280+Z280+AA280+AB280+AC280=0,K280<>0,K280=G280),AND(E280=0,F280=0,J280<>0,N280+O280+P280+Q280+R280+S280+T280+U280+W280+X280+Y280+Z280+AA280+AB280+AC280=0,K280=0,J280=H280)),\"OK\",\"??\"))","v":""}]
[274,null,null,null,null,null,null,null,{"$f":"IF(D281=\"\",\"\",I280+G281-H281)","v":""},null,null,{"$f":"IF(D281=\"\",\"\",L280+J281-K281)","v":""},{"$f":"IF(D281=\"\",\"\",I281+L281)","v":""},null,null,null,null,null,null,null,null,{"$f":"IF(E281+F281+G281+H281+J281+K281=0,IF(N281+O281+P281+Q281+R281+S281+T281+U281+W281+X281+Y281+Z281+AA281+AB281+AC281>0,\"Classe\",\"\"),IF(OR(AND(E281<>0,F281=0,SUM(N281:U281)=0,SUM(W281:AC281)=0,H281+K281=0,G281+J281=E281),AND(F281<>0,E281=0,SUM(N281:U281)=0,SUM(W281:AC281)=0,G281+J281=0,H281+K281=F281),AND(E281=0,F281=0,H281+K281<>0,H281+K281=SUM(W281:AC281),SUM(N281:U281)=0,(H281+K281)<>(G281+J281)),AND(E281=0,F281=0,G281+J281<>0,G281+J281=SUM(N281:U281),SUM(W281:AC281)=0,(H281+K281)<>(G281+J281)),AND(E281=0,F281=0,J281=0,N281+O281+P281+Q281+R281+S281+T281+U281+W281+X281+Y281+Z281+AA281+AB281+AC281=0,K281<>0,K281=G281),AND(E281=0,F281=0,J281<>0,N281+O281+P281+Q281+R281+S281+T281+U281+W281+X281+Y281+Z281+AA281+AB281+AC281=0,K281=0,J281=H281)),\"OK\",\"??\"))","v":""}]
[275,null,null,null,null,null,null,null,{"$f":"IF(D282=\"\",\"\",I281+G282-H282)","v":""},null,null,{"$f":"IF(D282=\"\",\"\",L281+J282-K282)","v":""},{"$f":"IF(D282=\"\",\"\",I282+L282)","v":""},null,null,null,null,null,null,null,null,{"$f":"IF(E282+F282+G282+H282+J282+K282=0,IF(N282+O282+P282+Q282+R282+S282+T282+U282+W282+X282+Y282+Z282+AA282+AB282+AC282>0,\"Classe\",\"\"),IF(OR(AND(E282<>0,F282=0,SUM(N282:U282)=0,SUM(W282:AC282)=0,H282+K282=0,G282+J282=E282),AND(F282<>0,E282=0,SUM(N282:U282)=0,SUM(W282:AC282)=0,G282+J282=0,H282+K282=F282),AND(E282=0,F282=0,H282+K282<>0,H282+K282=SUM(W282:AC282),SUM(N282:U282)=0,(H282+K282)<>(G282+J282)),AND(E282=0,F282=0,G282+J282<>0,G282+J282=SUM(N282:U282),SUM(W282:AC282)=0,(H282+K282)<>(G282+J282)),AND(E282=0,F282=0,J282=0,N282+O282+P282+Q282+R282+S282+T282+U282+W282+X282+Y282+Z282+AA282+AB282+AC282=0,K282<>0,K282=G282),AND(E282=0,F282=0,J282<>0,N282+O282+P282+Q282+R282+S282+T282+U282+W282+X282+Y282+Z282+AA282+AB282+AC282=0,K282=0,J282=H282)),\"OK\",\"??\"))","v":""}]
[276,null,null,null,null,null,null,null,{"$f":"IF(D283=\"\",\"\",I282+G283-H283)","v":""},null,null,{"$f":"IF(D283=\"\",\"\",L282+J283-K283)","v":""},{"$f":"IF(D283=\"\",\"\",I283+L283)","v":""},null,null,null,null,null,null,null,null,{"$f":"IF(E283+F283+G283+H283+J283+K283=0,IF(N283+O283+P283+Q283+R283+S283+T283+U283+W283+X283+Y283+Z283+AA283+AB283+AC283>0,\"Classe\",\"\"),IF(OR(AND(E283<>0,F283=0,SUM(N283:U283)=0,SUM(W283:AC283)=0,H283+K283=0,G283+J283=E283),AND(F283<>0,E283=0,SUM(N283:U283)=0,SUM(W283:AC283)=0,G283+J283=0,H283+K283=F283),AND(E283=0,F283=0,H283+K283<>0,H283+K283=SUM(W283:AC283),SUM(N283:U283)=0,(H283+K283)<>(G283+J283)),AND(E283=0,F283=0,G283+J283<>0,G283+J283=SUM(N283:U283),SUM(W283:AC283)=0,(H283+K283)<>(G283+J283)),AND(E283=0,F283=0,J283=0,N283+O283+P283+Q283+R283+S283+T283+U283+W283+X283+Y283+Z283+AA283+AB283+AC283=0,K283<>0,K283=G283),AND(E283=0,F283=0,J283<>0,N283+O283+P283+Q283+R283+S283+T283+U283+W283+X283+Y283+Z283+AA283+AB283+AC283=0,K283=0,J283=H283)),\"OK\",\"??\"))","v":""}]
[277,null,null,null,null,null,null,null,{"$f":"IF(D284=\"\",\"\",I283+G284-H284)","v":""},null,null,{"$f":"IF(D284=\"\",\"\",L283+J284-K284)","v":""},{"$f":"IF(D284=\"\",\"\",I284+L284)","v":""},null,null,null,null,null,null,null,null,{"$f":"IF(E284+F284+G284+H284+J284+K284=0,IF(N284+O284+P284+Q284+R284+S284+T284+U284+W284+X284+Y284+Z284+AA284+AB284+AC284>0,\"Classe\",\"\"),IF(OR(AND(E284<>0,F284=0,SUM(N284:U284)=0,SUM(W284:AC284)=0,H284+K284=0,G284+J284=E284),AND(F284<>0,E284=0,SUM(N284:U284)=0,SUM(W284:AC284)=0,G284+J284=0,H284+K284=F284),AND(E284=0,F284=0,H284+K284<>0,H284+K284=SUM(W284:AC284),SUM(N284:U284)=0,(H284+K284)<>(G284+J284)),AND(E284=0,F284=0,G284+J284<>0,G284+J284=SUM(N284:U284),SUM(W284:AC284)=0,(H284+K284)<>(G284+J284)),AND(E284=0,F284=0,J284=0,N284+O284+P284+Q284+R284+S284+T284+U284+W284+X284+Y284+Z284+AA284+AB284+AC284=0,K284<>0,K284=G284),AND(E284=0,F284=0,J284<>0,N284+O284+P284+Q284+R284+S284+T284+U284+W284+X284+Y284+Z284+AA284+AB284+AC284=0,K284=0,J284=H284)),\"OK\",\"??\"))","v":""}]
[278,null,null,null,null,null,null,null,{"$f":"IF(D285=\"\",\"\",I284+G285-H285)","v":""},null,null,{"$f":"IF(D285=\"\",\"\",L284+J285-K285)","v":""},{"$f":"IF(D285=\"\",\"\",I285+L285)","v":""},null,null,null,null,null,null,null,null,{"$f":"IF(E285+F285+G285+H285+J285+K285=0,IF(N285+O285+P285+Q285+R285+S285+T285+U285+W285+X285+Y285+Z285+AA285+AB285+AC285>0,\"Classe\",\"\"),IF(OR(AND(E285<>0,F285=0,SUM(N285:U285)=0,SUM(W285:AC285)=0,H285+K285=0,G285+J285=E285),AND(F285<>0,E285=0,SUM(N285:U285)=0,SUM(W285:AC285)=0,G285+J285=0,H285+K285=F285),AND(E285=0,F285=0,H285+K285<>0,H285+K285=SUM(W285:AC285),SUM(N285:U285)=0,(H285+K285)<>(G285+J285)),AND(E285=0,F285=0,G285+J285<>0,G285+J285=SUM(N285:U285),SUM(W285:AC285)=0,(H285+K285)<>(G285+J285)),AND(E285=0,F285=0,J285=0,N285+O285+P285+Q285+R285+S285+T285+U285+W285+X285+Y285+Z285+AA285+AB285+AC285=0,K285<>0,K285=G285),AND(E285=0,F285=0,J285<>0,N285+O285+P285+Q285+R285+S285+T285+U285+W285+X285+Y285+Z285+AA285+AB285+AC285=0,K285=0,J285=H285)),\"OK\",\"??\"))","v":""}]
[279,null,null,null,null,null,null,null,{"$f":"IF(D286=\"\",\"\",I285+G286-H286)","v":""},null,null,{"$f":"IF(D286=\"\",\"\",L285+J286-K286)","v":""},{"$f":"IF(D286=\"\",\"\",I286+L286)","v":""},null,null,null,null,null,null,null,null,{"$f":"IF(E286+F286+G286+H286+J286+K286=0,IF(N286+O286+P286+Q286+R286+S286+T286+U286+W286+X286+Y286+Z286+AA286+AB286+AC286>0,\"Classe\",\"\"),IF(OR(AND(E286<>0,F286=0,SUM(N286:U286)=0,SUM(W286:AC286)=0,H286+K286=0,G286+J286=E286),AND(F286<>0,E286=0,SUM(N286:U286)=0,SUM(W286:AC286)=0,G286+J286=0,H286+K286=F286),AND(E286=0,F286=0,H286+K286<>0,H286+K286=SUM(W286:AC286),SUM(N286:U286)=0,(H286+K286)<>(G286+J286)),AND(E286=0,F286=0,G286+J286<>0,G286+J286=SUM(N286:U286),SUM(W286:AC286)=0,(H286+K286)<>(G286+J286)),AND(E286=0,F286=0,J286=0,N286+O286+P286+Q286+R286+S286+T286+U286+W286+X286+Y286+Z286+AA286+AB286+AC286=0,K286<>0,K286=G286),AND(E286=0,F286=0,J286<>0,N286+O286+P286+Q286+R286+S286+T286+U286+W286+X286+Y286+Z286+AA286+AB286+AC286=0,K286=0,J286=H286)),\"OK\",\"??\"))","v":""}]
[280,null,null,null,null,null,null,null,{"$f":"IF(D287=\"\",\"\",I286+G287-H287)","v":""},null,null,{"$f":"IF(D287=\"\",\"\",L286+J287-K287)","v":""},{"$f":"IF(D287=\"\",\"\",I287+L287)","v":""},null,null,null,null,null,null,null,null,{"$f":"IF(E287+F287+G287+H287+J287+K287=0,IF(N287+O287+P287+Q287+R287+S287+T287+U287+W287+X287+Y287+Z287+AA287+AB287+AC287>0,\"Classe\",\"\"),IF(OR(AND(E287<>0,F287=0,SUM(N287:U287)=0,SUM(W287:AC287)=0,H287+K287=0,G287+J287=E287),AND(F287<>0,E287=0,SUM(N287:U287)=0,SUM(W287:AC287)=0,G287+J287=0,H287+K287=F287),AND(E287=0,F287=0,H287+K287<>0,H287+K287=SUM(W287:AC287),SUM(N287:U287)=0,(H287+K287)<>(G287+J287)),AND(E287=0,F287=0,G287+J287<>0,G287+J287=SUM(N287:U287),SUM(W287:AC287)=0,(H287+K287)<>(G287+J287)),AND(E287=0,F287=0,J287=0,N287+O287+P287+Q287+R287+S287+T287+U287+W287+X287+Y287+Z287+AA287+AB287+AC287=0,K287<>0,K287=G287),AND(E287=0,F287=0,J287<>0,N287+O287+P287+Q287+R287+S287+T287+U287+W287+X287+Y287+Z287+AA287+AB287+AC287=0,K287=0,J287=H287)),\"OK\",\"??\"))","v":""}]
[281,null,null,null,null,null,null,null,{"$f":"IF(D288=\"\",\"\",I287+G288-H288)","v":""},null,null,{"$f":"IF(D288=\"\",\"\",L287+J288-K288)","v":""},{"$f":"IF(D288=\"\",\"\",I288+L288)","v":""},null,null,null,null,null,null,null,null,{"$f":"IF(E288+F288+G288+H288+J288+K288=0,IF(N288+O288+P288+Q288+R288+S288+T288+U288+W288+X288+Y288+Z288+AA288+AB288+AC288>0,\"Classe\",\"\"),IF(OR(AND(E288<>0,F288=0,SUM(N288:U288)=0,SUM(W288:AC288)=0,H288+K288=0,G288+J288=E288),AND(F288<>0,E288=0,SUM(N288:U288)=0,SUM(W288:AC288)=0,G288+J288=0,H288+K288=F288),AND(E288=0,F288=0,H288+K288<>0,H288+K288=SUM(W288:AC288),SUM(N288:U288)=0,(H288+K288)<>(G288+J288)),AND(E288=0,F288=0,G288+J288<>0,G288+J288=SUM(N288:U288),SUM(W288:AC288)=0,(H288+K288)<>(G288+J288)),AND(E288=0,F288=0,J288=0,N288+O288+P288+Q288+R288+S288+T288+U288+W288+X288+Y288+Z288+AA288+AB288+AC288=0,K288<>0,K288=G288),AND(E288=0,F288=0,J288<>0,N288+O288+P288+Q288+R288+S288+T288+U288+W288+X288+Y288+Z288+AA288+AB288+AC288=0,K288=0,J288=H288)),\"OK\",\"??\"))","v":""}]
[282,null,null,null,null,null,null,null,{"$f":"IF(D289=\"\",\"\",I288+G289-H289)","v":""},null,null,{"$f":"IF(D289=\"\",\"\",L288+J289-K289)","v":""},{"$f":"IF(D289=\"\",\"\",I289+L289)","v":""},null,null,null,null,null,null,null,null,{"$f":"IF(E289+F289+G289+H289+J289+K289=0,IF(N289+O289+P289+Q289+R289+S289+T289+U289+W289+X289+Y289+Z289+AA289+AB289+AC289>0,\"Classe\",\"\"),IF(OR(AND(E289<>0,F289=0,SUM(N289:U289)=0,SUM(W289:AC289)=0,H289+K289=0,G289+J289=E289),AND(F289<>0,E289=0,SUM(N289:U289)=0,SUM(W289:AC289)=0,G289+J289=0,H289+K289=F289),AND(E289=0,F289=0,H289+K289<>0,H289+K289=SUM(W289:AC289),SUM(N289:U289)=0,(H289+K289)<>(G289+J289)),AND(E289=0,F289=0,G289+J289<>0,G289+J289=SUM(N289:U289),SUM(W289:AC289)=0,(H289+K289)<>(G289+J289)),AND(E289=0,F289=0,J289=0,N289+O289+P289+Q289+R289+S289+T289+U289+W289+X289+Y289+Z289+AA289+AB289+AC289=0,K289<>0,K289=G289),AND(E289=0,F289=0,J289<>0,N289+O289+P289+Q289+R289+S289+T289+U289+W289+X289+Y289+Z289+AA289+AB289+AC289=0,K289=0,J289=H289)),\"OK\",\"??\"))","v":""}]
[283,null,null,null,null,null,null,null,{"$f":"IF(D290=\"\",\"\",I289+G290-H290)","v":""},null,null,{"$f":"IF(D290=\"\",\"\",L289+J290-K290)","v":""},{"$f":"IF(D290=\"\",\"\",I290+L290)","v":""},null,null,null,null,null,null,null,null,{"$f":"IF(E290+F290+G290+H290+J290+K290=0,IF(N290+O290+P290+Q290+R290+S290+T290+U290+W290+X290+Y290+Z290+AA290+AB290+AC290>0,\"Classe\",\"\"),IF(OR(AND(E290<>0,F290=0,SUM(N290:U290)=0,SUM(W290:AC290)=0,H290+K290=0,G290+J290=E290),AND(F290<>0,E290=0,SUM(N290:U290)=0,SUM(W290:AC290)=0,G290+J290=0,H290+K290=F290),AND(E290=0,F290=0,H290+K290<>0,H290+K290=SUM(W290:AC290),SUM(N290:U290)=0,(H290+K290)<>(G290+J290)),AND(E290=0,F290=0,G290+J290<>0,G290+J290=SUM(N290:U290),SUM(W290:AC290)=0,(H290+K290)<>(G290+J290)),AND(E290=0,F290=0,J290=0,N290+O290+P290+Q290+R290+S290+T290+U290+W290+X290+Y290+Z290+AA290+AB290+AC290=0,K290<>0,K290=G290),AND(E290=0,F290=0,J290<>0,N290+O290+P290+Q290+R290+S290+T290+U290+W290+X290+Y290+Z290+AA290+AB290+AC290=0,K290=0,J290=H290)),\"OK\",\"??\"))","v":""}]
[284,null,null,null,null,null,null,null,{"$f":"IF(D291=\"\",\"\",I290+G291-H291)","v":""},null,null,{"$f":"IF(D291=\"\",\"\",L290+J291-K291)","v":""},{"$f":"IF(D291=\"\",\"\",I291+L291)","v":""},null,null,null,null,null,null,null,null,{"$f":"IF(E291+F291+G291+H291+J291+K291=0,IF(N291+O291+P291+Q291+R291+S291+T291+U291+W291+X291+Y291+Z291+AA291+AB291+AC291>0,\"Classe\",\"\"),IF(OR(AND(E291<>0,F291=0,SUM(N291:U291)=0,SUM(W291:AC291)=0,H291+K291=0,G291+J291=E291),AND(F291<>0,E291=0,SUM(N291:U291)=0,SUM(W291:AC291)=0,G291+J291=0,H291+K291=F291),AND(E291=0,F291=0,H291+K291<>0,H291+K291=SUM(W291:AC291),SUM(N291:U291)=0,(H291+K291)<>(G291+J291)),AND(E291=0,F291=0,G291+J291<>0,G291+J291=SUM(N291:U291),SUM(W291:AC291)=0,(H291+K291)<>(G291+J291)),AND(E291=0,F291=0,J291=0,N291+O291+P291+Q291+R291+S291+T291+U291+W291+X291+Y291+Z291+AA291+AB291+AC291=0,K291<>0,K291=G291),AND(E291=0,F291=0,J291<>0,N291+O291+P291+Q291+R291+S291+T291+U291+W291+X291+Y291+Z291+AA291+AB291+AC291=0,K291=0,J291=H291)),\"OK\",\"??\"))","v":""}]
[285,null,null,null,null,null,null,null,{"$f":"IF(D292=\"\",\"\",I291+G292-H292)","v":""},null,null,{"$f":"IF(D292=\"\",\"\",L291+J292-K292)","v":""},{"$f":"IF(D292=\"\",\"\",I292+L292)","v":""},null,null,null,null,null,null,null,null,{"$f":"IF(E292+F292+G292+H292+J292+K292=0,IF(N292+O292+P292+Q292+R292+S292+T292+U292+W292+X292+Y292+Z292+AA292+AB292+AC292>0,\"Classe\",\"\"),IF(OR(AND(E292<>0,F292=0,SUM(N292:U292)=0,SUM(W292:AC292)=0,H292+K292=0,G292+J292=E292),AND(F292<>0,E292=0,SUM(N292:U292)=0,SUM(W292:AC292)=0,G292+J292=0,H292+K292=F292),AND(E292=0,F292=0,H292+K292<>0,H292+K292=SUM(W292:AC292),SUM(N292:U292)=0,(H292+K292)<>(G292+J292)),AND(E292=0,F292=0,G292+J292<>0,G292+J292=SUM(N292:U292),SUM(W292:AC292)=0,(H292+K292)<>(G292+J292)),AND(E292=0,F292=0,J292=0,N292+O292+P292+Q292+R292+S292+T292+U292+W292+X292+Y292+Z292+AA292+AB292+AC292=0,K292<>0,K292=G292),AND(E292=0,F292=0,J292<>0,N292+O292+P292+Q292+R292+S292+T292+U292+W292+X292+Y292+Z292+AA292+AB292+AC292=0,K292=0,J292=H292)),\"OK\",\"??\"))","v":""}]
[286,null,null,null,null,null,null,null,{"$f":"IF(D293=\"\",\"\",I292+G293-H293)","v":""},null,null,{"$f":"IF(D293=\"\",\"\",L292+J293-K293)","v":""},{"$f":"IF(D293=\"\",\"\",I293+L293)","v":""},null,null,null,null,null,null,null,null,{"$f":"IF(E293+F293+G293+H293+J293+K293=0,IF(N293+O293+P293+Q293+R293+S293+T293+U293+W293+X293+Y293+Z293+AA293+AB293+AC293>0,\"Classe\",\"\"),IF(OR(AND(E293<>0,F293=0,SUM(N293:U293)=0,SUM(W293:AC293)=0,H293+K293=0,G293+J293=E293),AND(F293<>0,E293=0,SUM(N293:U293)=0,SUM(W293:AC293)=0,G293+J293=0,H293+K293=F293),AND(E293=0,F293=0,H293+K293<>0,H293+K293=SUM(W293:AC293),SUM(N293:U293)=0,(H293+K293)<>(G293+J293)),AND(E293=0,F293=0,G293+J293<>0,G293+J293=SUM(N293:U293),SUM(W293:AC293)=0,(H293+K293)<>(G293+J293)),AND(E293=0,F293=0,J293=0,N293+O293+P293+Q293+R293+S293+T293+U293+W293+X293+Y293+Z293+AA293+AB293+AC293=0,K293<>0,K293=G293),AND(E293=0,F293=0,J293<>0,N293+O293+P293+Q293+R293+S293+T293+U293+W293+X293+Y293+Z293+AA293+AB293+AC293=0,K293=0,J293=H293)),\"OK\",\"??\"))","v":""}]
[287,null,null,null,null,null,null,null,{"$f":"IF(D294=\"\",\"\",I293+G294-H294)","v":""},null,null,{"$f":"IF(D294=\"\",\"\",L293+J294-K294)","v":""},{"$f":"IF(D294=\"\",\"\",I294+L294)","v":""},null,null,null,null,null,null,null,null,{"$f":"IF(E294+F294+G294+H294+J294+K294=0,IF(N294+O294+P294+Q294+R294+S294+T294+U294+W294+X294+Y294+Z294+AA294+AB294+AC294>0,\"Classe\",\"\"),IF(OR(AND(E294<>0,F294=0,SUM(N294:U294)=0,SUM(W294:AC294)=0,H294+K294=0,G294+J294=E294),AND(F294<>0,E294=0,SUM(N294:U294)=0,SUM(W294:AC294)=0,G294+J294=0,H294+K294=F294),AND(E294=0,F294=0,H294+K294<>0,H294+K294=SUM(W294:AC294),SUM(N294:U294)=0,(H294+K294)<>(G294+J294)),AND(E294=0,F294=0,G294+J294<>0,G294+J294=SUM(N294:U294),SUM(W294:AC294)=0,(H294+K294)<>(G294+J294)),AND(E294=0,F294=0,J294=0,N294+O294+P294+Q294+R294+S294+T294+U294+W294+X294+Y294+Z294+AA294+AB294+AC294=0,K294<>0,K294=G294),AND(E294=0,F294=0,J294<>0,N294+O294+P294+Q294+R294+S294+T294+U294+W294+X294+Y294+Z294+AA294+AB294+AC294=0,K294=0,J294=H294)),\"OK\",\"??\"))","v":""}]
[288,null,null,null,null,null,null,null,{"$f":"IF(D295=\"\",\"\",I294+G295-H295)","v":""},null,null,{"$f":"IF(D295=\"\",\"\",L294+J295-K295)","v":""},{"$f":"IF(D295=\"\",\"\",I295+L295)","v":""},null,null,null,null,null,null,null,null,{"$f":"IF(E295+F295+G295+H295+J295+K295=0,IF(N295+O295+P295+Q295+R295+S295+T295+U295+W295+X295+Y295+Z295+AA295+AB295+AC295>0,\"Classe\",\"\"),IF(OR(AND(E295<>0,F295=0,SUM(N295:U295)=0,SUM(W295:AC295)=0,H295+K295=0,G295+J295=E295),AND(F295<>0,E295=0,SUM(N295:U295)=0,SUM(W295:AC295)=0,G295+J295=0,H295+K295=F295),AND(E295=0,F295=0,H295+K295<>0,H295+K295=SUM(W295:AC295),SUM(N295:U295)=0,(H295+K295)<>(G295+J295)),AND(E295=0,F295=0,G295+J295<>0,G295+J295=SUM(N295:U295),SUM(W295:AC295)=0,(H295+K295)<>(G295+J295)),AND(E295=0,F295=0,J295=0,N295+O295+P295+Q295+R295+S295+T295+U295+W295+X295+Y295+Z295+AA295+AB295+AC295=0,K295<>0,K295=G295),AND(E295=0,F295=0,J295<>0,N295+O295+P295+Q295+R295+S295+T295+U295+W295+X295+Y295+Z295+AA295+AB295+AC295=0,K295=0,J295=H295)),\"OK\",\"??\"))","v":""}]
[289,null,null,null,null,null,null,null,{"$f":"IF(D296=\"\",\"\",I295+G296-H296)","v":""},null,null,{"$f":"IF(D296=\"\",\"\",L295+J296-K296)","v":""},{"$f":"IF(D296=\"\",\"\",I296+L296)","v":""},null,null,null,null,null,null,null,null,{"$f":"IF(E296+F296+G296+H296+J296+K296=0,IF(N296+O296+P296+Q296+R296+S296+T296+U296+W296+X296+Y296+Z296+AA296+AB296+AC296>0,\"Classe\",\"\"),IF(OR(AND(E296<>0,F296=0,SUM(N296:U296)=0,SUM(W296:AC296)=0,H296+K296=0,G296+J296=E296),AND(F296<>0,E296=0,SUM(N296:U296)=0,SUM(W296:AC296)=0,G296+J296=0,H296+K296=F296),AND(E296=0,F296=0,H296+K296<>0,H296+K296=SUM(W296:AC296),SUM(N296:U296)=0,(H296+K296)<>(G296+J296)),AND(E296=0,F296=0,G296+J296<>0,G296+J296=SUM(N296:U296),SUM(W296:AC296)=0,(H296+K296)<>(G296+J296)),AND(E296=0,F296=0,J296=0,N296+O296+P296+Q296+R296+S296+T296+U296+W296+X296+Y296+Z296+AA296+AB296+AC296=0,K296<>0,K296=G296),AND(E296=0,F296=0,J296<>0,N296+O296+P296+Q296+R296+S296+T296+U296+W296+X296+Y296+Z296+AA296+AB296+AC296=0,K296=0,J296=H296)),\"OK\",\"??\"))","v":""}]
[290,null,null,null,null,null,null,null,{"$f":"IF(D297=\"\",\"\",I296+G297-H297)","v":""},null,null,{"$f":"IF(D297=\"\",\"\",L296+J297-K297)","v":""},{"$f":"IF(D297=\"\",\"\",I297+L297)","v":""},null,null,null,null,null,null,null,null,{"$f":"IF(E297+F297+G297+H297+J297+K297=0,IF(N297+O297+P297+Q297+R297+S297+T297+U297+W297+X297+Y297+Z297+AA297+AB297+AC297>0,\"Classe\",\"\"),IF(OR(AND(E297<>0,F297=0,SUM(N297:U297)=0,SUM(W297:AC297)=0,H297+K297=0,G297+J297=E297),AND(F297<>0,E297=0,SUM(N297:U297)=0,SUM(W297:AC297)=0,G297+J297=0,H297+K297=F297),AND(E297=0,F297=0,H297+K297<>0,H297+K297=SUM(W297:AC297),SUM(N297:U297)=0,(H297+K297)<>(G297+J297)),AND(E297=0,F297=0,G297+J297<>0,G297+J297=SUM(N297:U297),SUM(W297:AC297)=0,(H297+K297)<>(G297+J297)),AND(E297=0,F297=0,J297=0,N297+O297+P297+Q297+R297+S297+T297+U297+W297+X297+Y297+Z297+AA297+AB297+AC297=0,K297<>0,K297=G297),AND(E297=0,F297=0,J297<>0,N297+O297+P297+Q297+R297+S297+T297+U297+W297+X297+Y297+Z297+AA297+AB297+AC297=0,K297=0,J297=H297)),\"OK\",\"??\"))","v":""}]
[291,null,null,null,null,null,null,null,{"$f":"IF(D298=\"\",\"\",I297+G298-H298)","v":""},null,null,{"$f":"IF(D298=\"\",\"\",L297+J298-K298)","v":""},{"$f":"IF(D298=\"\",\"\",I298+L298)","v":""},null,null,null,null,null,null,null,null,{"$f":"IF(E298+F298+G298+H298+J298+K298=0,IF(N298+O298+P298+Q298+R298+S298+T298+U298+W298+X298+Y298+Z298+AA298+AB298+AC298>0,\"Classe\",\"\"),IF(OR(AND(E298<>0,F298=0,SUM(N298:U298)=0,SUM(W298:AC298)=0,H298+K298=0,G298+J298=E298),AND(F298<>0,E298=0,SUM(N298:U298)=0,SUM(W298:AC298)=0,G298+J298=0,H298+K298=F298),AND(E298=0,F298=0,H298+K298<>0,H298+K298=SUM(W298:AC298),SUM(N298:U298)=0,(H298+K298)<>(G298+J298)),AND(E298=0,F298=0,G298+J298<>0,G298+J298=SUM(N298:U298),SUM(W298:AC298)=0,(H298+K298)<>(G298+J298)),AND(E298=0,F298=0,J298=0,N298+O298+P298+Q298+R298+S298+T298+U298+W298+X298+Y298+Z298+AA298+AB298+AC298=0,K298<>0,K298=G298),AND(E298=0,F298=0,J298<>0,N298+O298+P298+Q298+R298+S298+T298+U298+W298+X298+Y298+Z298+AA298+AB298+AC298=0,K298=0,J298=H298)),\"OK\",\"??\"))","v":""}]
[292,null,null,null,null,null,null,null,{"$f":"IF(D299=\"\",\"\",I298+G299-H299)","v":""},null,null,{"$f":"IF(D299=\"\",\"\",L298+J299-K299)","v":""},{"$f":"IF(D299=\"\",\"\",I299+L299)","v":""},null,null,null,null,null,null,null,null,{"$f":"IF(E299+F299+G299+H299+J299+K299=0,IF(N299+O299+P299+Q299+R299+S299+T299+U299+W299+X299+Y299+Z299+AA299+AB299+AC299>0,\"Classe\",\"\"),IF(OR(AND(E299<>0,F299=0,SUM(N299:U299)=0,SUM(W299:AC299)=0,H299+K299=0,G299+J299=E299),AND(F299<>0,E299=0,SUM(N299:U299)=0,SUM(W299:AC299)=0,G299+J299=0,H299+K299=F299),AND(E299=0,F299=0,H299+K299<>0,H299+K299=SUM(W299:AC299),SUM(N299:U299)=0,(H299+K299)<>(G299+J299)),AND(E299=0,F299=0,G299+J299<>0,G299+J299=SUM(N299:U299),SUM(W299:AC299)=0,(H299+K299)<>(G299+J299)),AND(E299=0,F299=0,J299=0,N299+O299+P299+Q299+R299+S299+T299+U299+W299+X299+Y299+Z299+AA299+AB299+AC299=0,K299<>0,K299=G299),AND(E299=0,F299=0,J299<>0,N299+O299+P299+Q299+R299+S299+T299+U299+W299+X299+Y299+Z299+AA299+AB299+AC299=0,K299=0,J299=H299)),\"OK\",\"??\"))","v":""}]
[293,null,null,null,null,null,null,null,{"$f":"IF(D300=\"\",\"\",I299+G300-H300)","v":""},null,null,{"$f":"IF(D300=\"\",\"\",L299+J300-K300)","v":""},{"$f":"IF(D300=\"\",\"\",I300+L300)","v":""},null,null,null,null,null,null,null,null,{"$f":"IF(E300+F300+G300+H300+J300+K300=0,IF(N300+O300+P300+Q300+R300+S300+T300+U300+W300+X300+Y300+Z300+AA300+AB300+AC300>0,\"Classe\",\"\"),IF(OR(AND(E300<>0,F300=0,SUM(N300:U300)=0,SUM(W300:AC300)=0,H300+K300=0,G300+J300=E300),AND(F300<>0,E300=0,SUM(N300:U300)=0,SUM(W300:AC300)=0,G300+J300=0,H300+K300=F300),AND(E300=0,F300=0,H300+K300<>0,H300+K300=SUM(W300:AC300),SUM(N300:U300)=0,(H300+K300)<>(G300+J300)),AND(E300=0,F300=0,G300+J300<>0,G300+J300=SUM(N300:U300),SUM(W300:AC300)=0,(H300+K300)<>(G300+J300)),AND(E300=0,F300=0,J300=0,N300+O300+P300+Q300+R300+S300+T300+U300+W300+X300+Y300+Z300+AA300+AB300+AC300=0,K300<>0,K300=G300),AND(E300=0,F300=0,J300<>0,N300+O300+P300+Q300+R300+S300+T300+U300+W300+X300+Y300+Z300+AA300+AB300+AC300=0,K300=0,J300=H300)),\"OK\",\"??\"))","v":""}]
[294,null,null,null,null,null,null,null,{"$f":"IF(D301=\"\",\"\",I300+G301-H301)","v":""},null,null,{"$f":"IF(D301=\"\",\"\",L300+J301-K301)","v":""},{"$f":"IF(D301=\"\",\"\",I301+L301)","v":""},null,null,null,null,null,null,null,null,{"$f":"IF(E301+F301+G301+H301+J301+K301=0,IF(N301+O301+P301+Q301+R301+S301+T301+U301+W301+X301+Y301+Z301+AA301+AB301+AC301>0,\"Classe\",\"\"),IF(OR(AND(E301<>0,F301=0,SUM(N301:U301)=0,SUM(W301:AC301)=0,H301+K301=0,G301+J301=E301),AND(F301<>0,E301=0,SUM(N301:U301)=0,SUM(W301:AC301)=0,G301+J301=0,H301+K301=F301),AND(E301=0,F301=0,H301+K301<>0,H301+K301=SUM(W301:AC301),SUM(N301:U301)=0,(H301+K301)<>(G301+J301)),AND(E301=0,F301=0,G301+J301<>0,G301+J301=SUM(N301:U301),SUM(W301:AC301)=0,(H301+K301)<>(G301+J301)),AND(E301=0,F301=0,J301=0,N301+O301+P301+Q301+R301+S301+T301+U301+W301+X301+Y301+Z301+AA301+AB301+AC301=0,K301<>0,K301=G301),AND(E301=0,F301=0,J301<>0,N301+O301+P301+Q301+R301+S301+T301+U301+W301+X301+Y301+Z301+AA301+AB301+AC301=0,K301=0,J301=H301)),\"OK\",\"??\"))","v":""}]
[295,null,null,null,null,null,null,null,{"$f":"IF(D302=\"\",\"\",I301+G302-H302)","v":""},null,null,{"$f":"IF(D302=\"\",\"\",L301+J302-K302)","v":""},{"$f":"IF(D302=\"\",\"\",I302+L302)","v":""},null,null,null,null,null,null,null,null,{"$f":"IF(E302+F302+G302+H302+J302+K302=0,IF(N302+O302+P302+Q302+R302+S302+T302+U302+W302+X302+Y302+Z302+AA302+AB302+AC302>0,\"Classe\",\"\"),IF(OR(AND(E302<>0,F302=0,SUM(N302:U302)=0,SUM(W302:AC302)=0,H302+K302=0,G302+J302=E302),AND(F302<>0,E302=0,SUM(N302:U302)=0,SUM(W302:AC302)=0,G302+J302=0,H302+K302=F302),AND(E302=0,F302=0,H302+K302<>0,H302+K302=SUM(W302:AC302),SUM(N302:U302)=0,(H302+K302)<>(G302+J302)),AND(E302=0,F302=0,G302+J302<>0,G302+J302=SUM(N302:U302),SUM(W302:AC302)=0,(H302+K302)<>(G302+J302)),AND(E302=0,F302=0,J302=0,N302+O302+P302+Q302+R302+S302+T302+U302+W302+X302+Y302+Z302+AA302+AB302+AC302=0,K302<>0,K302=G302),AND(E302=0,F302=0,J302<>0,N302+O302+P302+Q302+R302+S302+T302+U302+W302+X302+Y302+Z302+AA302+AB302+AC302=0,K302=0,J302=H302)),\"OK\",\"??\"))","v":""}]
[296,null,null,null,null,null,null,null,{"$f":"IF(D303=\"\",\"\",I302+G303-H303)","v":""},null,null,{"$f":"IF(D303=\"\",\"\",L302+J303-K303)","v":""},{"$f":"IF(D303=\"\",\"\",I303+L303)","v":""},null,null,null,null,null,null,null,null,{"$f":"IF(E303+F303+G303+H303+J303+K303=0,IF(N303+O303+P303+Q303+R303+S303+T303+U303+W303+X303+Y303+Z303+AA303+AB303+AC303>0,\"Classe\",\"\"),IF(OR(AND(E303<>0,F303=0,SUM(N303:U303)=0,SUM(W303:AC303)=0,H303+K303=0,G303+J303=E303),AND(F303<>0,E303=0,SUM(N303:U303)=0,SUM(W303:AC303)=0,G303+J303=0,H303+K303=F303),AND(E303=0,F303=0,H303+K303<>0,H303+K303=SUM(W303:AC303),SUM(N303:U303)=0,(H303+K303)<>(G303+J303)),AND(E303=0,F303=0,G303+J303<>0,G303+J303=SUM(N303:U303),SUM(W303:AC303)=0,(H303+K303)<>(G303+J303)),AND(E303=0,F303=0,J303=0,N303+O303+P303+Q303+R303+S303+T303+U303+W303+X303+Y303+Z303+AA303+AB303+AC303=0,K303<>0,K303=G303),AND(E303=0,F303=0,J303<>0,N303+O303+P303+Q303+R303+S303+T303+U303+W303+X303+Y303+Z303+AA303+AB303+AC303=0,K303=0,J303=H303)),\"OK\",\"??\"))","v":""}]
[297,null,null,null,null,null,null,null,{"$f":"IF(D304=\"\",\"\",I303+G304-H304)","v":""},null,null,{"$f":"IF(D304=\"\",\"\",L303+J304-K304)","v":""},{"$f":"IF(D304=\"\",\"\",I304+L304)","v":""},null,null,null,null,null,null,null,null,{"$f":"IF(E304+F304+G304+H304+J304+K304=0,IF(N304+O304+P304+Q304+R304+S304+T304+U304+W304+X304+Y304+Z304+AA304+AB304+AC304>0,\"Classe\",\"\"),IF(OR(AND(E304<>0,F304=0,SUM(N304:U304)=0,SUM(W304:AC304)=0,H304+K304=0,G304+J304=E304),AND(F304<>0,E304=0,SUM(N304:U304)=0,SUM(W304:AC304)=0,G304+J304=0,H304+K304=F304),AND(E304=0,F304=0,H304+K304<>0,H304+K304=SUM(W304:AC304),SUM(N304:U304)=0,(H304+K304)<>(G304+J304)),AND(E304=0,F304=0,G304+J304<>0,G304+J304=SUM(N304:U304),SUM(W304:AC304)=0,(H304+K304)<>(G304+J304)),AND(E304=0,F304=0,J304=0,N304+O304+P304+Q304+R304+S304+T304+U304+W304+X304+Y304+Z304+AA304+AB304+AC304=0,K304<>0,K304=G304),AND(E304=0,F304=0,J304<>0,N304+O304+P304+Q304+R304+S304+T304+U304+W304+X304+Y304+Z304+AA304+AB304+AC304=0,K304=0,J304=H304)),\"OK\",\"??\"))","v":""}]
[298,null,null,null,null,null,null,null,{"$f":"IF(D305=\"\",\"\",I304+G305-H305)","v":""},null,null,{"$f":"IF(D305=\"\",\"\",L304+J305-K305)","v":""},{"$f":"IF(D305=\"\",\"\",I305+L305)","v":""},null,null,null,null,null,null,null,null,{"$f":"IF(E305+F305+G305+H305+J305+K305=0,IF(N305+O305+P305+Q305+R305+S305+T305+U305+W305+X305+Y305+Z305+AA305+AB305+AC305>0,\"Classe\",\"\"),IF(OR(AND(E305<>0,F305=0,SUM(N305:U305)=0,SUM(W305:AC305)=0,H305+K305=0,G305+J305=E305),AND(F305<>0,E305=0,SUM(N305:U305)=0,SUM(W305:AC305)=0,G305+J305=0,H305+K305=F305),AND(E305=0,F305=0,H305+K305<>0,H305+K305=SUM(W305:AC305),SUM(N305:U305)=0,(H305+K305)<>(G305+J305)),AND(E305=0,F305=0,G305+J305<>0,G305+J305=SUM(N305:U305),SUM(W305:AC305)=0,(H305+K305)<>(G305+J305)),AND(E305=0,F305=0,J305=0,N305+O305+P305+Q305+R305+S305+T305+U305+W305+X305+Y305+Z305+AA305+AB305+AC305=0,K305<>0,K305=G305),AND(E305=0,F305=0,J305<>0,N305+O305+P305+Q305+R305+S305+T305+U305+W305+X305+Y305+Z305+AA305+AB305+AC305=0,K305=0,J305=H305)),\"OK\",\"??\"))","v":""}]
[299,null,null,null,null,null,null,null,{"$f":"IF(D306=\"\",\"\",I305+G306-H306)","v":""},null,null,{"$f":"IF(D306=\"\",\"\",L305+J306-K306)","v":""},{"$f":"IF(D306=\"\",\"\",I306+L306)","v":""},null,null,null,null,null,null,null,null,{"$f":"IF(E306+F306+G306+H306+J306+K306=0,IF(N306+O306+P306+Q306+R306+S306+T306+U306+W306+X306+Y306+Z306+AA306+AB306+AC306>0,\"Classe\",\"\"),IF(OR(AND(E306<>0,F306=0,SUM(N306:U306)=0,SUM(W306:AC306)=0,H306+K306=0,G306+J306=E306),AND(F306<>0,E306=0,SUM(N306:U306)=0,SUM(W306:AC306)=0,G306+J306=0,H306+K306=F306),AND(E306=0,F306=0,H306+K306<>0,H306+K306=SUM(W306:AC306),SUM(N306:U306)=0,(H306+K306)<>(G306+J306)),AND(E306=0,F306=0,G306+J306<>0,G306+J306=SUM(N306:U306),SUM(W306:AC306)=0,(H306+K306)<>(G306+J306)),AND(E306=0,F306=0,J306=0,N306+O306+P306+Q306+R306+S306+T306+U306+W306+X306+Y306+Z306+AA306+AB306+AC306=0,K306<>0,K306=G306),AND(E306=0,F306=0,J306<>0,N306+O306+P306+Q306+R306+S306+T306+U306+W306+X306+Y306+Z306+AA306+AB306+AC306=0,K306=0,J306=H306)),\"OK\",\"??\"))","v":""}]
[300,null,null,null,null,null,null,null,{"$f":"IF(D307=\"\",\"\",I306+G307-H307)","v":""},null,null,{"$f":"IF(D307=\"\",\"\",L306+J307-K307)","v":""},{"$f":"IF(D307=\"\",\"\",I307+L307)","v":""},null,null,null,null,null,null,null,null,{"$f":"IF(E307+F307+G307+H307+J307+K307=0,IF(N307+O307+P307+Q307+R307+S307+T307+U307+W307+X307+Y307+Z307+AA307+AB307+AC307>0,\"Classe\",\"\"),IF(OR(AND(E307<>0,F307=0,SUM(N307:U307)=0,SUM(W307:AC307)=0,H307+K307=0,G307+J307=E307),AND(F307<>0,E307=0,SUM(N307:U307)=0,SUM(W307:AC307)=0,G307+J307=0,H307+K307=F307),AND(E307=0,F307=0,H307+K307<>0,H307+K307=SUM(W307:AC307),SUM(N307:U307)=0,(H307+K307)<>(G307+J307)),AND(E307=0,F307=0,G307+J307<>0,G307+J307=SUM(N307:U307),SUM(W307:AC307)=0,(H307+K307)<>(G307+J307)),AND(E307=0,F307=0,J307=0,N307+O307+P307+Q307+R307+S307+T307+U307+W307+X307+Y307+Z307+AA307+AB307+AC307=0,K307<>0,K307=G307),AND(E307=0,F307=0,J307<>0,N307+O307+P307+Q307+R307+S307+T307+U307+W307+X307+Y307+Z307+AA307+AB307+AC307=0,K307=0,J307=H307)),\"OK\",\"??\"))","v":""}]
[301,null,null,null,null,null,null,null,{"$f":"IF(D308=\"\",\"\",I307+G308-H308)","v":""},null,null,{"$f":"IF(D308=\"\",\"\",L307+J308-K308)","v":""},{"$f":"IF(D308=\"\",\"\",I308+L308)","v":""},null,null,null,null,null,null,null,null,{"$f":"IF(E308+F308+G308+H308+J308+K308=0,IF(N308+O308+P308+Q308+R308+S308+T308+U308+W308+X308+Y308+Z308+AA308+AB308+AC308>0,\"Classe\",\"\"),IF(OR(AND(E308<>0,F308=0,SUM(N308:U308)=0,SUM(W308:AC308)=0,H308+K308=0,G308+J308=E308),AND(F308<>0,E308=0,SUM(N308:U308)=0,SUM(W308:AC308)=0,G308+J308=0,H308+K308=F308),AND(E308=0,F308=0,H308+K308<>0,H308+K308=SUM(W308:AC308),SUM(N308:U308)=0,(H308+K308)<>(G308+J308)),AND(E308=0,F308=0,G308+J308<>0,G308+J308=SUM(N308:U308),SUM(W308:AC308)=0,(H308+K308)<>(G308+J308)),AND(E308=0,F308=0,J308=0,N308+O308+P308+Q308+R308+S308+T308+U308+W308+X308+Y308+Z308+AA308+AB308+AC308=0,K308<>0,K308=G308),AND(E308=0,F308=0,J308<>0,N308+O308+P308+Q308+R308+S308+T308+U308+W308+X308+Y308+Z308+AA308+AB308+AC308=0,K308=0,J308=H308)),\"OK\",\"??\"))","v":""}]
[302,null,null,null,null,null,null,null,{"$f":"IF(D309=\"\",\"\",I308+G309-H309)","v":""},null,null,{"$f":"IF(D309=\"\",\"\",L308+J309-K309)","v":""},{"$f":"IF(D309=\"\",\"\",I309+L309)","v":""},null,null,null,null,null,null,null,null,{"$f":"IF(E309+F309+G309+H309+J309+K309=0,IF(N309+O309+P309+Q309+R309+S309+T309+U309+W309+X309+Y309+Z309+AA309+AB309+AC309>0,\"Classe\",\"\"),IF(OR(AND(E309<>0,F309=0,SUM(N309:U309)=0,SUM(W309:AC309)=0,H309+K309=0,G309+J309=E309),AND(F309<>0,E309=0,SUM(N309:U309)=0,SUM(W309:AC309)=0,G309+J309=0,H309+K309=F309),AND(E309=0,F309=0,H309+K309<>0,H309+K309=SUM(W309:AC309),SUM(N309:U309)=0,(H309+K309)<>(G309+J309)),AND(E309=0,F309=0,G309+J309<>0,G309+J309=SUM(N309:U309),SUM(W309:AC309)=0,(H309+K309)<>(G309+J309)),AND(E309=0,F309=0,J309=0,N309+O309+P309+Q309+R309+S309+T309+U309+W309+X309+Y309+Z309+AA309+AB309+AC309=0,K309<>0,K309=G309),AND(E309=0,F309=0,J309<>0,N309+O309+P309+Q309+R309+S309+T309+U309+W309+X309+Y309+Z309+AA309+AB309+AC309=0,K309=0,J309=H309)),\"OK\",\"??\"))","v":""}]
[303,null,null,null,null,null,null,null,{"$f":"IF(D310=\"\",\"\",I309+G310-H310)","v":""},null,null,{"$f":"IF(D310=\"\",\"\",L309+J310-K310)","v":""},{"$f":"IF(D310=\"\",\"\",I310+L310)","v":""},null,null,null,null,null,null,null,null,{"$f":"IF(E310+F310+G310+H310+J310+K310=0,IF(N310+O310+P310+Q310+R310+S310+T310+U310+W310+X310+Y310+Z310+AA310+AB310+AC310>0,\"Classe\",\"\"),IF(OR(AND(E310<>0,F310=0,SUM(N310:U310)=0,SUM(W310:AC310)=0,H310+K310=0,G310+J310=E310),AND(F310<>0,E310=0,SUM(N310:U310)=0,SUM(W310:AC310)=0,G310+J310=0,H310+K310=F310),AND(E310=0,F310=0,H310+K310<>0,H310+K310=SUM(W310:AC310),SUM(N310:U310)=0,(H310+K310)<>(G310+J310)),AND(E310=0,F310=0,G310+J310<>0,G310+J310=SUM(N310:U310),SUM(W310:AC310)=0,(H310+K310)<>(G310+J310)),AND(E310=0,F310=0,J310=0,N310+O310+P310+Q310+R310+S310+T310+U310+W310+X310+Y310+Z310+AA310+AB310+AC310=0,K310<>0,K310=G310),AND(E310=0,F310=0,J310<>0,N310+O310+P310+Q310+R310+S310+T310+U310+W310+X310+Y310+Z310+AA310+AB310+AC310=0,K310=0,J310=H310)),\"OK\",\"??\"))","v":""}]
[304,null,null,null,null,null,null,null,{"$f":"IF(D311=\"\",\"\",I310+G311-H311)","v":""},null,null,{"$f":"IF(D311=\"\",\"\",L310+J311-K311)","v":""},{"$f":"IF(D311=\"\",\"\",I311+L311)","v":""},null,null,null,null,null,null,null,null,{"$f":"IF(E311+F311+G311+H311+J311+K311=0,IF(N311+O311+P311+Q311+R311+S311+T311+U311+W311+X311+Y311+Z311+AA311+AB311+AC311>0,\"Classe\",\"\"),IF(OR(AND(E311<>0,F311=0,SUM(N311:U311)=0,SUM(W311:AC311)=0,H311+K311=0,G311+J311=E311),AND(F311<>0,E311=0,SUM(N311:U311)=0,SUM(W311:AC311)=0,G311+J311=0,H311+K311=F311),AND(E311=0,F311=0,H311+K311<>0,H311+K311=SUM(W311:AC311),SUM(N311:U311)=0,(H311+K311)<>(G311+J311)),AND(E311=0,F311=0,G311+J311<>0,G311+J311=SUM(N311:U311),SUM(W311:AC311)=0,(H311+K311)<>(G311+J311)),AND(E311=0,F311=0,J311=0,N311+O311+P311+Q311+R311+S311+T311+U311+W311+X311+Y311+Z311+AA311+AB311+AC311=0,K311<>0,K311=G311),AND(E311=0,F311=0,J311<>0,N311+O311+P311+Q311+R311+S311+T311+U311+W311+X311+Y311+Z311+AA311+AB311+AC311=0,K311=0,J311=H311)),\"OK\",\"??\"))","v":""}]
[305,null,null,null,null,null,null,null,{"$f":"IF(D312=\"\",\"\",I311+G312-H312)","v":""},null,null,{"$f":"IF(D312=\"\",\"\",L311+J312-K312)","v":""},{"$f":"IF(D312=\"\",\"\",I312+L312)","v":""},null,null,null,null,null,null,null,null,{"$f":"IF(E312+F312+G312+H312+J312+K312=0,IF(N312+O312+P312+Q312+R312+S312+T312+U312+W312+X312+Y312+Z312+AA312+AB312+AC312>0,\"Classe\",\"\"),IF(OR(AND(E312<>0,F312=0,SUM(N312:U312)=0,SUM(W312:AC312)=0,H312+K312=0,G312+J312=E312),AND(F312<>0,E312=0,SUM(N312:U312)=0,SUM(W312:AC312)=0,G312+J312=0,H312+K312=F312),AND(E312=0,F312=0,H312+K312<>0,H312+K312=SUM(W312:AC312),SUM(N312:U312)=0,(H312+K312)<>(G312+J312)),AND(E312=0,F312=0,G312+J312<>0,G312+J312=SUM(N312:U312),SUM(W312:AC312)=0,(H312+K312)<>(G312+J312)),AND(E312=0,F312=0,J312=0,N312+O312+P312+Q312+R312+S312+T312+U312+W312+X312+Y312+Z312+AA312+AB312+AC312=0,K312<>0,K312=G312),AND(E312=0,F312=0,J312<>0,N312+O312+P312+Q312+R312+S312+T312+U312+W312+X312+Y312+Z312+AA312+AB312+AC312=0,K312=0,J312=H312)),\"OK\",\"??\"))","v":""}]
[306,null,null,null,null,null,null,null,{"$f":"IF(D313=\"\",\"\",I312+G313-H313)","v":""},null,null,{"$f":"IF(D313=\"\",\"\",L312+J313-K313)","v":""},{"$f":"IF(D313=\"\",\"\",I313+L313)","v":""},null,null,null,null,null,null,null,null,{"$f":"IF(E313+F313+G313+H313+J313+K313=0,IF(N313+O313+P313+Q313+R313+S313+T313+U313+W313+X313+Y313+Z313+AA313+AB313+AC313>0,\"Classe\",\"\"),IF(OR(AND(E313<>0,F313=0,SUM(N313:U313)=0,SUM(W313:AC313)=0,H313+K313=0,G313+J313=E313),AND(F313<>0,E313=0,SUM(N313:U313)=0,SUM(W313:AC313)=0,G313+J313=0,H313+K313=F313),AND(E313=0,F313=0,H313+K313<>0,H313+K313=SUM(W313:AC313),SUM(N313:U313)=0,(H313+K313)<>(G313+J313)),AND(E313=0,F313=0,G313+J313<>0,G313+J313=SUM(N313:U313),SUM(W313:AC313)=0,(H313+K313)<>(G313+J313)),AND(E313=0,F313=0,J313=0,N313+O313+P313+Q313+R313+S313+T313+U313+W313+X313+Y313+Z313+AA313+AB313+AC313=0,K313<>0,K313=G313),AND(E313=0,F313=0,J313<>0,N313+O313+P313+Q313+R313+S313+T313+U313+W313+X313+Y313+Z313+AA313+AB313+AC313=0,K313=0,J313=H313)),\"OK\",\"??\"))","v":""}]
[307,null,null,null,null,null,null,null,{"$f":"IF(D314=\"\",\"\",I313+G314-H314)","v":""},null,null,{"$f":"IF(D314=\"\",\"\",L313+J314-K314)","v":""},{"$f":"IF(D314=\"\",\"\",I314+L314)","v":""},null,null,null,null,null,null,null,null,{"$f":"IF(E314+F314+G314+H314+J314+K314=0,IF(N314+O314+P314+Q314+R314+S314+T314+U314+W314+X314+Y314+Z314+AA314+AB314+AC314>0,\"Classe\",\"\"),IF(OR(AND(E314<>0,F314=0,SUM(N314:U314)=0,SUM(W314:AC314)=0,H314+K314=0,G314+J314=E314),AND(F314<>0,E314=0,SUM(N314:U314)=0,SUM(W314:AC314)=0,G314+J314=0,H314+K314=F314),AND(E314=0,F314=0,H314+K314<>0,H314+K314=SUM(W314:AC314),SUM(N314:U314)=0,(H314+K314)<>(G314+J314)),AND(E314=0,F314=0,G314+J314<>0,G314+J314=SUM(N314:U314),SUM(W314:AC314)=0,(H314+K314)<>(G314+J314)),AND(E314=0,F314=0,J314=0,N314+O314+P314+Q314+R314+S314+T314+U314+W314+X314+Y314+Z314+AA314+AB314+AC314=0,K314<>0,K314=G314),AND(E314=0,F314=0,J314<>0,N314+O314+P314+Q314+R314+S314+T314+U314+W314+X314+Y314+Z314+AA314+AB314+AC314=0,K314=0,J314=H314)),\"OK\",\"??\"))","v":""}]
[308,null,null,null,null,null,null,null,{"$f":"IF(D315=\"\",\"\",I314+G315-H315)","v":""},null,null,{"$f":"IF(D315=\"\",\"\",L314+J315-K315)","v":""},{"$f":"IF(D315=\"\",\"\",I315+L315)","v":""},null,null,null,null,null,null,null,null,{"$f":"IF(E315+F315+G315+H315+J315+K315=0,IF(N315+O315+P315+Q315+R315+S315+T315+U315+W315+X315+Y315+Z315+AA315+AB315+AC315>0,\"Classe\",\"\"),IF(OR(AND(E315<>0,F315=0,SUM(N315:U315)=0,SUM(W315:AC315)=0,H315+K315=0,G315+J315=E315),AND(F315<>0,E315=0,SUM(N315:U315)=0,SUM(W315:AC315)=0,G315+J315=0,H315+K315=F315),AND(E315=0,F315=0,H315+K315<>0,H315+K315=SUM(W315:AC315),SUM(N315:U315)=0,(H315+K315)<>(G315+J315)),AND(E315=0,F315=0,G315+J315<>0,G315+J315=SUM(N315:U315),SUM(W315:AC315)=0,(H315+K315)<>(G315+J315)),AND(E315=0,F315=0,J315=0,N315+O315+P315+Q315+R315+S315+T315+U315+W315+X315+Y315+Z315+AA315+AB315+AC315=0,K315<>0,K315=G315),AND(E315=0,F315=0,J315<>0,N315+O315+P315+Q315+R315+S315+T315+U315+W315+X315+Y315+Z315+AA315+AB315+AC315=0,K315=0,J315=H315)),\"OK\",\"??\"))","v":""}]
[null,null,null,"TOTAL A REPORTER",{"$f":"SUM(E8:E315)","v":0},{"$f":"SUM(F8:F315)","v":0},{"$f":"SUM(G8:G315)","v":0},{"$f":"SUM(H8:H315)","v":0},{"$f":"I7+G316-H316","v":0},{"$f":"SUM(J8:J315)","v":0},{"$f":"SUM(K8:K315)","v":0},{"$f":"L7+J316-K316","v":0},{"$f":"L316+I316","v":0},{"$f":"SUM(N8:N315)","v":0},{"$f":"SUM(O8:O315)","v":0},{"$f":"SUM(P8:P315)","v":0},{"$f":"SUM(Q8:Q315)","v":0},{"$f":"SUM(R8:R315)","v":0},{"$f":"SUM(S8:S315)","v":0},{"$f":"SUM(T8:T315)","v":0},{"$f":"SUM(U8:U315)","v":0},null,{"$f":"SUM(W8:W315)","v":0},{"$f":"SUM(X8:X315)","v":0},{"$f":"SUM(Y8:Y315)","v":0},{"$f":"SUM(Z8:Z315)","v":0},{"$f":"SUM(AA8:AA315)","v":0},{"$f":"SUM(AB8:AB315)","v":0},{"$f":"SUM(AC8:AC315)","v":0}]

{"sheet":"BILAN","index":3,"n_rows":38,"n_cols":8,"rows_kept":38,"cut":false,"hidden":false,"merged":[[0,0,0,7],[1,0,1,7],[2,0,2,2],[2,4,2,7],[3,0,3,1],[3,4,3,6],[4,0,4,1],[4,4,4,6],[5,0,5,1],[5,4,5,6],[6,0,6,1],[6,4,6,6],[7,0,7,1],[7,4,7,6],[8,0,8,1],[8,4,8,6],[9,0,9,1],[9,4,9,6],[11,0,11,1],[11,4,11,6],[13,0,13,3],[13,4,13,5],[15,0,15,7],[17,0,17,2],[17,4,17,7],[18,0,19,0],[18,1,19,1],[18,2,19,2],[20,4,20,6],[21,0,21,1],[21,4,21,6],[23,0,23,3],[23,4,23,7],[24,0,24,2],[25,0,25,2],[26,0,28,3],[29,0,31,2],[29,3,31,3],[32,0,34,2],[32,3,34,3],[34,6,34,7],[35,0,35,2],[35,4,35,6],[36,0,36,3],[36,4,36,7],[37,5,37,6]]}
[{"$f":"\"Compte de fonctionnement général du 1er septembre \"&Coordonnées!B10&\" au 31 août \"&Coordonnées!B11","v":"Compte de fonctionnement général du 1er septembre 2023 au 31 août 2024"}]
[]
["CHARGES",null,null,null,"PRODUITS"]
["60700008 - Achats de produits pour cession",null,{"$f":"LIVRE!W6","v":0},null,"70700008 - Ventes de produits pour cession",null,null,{"$f":"LIVRE!N6","v":0}]
["61681008 - Assurances versées à l'OCCE",null,{"$f":"LIVRE!Z6","v":0},null,"70800008 - Produits des activités éducatives",null,null,{"$f":"LIVRE!O6","v":0}]
["61810008 - Charges des activités éducatives",null,{"$f":"LIVRE!X6","v":0},null,"74100008 - Subventions Etat, Collectivités loc.",null,null,{"$f":"LIVRE!P6","v":0}]
["65860008 - Cotisations versées à l'OCCE",null,{"$f":"LIVRE!Y6","v":0},null,"75511008 - Autres subventions",null,null,{"$f":"LIVRE!Q6","v":0}]
["62700008 - Frais bancaires",null,{"$f":"LIVRE!AA6","v":0},null,"7510008 - Contribution Plateforme participative",null,null,{"$f":"LIVRE!R6","v":0}]
["67000008 - Charges exceptionnelles",null,{"$f":"LIVRE!AB6","v":0},null,"75620008 - Participation volontaire des familles",null,null,{"$f":"LIVRE!S6","v":0}]
["68000008 - Achats de biens durables",null,{"$f":"LIVRE!AC6","v":0},null,"77000008 - Produits exceptionnels",null,null,{"$f":"LIVRE!U6","v":0}]
[]
["TOTAL DES CHARGES (A)",null,{"$f":"SUM(C4:C10)","v":0},null,"TOTAL DES PRODUITS (B)",null,null,{"$f":"SUM(H4:H10)","v":0}]
[]
[{"$f":"\"Résultat de l'année \"&Coordonnées!B10&\"/\"&Coordonnées!B11&\"   (B-A)  (+/-) :\"","v":"Résultat de l'année 2023/2024   (B-A)  (+/-) :"},null,null,null,{"$f":"H12-C12","v":0}]
[]
[{"$f":"\"Bilan simplifié au 31 août \"&Coordonnées!B11","v":"Bilan simplifié au 31 août 2024"}]
[]
["ACTIF\nSoldes des comptes au 31/08",null,null,null,"PASSIF"]
[512,"Banque (1)",{"$f":"LIVRE!I6","v":0},null,110,{"$f":"\"Report à nouveau au 01/09/\"&Coordonnées!B10","v":"Report à nouveau au 01/09/2023"},null,{"$f":"LIVRE!M7","v":""}]
[null,null,null,null,null,{"$f":"\"(égal à l'actif/passif au 31/08/\"&Coordonnées!B10&\")\"","v":"(égal à l'actif/passif au 31/08/2023)"}]
[530,"Caisse en espèces (2)",{"$f":"LIVRE!L6","v":0},null,{"$f":"\"Résultat de l'année \"&Coordonnées!B10&\"/\"&Coordonnées!B11","v":"Résultat de l'année 2023/2024"},null,null,{"$f":"E14","v":0}]
["TOTAL DE L'ACTIF",null,{"$f":"SUM(C19:C21)","v":0},null,"TOTAL DU PASSIF",null,null,{"$f":"SUM(H19:H21)","v":0}]
[]
["(1) Comptes bancaires 512 : \nLe mandataire de la coopérative ou du foyer doit fournir la copie d'un relevé de compte bancaire où figure le solde indiqué en 512. Si ce dernier ne correspond pas à l'extrait, il doit compléter et imprimer la feuille intitulée \"Rapprochement Bancaire\"",null,null,null,"(2) Arrêté de caisse au 31 août :\nLa caisse n'étant pas un compte bancaire, les sommes indiquées doivent être vérifiées par deux personnes non  mandataires. Toute caisse supérieurs à 50 € doit être versée sur le compte avant la clotûre !"]
["Solde indiqué sur le relevé bancaire fourni :",null,null,{"$f":"D36-D30+D33","v":0},null,null,"Nombre","Somme"]
["Montants non encore encaissés ou débités",null,null,"Montants\n( + / - )","Billets",50,null,{"$f":"G26*F26","v":0}]
["Les sommes indiquées ci-dessous proviennent de la feuille intitulée \"Rapprochement bancaire\" que vous avez préalablement renseignée...\nCette feuille doit être imprimée et jointe à ce document !",null,null,null,null,20,null,{"$f":"G27*F27","v":0}]
[null,null,null,null,null,10,null,{"$f":"G28*F28","v":0}]
[null,null,null,null,null,5,null,{"$f":"G29*F29","v":0}]
["TOTAL DES OPERATIONS\nNON ENCORE CREDITEES",null,null,{"$f":"'Rapprochement bancaire'!D51","v":0},"Pièces",2,null,{"$f":"G30*F30","v":0}]
[null,null,null,null,null,1,null,{"$f":"G31*F31","v":0}]
[null,null,null,null,null,0.5,null,{"$f":"G32*F32","v":0}]
["TOTAL DES OPERATIONS\nNON ENCORE DEBITEES",null,null,{"$f":"'Rapprochement bancaire'!E51","v":0},null,0.2,null,{"$f":"G33*F33","v":0}]
[null,null,null,null,null,0.1,null,{"$f":"G34*F34","v":0}]
[null,null,null,null,null,"Petite monnaie",0]
["Solde indiqué dans le bilan en compte 51200000 :",null,null,{"$f":"C19","v":0},"Solde indiqué dans le bilan\nen compte 530",null,null,{"$f":"SUM(H26:H34,G35)","v":0}]
["NB : l'extrait de compte bancaire fourni doit être le plus proche du 31 août.\n(Si le nombre d'opérations est plus important, veuillez les noter sur une feuille annexe.)",null,null,null,{"$f":"IF(H36+1=C21+1,\"\",\"Il y a une erreur dans votre décompte de caisse !\")","v":""}]
[null,null,null,null,null,"Coopérative scolaire n°",null,{"$f":"Coordonnées!B6","v":0}]

{"sheet":"Rapprochement bancaire","index":4,"n_rows":51,"n_cols":5,"rows_kept":51,"cut":false,"hidden":false,"merged":[[0,0,0,4],[2,0,2,4],[4,0,4,3],[6,0,6,3],[8,0,8,3],[10,0,10,2],[12,0,12,4],[14,0,14,2]]}
[{"$f":"Coordonnées!B2&\" \"&\"- \"&Coordonnées!B4","v":"-"}]
[]
[{"$f":"\"Rapprochement bancaire avec le compte n° \"&Coordonnées!B7","v":"Rapprochement bancaire avec le compte n°"}]
[]
["Solde du compte bancaire en comptabilité :",null,null,null,{"$f":"LIVRE!I6","v":0}]
[null,null,null,null,"-"]
["Total des opérations non encaissées :",null,null,null,{"$f":"D51","v":0}]
[null,null,null,null,"+"]
["Total des opérations non débitées :",null,null,null,{"$f":"E51","v":0}]
[]
["Solde du compte n°",null,null,{"$f":"Coordonnées!B7","v":0},{"$f":"E5-E7+E9","v":0}]
[]
["Pour faire le rapprochement bancaire, vous devez faire\n la liste des opérations non encaissées ou non débitées :\nVous devez alors saisir les numéros de pièces et l'odinateur fait le reste !"]
[]
["Inscrivez dans  cette colonne le numéro de \nla pièce justificative concernée",null,null,"Opérations\nnon encaissées","Opérations \nnon débitées"]
[null,{"$f":"IF(A16=\"\",\"\",VLOOKUP(A16,LIVRE!$A$8:$AC$315,2))","v":""},{"$f":"IF(A16=\"\",\"\",VLOOKUP(A16,LIVRE!$A$8:$AC$315,4))","v":""},{"$f":"IF(C16=\"\",\"\",VLOOKUP(A16,LIVRE!$A$8:$AC$315,7))","v":""},{"$f":"IF(C16=\"\",\"\",VLOOKUP(A16,LIVRE!$A$8:$AC$315,8))","v":""}]
[null,{"$f":"IF(A17=\"\",\"\",VLOOKUP(A17,LIVRE!$A$8:$AC$315,2))","v":""},{"$f":"IF(A17=\"\",\"\",VLOOKUP(A17,LIVRE!$A$8:$AC$315,4))","v":""},{"$f":"IF(C17=\"\",\"\",VLOOKUP(A17,LIVRE!$A$8:$AC$315,7))","v":""},{"$f":"IF(C17=\"\",\"\",VLOOKUP(A17,LIVRE!$A$8:$AC$315,8))","v":""}]
[null,{"$f":"IF(A18=\"\",\"\",VLOOKUP(A18,LIVRE!$A$8:$AC$315,2))","v":""},{"$f":"IF(A18=\"\",\"\",VLOOKUP(A18,LIVRE!$A$8:$AC$315,4))","v":""},{"$f":"IF(C18=\"\",\"\",VLOOKUP(A18,LIVRE!$A$8:$AC$315,7))","v":""},{"$f":"IF(C18=\"\",\"\",VLOOKUP(A18,LIVRE!$A$8:$AC$315,8))","v":""}]
[null,{"$f":"IF(A19=\"\",\"\",VLOOKUP(A19,LIVRE!$A$8:$AC$315,2))","v":""},{"$f":"IF(A19=\"\",\"\",VLOOKUP(A19,LIVRE!$A$8:$AC$315,4))","v":""},{"$f":"IF(C19=\"\",\"\",VLOOKUP(A19,LIVRE!$A$8:$AC$315,7))","v":""},{"$f":"IF(C19=\"\",\"\",VLOOKUP(A19,LIVRE!$A$8:$AC$315,8))","v":""}]
[null,{"$f":"IF(A20=\"\",\"\",VLOOKUP(A20,LIVRE!$A$8:$AC$315,2))","v":""},{"$f":"IF(A20=\"\",\"\",VLOOKUP(A20,LIVRE!$A$8:$AC$315,4))","v":""},{"$f":"IF(C20=\"\",\"\",VLOOKUP(A20,LIVRE!$A$8:$AC$315,7))","v":""},{"$f":"IF(C20=\"\",\"\",VLOOKUP(A20,LIVRE!$A$8:$AC$315,8))","v":""}]
[null,{"$f":"IF(A21=\"\",\"\",VLOOKUP(A21,LIVRE!$A$8:$AC$315,2))","v":""},{"$f":"IF(A21=\"\",\"\",VLOOKUP(A21,LIVRE!$A$8:$AC$315,4))","v":""},{"$f":"IF(C21=\"\",\"\",VLOOKUP(A21,LIVRE!$A$8:$AC$315,7))","v":""},{"$f":"IF(C21=\"\",\"\",VLOOKUP(A21,LIVRE!$A$8:$AC$315,8))","v":""}]
[null,{"$f":"IF(A22=\"\",\"\",VLOOKUP(A22,LIVRE!$A$8:$AC$315,2))","v":""},{"$f":"IF(A22=\"\",\"\",VLOOKUP(A22,LIVRE!$A$8:$AC$315,4))","v":""},{"$f":"IF(C22=\"\",\"\",VLOOKUP(A22,LIVRE!$A$8:$AC$315,7))","v":""},{"$f":"IF(C22=\"\",\"\",VLOOKUP(A22,LIVRE!$A$8:$AC$315,8))","v":""}]
[null,{"$f":"IF(A23=\"\",\"\",VLOOKUP(A23,LIVRE!$A$8:$AC$315,2))","v":""},{"$f":"IF(A23=\"\",\"\",VLOOKUP(A23,LIVRE!$A$8:$AC$315,4))","v":""},{"$f":"IF(C23=\"\",\"\",VLOOKUP(A23,LIVRE!$A$8:$AC$315,7))","v":""},{"$f":"IF(C23=\"\",\"\",VLOOKUP(A23,LIVRE!$A$8:$AC$315,8))","v":""}]
[null,{"$f":"IF(A24=\"\",\"\",VLOOKUP(A24,LIVRE!$A$8:$AC$315,2))","v":""},{"$f":"IF(A24=\"\",\"\",VLOOKUP(A24,LIVRE!$A$8:$AC$315,4))","v":""},{"$f":"IF(C24=\"\",\"\",VLOOKUP(A24,LIVRE!$A$8:$AC$315,7))","v":""},{"$f":"IF(C24=\"\",\"\",VLOOKUP(A24,LIVRE!$A$8:$AC$315,8))","v":""}]
[null,{"$f":"IF(A25=\"\",\"\",VLOOKUP(A25,LIVRE!$A$8:$AC$315,2))","v":""},{"$f":"IF(A25=\"\",\"\",VLOOKUP(A25,LIVRE!$A$8:$AC$315,4))","v":""},{"$f":"IF(C25=\"\",\"\",VLOOKUP(A25,LIVRE!$A$8:$AC$315,7))","v":""},{"$f":"IF(C25=\"\",\"\",VLOOKUP(A25,LIVRE!$A$8:$AC$315,8))","v":""}]
[null,{"$f":"IF(A26=\"\",\"\",VLOOKUP(A26,LIVRE!$A$8:$AC$315,2))","v":""},{"$f":"IF(A26=\"\",\"\",VLOOKUP(A26,LIVRE!$A$8:$AC$315,4))","v":""},{"$f":"IF(C26=\"\",\"\",VLOOKUP(A26,LIVRE!$A$8:$AC$315,7))","v":""},{"$f":"IF(C26=\"\",\"\",VLOOKUP(A26,LIVRE!$A$8:$AC$315,8))","v":""}]
[null,{"$f":"IF(A27=\"\",\"\",VLOOKUP(A27,LIVRE!$A$8:$AC$315,2))","v":""},{"$f":"IF(A27=\"\",\"\",VLOOKUP(A27,LIVRE!$A$8:$AC$315,4))","v":""},{"$f":"IF(C27=\"\",\"\",VLOOKUP(A27,LIVRE!$A$8:$AC$315,7))","v":""},{"$f":"IF(C27=\"\",\"\",VLOOKUP(A27,LIVRE!$A$8:$AC$315,8))","v":""}]
[null,{"$f":"IF(A28=\"\",\"\",VLOOKUP(A28,LIVRE!$A$8:$AC$315,2))","v":""},{"$f":"IF(A28=\"\",\"\",VLOOKUP(A28,LIVRE!$A$8:$AC$315,4))","v":""},{"$f":"IF(C28=\"\",\"\",VLOOKUP(A28,LIVRE!$A$8:$AC$315,7))","v":""},{"$f":"IF(C28=\"\",\"\",VLOOKUP(A28,LIVRE!$A$8:$AC$315,8))","v":""}]
[null,{"$f":"IF(A29=\"\",\"\",VLOOKUP(A29,LIVRE!$A$8:$AC$315,2))","v":""},{"$f":"IF(A29=\"\",\"\",VLOOKUP(A29,LIVRE!$A$8:$AC$315,4))","v":""},{"$f":"IF(C29=\"\",\"\",VLOOKUP(A29,LIVRE!$A$8:$AC$315,7))","v":""},{"$f":"IF(C29=\"\",\"\",VLOOKUP(A29,LIVRE!$A$8:$AC$315,8))","v":""}]
[null,{"$f":"IF(A30=\"\",\"\",VLOOKUP(A30,LIVRE!$A$8:$AC$315,2))","v":""},{"$f":"IF(A30=\"\",\"\",VLOOKUP(A30,LIVRE!$A$8:$AC$315,4))","v":""},{"$f":"IF(C30=\"\",\"\",VLOOKUP(A30,LIVRE!$A$8:$AC$315,7))","v":""},{"$f":"IF(C30=\"\",\"\",VLOOKUP(A30,LIVRE!$A$8:$AC$315,8))","v":""}]
[null,{"$f":"IF(A31=\"\",\"\",VLOOKUP(A31,LIVRE!$A$8:$AC$315,2))","v":""},{"$f":"IF(A31=\"\",\"\",VLOOKUP(A31,LIVRE!$A$8:$AC$315,4))","v":""},{"$f":"IF(C31=\"\",\"\",VLOOKUP(A31,LIVRE!$A$8:$AC$315,7))","v":""},{"$f":"IF(C31=\"\",\"\",VLOOKUP(A31,LIVRE!$A$8:$AC$315,8))","v":""}]
[null,{"$f":"IF(A32=\"\",\"\",VLOOKUP(A32,LIVRE!$A$8:$AC$315,2))","v":""},{"$f":"IF(A32=\"\",\"\",VLOOKUP(A32,LIVRE!$A$8:$AC$315,4))","v":""},{"$f":"IF(C32=\"\",\"\",VLOOKUP(A32,LIVRE!$A$8:$AC$315,7))","v":""},{"$f":"IF(C32=\"\",\"\",VLOOKUP(A32,LIVRE!$A$8:$AC$315,8))","v":""}]
[null,{"$f":"IF(A33=\"\",\"\",VLOOKUP(A33,LIVRE!$A$8:$AC$315,2))","v":""},{"$f":"IF(A33=\"\",\"\",VLOOKUP(A33,LIVRE!$A$8:$AC$315,4))","v":""},{"$f":"IF(C33=\"\",\"\",VLOOKUP(A33,LIVRE!$A$8:$AC$315,7))","v":""},{"$f":"IF(C33=\"\",\"\",VLOOKUP(A33,LIVRE!$A$8:$AC$315,8))","v":""}]
[null,{"$f":"IF(A34=\"\",\"\",VLOOKUP(A34,LIVRE!$A$8:$AC$315,2))","v":""},{"$f":"IF(A34=\"\",\"\",VLOOKUP(A34,LIVRE!$A$8:$AC$315,4))","v":""},{"$f":"IF(C34=\"\",\"\",VLOOKUP(A34,LIVRE!$A$8:$AC$315,7))","v":""},{"$f":"IF(C34=\"\",\"\",VLOOKUP(A34,LIVRE!$A$8:$AC$315,8))","v":""}]
[null,{"$f":"IF(A35=\"\",\"\",VLOOKUP(A35,LIVRE!$A$8:$AC$315,2))","v":""},{"$f":"IF(A35=\"\",\"\",VLOOKUP(A35,LIVRE!$A$8:$AC$315,4))","v":""},{"$f":"IF(C35=\"\",\"\",VLOOKUP(A35,LIVRE!$A$8:$AC$315,7))","v":""},{"$f":"IF(C35=\"\",\"\",VLOOKUP(A35,LIVRE!$A$8:$AC$315,8))","v":""}]
[null,{"$f":"IF(A36=\"\",\"\",VLOOKUP(A36,LIVRE!$A$8:$AC$315,2))","v":""},{"$f":"IF(A36=\"\",\"\",VLOOKUP(A36,LIVRE!$A$8:$AC$315,4))","v":""},{"$f":"IF(C36=\"\",\"\",VLOOKUP(A36,LIVRE!$A$8:$AC$315,7))","v":""},{"$f":"IF(C36=\"\",\"\",VLOOKUP(A36,LIVRE!$A$8:$AC$315,8))","v":""}]
[null,{"$f":"IF(A37=\"\",\"\",VLOOKUP(A37,LIVRE!$A$8:$AC$315,2))","v":""},{"$f":"IF(A37=\"\",\"\",VLOOKUP(A37,LIVRE!$A$8:$AC$315,4))","v":""},{"$f":"IF(C37=\"\",\"\",VLOOKUP(A37,LIVRE!$A$8:$AC$315,7))","v":""},{"$f":"IF(C37=\"\",\"\",VLOOKUP(A37,LIVRE!$A$8:$AC$315,8))","v":""}]
[null,{"$f":"IF(A38=\"\",\"\",VLOOKUP(A38,LIVRE!$A$8:$AC$315,2))","v":""},{"$f":"IF(A38=\"\",\"\",VLOOKUP(A38,LIVRE!$A$8:$AC$315,4))","v":""},{"$f":"IF(C38=\"\",\"\",VLOOKUP(A38,LIVRE!$A$8:$AC$315,7))","v":""},{"$f":"IF(C38=\"\",\"\",VLOOKUP(A38,LIVRE!$A$8:$AC$315,8))","v":""}]
[null,{"$f":"IF(A39=\"\",\"\",VLOOKUP(A39,LIVRE!$A$8:$AC$315,2))","v":""},{"$f":"IF(A39=\"\",\"\",VLOOKUP(A39,LIVRE!$A$8:$AC$315,4))","v":""},{"$f":"IF(C39=\"\",\"\",VLOOKUP(A39,LIVRE!$A$8:$AC$315,7))","v":""},{"$f":"IF(C39=\"\",\"\",VLOOKUP(A39,LIVRE!$A$8:$AC$315,8))","v":""}]
[null,{"$f":"IF(A40=\"\",\"\",VLOOKUP(A40,LIVRE!$A$8:$AC$315,2))","v":""},{"$f":"IF(A40=\"\",\"\",VLOOKUP(A40,LIVRE!$A$8:$AC$315,4))","v":""},{"$f":"IF(C40=\"\",\"\",VLOOKUP(A40,LIVRE!$A$8:$AC$315,7))","v":""},{"$f":"IF(C40=\"\",\"\",VLOOKUP(A40,LIVRE!$A$8:$AC$315,8))","v":""}]
[null,{"$f":"IF(A41=\"\",\"\",VLOOKUP(A41,LIVRE!$A$8:$AC$315,2))","v":""},{"$f":"IF(A41=\"\",\"\",VLOOKUP(A41,LIVRE!$A$8:$AC$315,4))","v":""},{"$f":"IF(C41=\"\",\"\",VLOOKUP(A41,LIVRE!$A$8:$AC$315,7))","v":""},{"$f":"IF(C41=\"\",\"\",VLOOKUP(A41,LIVRE!$A$8:$AC$315,8))","v":""}]
[null,{"$f":"IF(A42=\"\",\"\",VLOOKUP(A42,LIVRE!$A$8:$AC$315,2))","v":""},{"$f":"IF(A42=\"\",\"\",VLOOKUP(A42,LIVRE!$A$8:$AC$315,4))","v":""},{"$f":"IF(C42=\"\",\"\",VLOOKUP(A42,LIVRE!$A$8:$AC$315,7))","v":""},{"$f":"IF(C42=\"\",\"\",VLOOKUP(A42,LIVRE!$A$8:$AC$315,8))","v":""}]
[null,{"$f":"IF(A43=\"\",\"\",VLOOKUP(A43,LIVRE!$A$8:$AC$315,2))","v":""},{"$f":"IF(A43=\"\",\"\",VLOOKUP(A43,LIVRE!$A$8:$AC$315,4))","v":""},{"$f":"IF(C43=\"\",\"\",VLOOKUP(A43,LIVRE!$A$8:$AC$315,7))","v":""},{"$f":"IF(C43=\"\",\"\",VLOOKUP(A43,LIVRE!$A$8:$AC$315,8))","v":""}]
[null,{"$f":"IF(A44=\"\",\"\",VLOOKUP(A44,LIVRE!$A$8:$AC$315,2))","v":""},{"$f":"IF(A44=\"\",\"\",VLOOKUP(A44,LIVRE!$A$8:$AC$315,4))","v":""},{"$f":"IF(C44=\"\",\"\",VLOOKUP(A44,LIVRE!$A$8:$AC$315,7))","v":""},{"$f":"IF(C44=\"\",\"\",VLOOKUP(A44,LIVRE!$A$8:$AC$315,8))","v":""}]
[null,{"$f":"IF(A45=\"\",\"\",VLOOKUP(A45,LIVRE!$A$8:$AC$315,2))","v":""},{"$f":"IF(A45=\"\",\"\",VLOOKUP(A45,LIVRE!$A$8:$AC$315,4))","v":""},{"$f":"IF(C45=\"\",\"\",VLOOKUP(A45,LIVRE!$A$8:$AC$315,7))","v":""},{"$f":"IF(C45=\"\",\"\",VLOOKUP(A45,LIVRE!$A$8:$AC$315,8))","v":""}]
[null,{"$f":"IF(A46=\"\",\"\",VLOOKUP(A46,LIVRE!$A$8:$AC$315,2))","v":""},{"$f":"IF(A46=\"\",\"\",VLOOKUP(A46,LIVRE!$A$8:$AC$315,4))","v":""},{"$f":"IF(C46=\"\",\"\",VLOOKUP(A46,LIVRE!$A$8:$AC$315,7))","v":""},{"$f":"IF(C46=\"\",\"\",VLOOKUP(A46,LIVRE!$A$8:$AC$315,8))","v":""}]
[null,{"$f":"IF(A47=\"\",\"\",VLOOKUP(A47,LIVRE!$A$8:$AC$315,2))","v":""},{"$f":"IF(A47=\"\",\"\",VLOOKUP(A47,LIVRE!$A$8:$AC$315,4))","v":""},{"$f":"IF(C47=\"\",\"\",VLOOKUP(A47,LIVRE!$A$8:$AC$315,7))","v":""},{"$f":"IF(C47=\"\",\"\",VLOOKUP(A47,LIVRE!$A$8:$AC$315,8))","v":""}]
[null,{"$f":"IF(A48=\"\",\"\",VLOOKUP(A48,LIVRE!$A$8:$AC$315,2))","v":""},{"$f":"IF(A48=\"\",\"\",VLOOKUP(A48,LIVRE!$A$8:$AC$315,4))","v":""},{"$f":"IF(C48=\"\",\"\",VLOOKUP(A48,LIVRE!$A$8:$AC$315,7))","v":""},{"$f":"IF(C48=\"\",\"\",VLOOKUP(A48,LIVRE!$A$8:$AC$315,8))","v":""}]
[null,{"$f":"IF(A49=\"\",\"\",VLOOKUP(A49,LIVRE!$A$8:$AC$315,2))","v":""},{"$f":"IF(A49=\"\",\"\",VLOOKUP(A49,LIVRE!$A$8:$AC$315,4))","v":""},{"$f":"IF(C49=\"\",\"\",VLOOKUP(A49,LIVRE!$A$8:$AC$315,7))","v":""},{"$f":"IF(C49=\"\",\"\",VLOOKUP(A49,LIVRE!$A$8:$AC$315,8))","v":""}]
[null,{"$f":"IF(A50=\"\",\"\",VLOOKUP(A50,LIVRE!$A$8:$AC$315,2))","v":""},{"$f":"IF(A50=\"\",\"\",VLOOKUP(A50,LIVRE!$A$8:$AC$315,4))","v":""},{"$f":"IF(C50=\"\",\"\",VLOOKUP(A50,LIVRE!$A$8:$AC$315,7))","v":""},{"$f":"IF(C50=\"\",\"\",VLOOKUP(A50,LIVRE!$A$8:$AC$315,8))","v":""}]
[null,null,"Totaux :",{"$f":"SUM(D16:D50)","v":0},{"$f":"SUM(E16:E50)","v":0}]

{"sheet":"Gestion analytique des Projets ","index":5,"n_rows":64,"n_cols":36,"rows_kept":64,"cut":false,"hidden":false,"merged":[[0,2,0,27],[1,5,1,17],[1,23,1,26],[3,5,3,8],[3,14,3,17],[3,23,3,26],[3,32,3,35],[4,5,4,8],[4,14,4,17],[4,23,4,26],[4,32,4,35],[6,1,7,1],[6,10,7,10],[6,19,7,19],[6,28,7,28]]}
[null,null,"GESTION ANALYTIQUE DES PROJETS DE LA COOPERATIVE SCOLAIRE"]
[null,null,"Nom de l'école  :",null,null,{"$f":"Coordonnées!B2&\" \"&\"- \"&Coordonnées!B4","v":"-"},null,null,null,null,null,null,null,null,null,null,null,null,null,null,"Année scolaire :",null,null,{"$f":"Coordonnées!B10&\"/\"&Coordonnées!B11","v":"2023/2024"}]
[]
[null,null,null,null,null,"budget accordé",null,null,null,null,null,null,null,null,"budget accordé",null,null,null,null,null,null,null,null,"budget accordé",null,null,null,null,null,null,null,null,"budget accordé"]
[null,null,"Intitulé de l'action 1 :",null,null,null,null,null,null,null,null,"Intitulé de l'action 2 :",null,null,null,null,null,null,null,null,"Intitulé de l'action 3 :",{"$f":"IF(Q5=\"\",\"\",VLOOKUP(Q5,LIVRE!$A$8:$AC$315,8))","v":""},null,null,null,null,null,null,null,"Intitulé de l'action 4 :",{"$f":"IF(Z5=\"\",\"\",VLOOKUP(Z5,LIVRE!$A$8:$AC$315,8))","v":""}]
[null,"PJ","Nature de l'opération",null,null,"Recettes",null,null,"Dépenses",null,"PJ","Nature de l'opération",null,null,"Recettes",null,null,"Dépenses",null,"PJ","Nature de l'opération",null,null,"Recettes",null,null,"Dépenses",null,"PJ","Nature de l'opération",null,null,"Recettes",null,null,"Dépenses"]
[null,null,"Solde","Entrées Banque","Entrées Caisse","Bilan recettes","Sorties Banque","Sorties Caisse","Bilan dépenses",null,null,"Solde","Entrées Banque","Entrées Caisse","Bilan recettes","Sorties Banque","Sorties Caisse","Bilan dépenses",null,null,"Solde","Entrées Banque","Entrées Caisse","Bilan recettes","Sorties Banque","Sorties Caisse","Bilan dépenses",null,null,"Solde","Entrées Banque","Entrées Caisse","Bilan recettes","Sorties Banque","Sorties Caisse","Bilan dépenses"]
[null,null,{"$f":"F64-I64","v":0},null,null,{"$f":"F64","v":0},null,null,{"$f":"I64","v":0},null,null,{"$f":"O64-R64","v":0},null,null,{"$f":"O64","v":0},null,null,{"$f":"R64","v":0},null,null,{"$f":"X64-AA64","v":0},null,null,{"$f":"X64","v":0},null,null,{"$f":"AA64","v":0},null,null,{"$f":"AG64-AJ64","v":0},null,null,{"$f":"AG64","v":0},null,null,{"$f":"AJ64","v":0}]
[null,null,{"$f":"IF(B9=\"\",\"\",VLOOKUP(B9,LIVRE!$A$8:$AC$315,4))","v":""},{"$f":"IF(B9=\"\",\"\",VLOOKUP(B9,LIVRE!$A$8:$AC$315,7))","v":""},{"$f":"IF(B9=\"\",\"\",VLOOKUP(B9,LIVRE!$A$8:$AC$315,10))","v":""},{"$f":"IF(B9=\"\",\"\",D9+E9)","v":""},{"$f":"IF(B9=\"\",\"\",VLOOKUP(B9,LIVRE!$A$8:$AC$315,8))","v":""},{"$f":"IF(B9=\"\",\"\",VLOOKUP(B9,LIVRE!$A$8:$AC$315,11))","v":""},{"$f":"IF(B9=\"\",\"\",G9+H9)","v":""},null,null,{"$f":"IF(K9=\"\",\"\",VLOOKUP(K9,LIVRE!$A$8:$AC$315,4))","v":""},{"$f":"IF(K9=\"\",\"\",VLOOKUP(K9,LIVRE!$A$8:$AC$315,7))","v":""},{"$f":"IF(K9=\"\",\"\",VLOOKUP(K9,LIVRE!$A$8:$AC$315,10))","v":""},{"$f":"IF(K9=\"\",\"\",M9+N9)","v":""},{"$f":"IF(K9=\"\",\"\",VLOOKUP(K9,LIVRE!$A$8:$AC$315,8))","v":""},{"$f":"IF(K9=\"\",\"\",VLOOKUP(K9,LIVRE!$A$8:$AC$315,11))","v":""},{"$f":"IF(K9=\"\",\"\",P9+Q9)","v":""},null,null,{"$f":"IF(T9=\"\",\"\",VLOOKUP(T9,LIVRE!$A$8:$AC$315,4))","v":""},{"$f":"IF(T9=\"\",\"\",VLOOKUP(T9,LIVRE!$A$8:$AC$315,7))","v":""},{"$f":"IF(T9=\"\",\"\",VLOOKUP(T9,LIVRE!$A$8:$AC$315,10))","v":""},{"$f":"IF(T9=\"\",\"\",V9+W9)","v":""},{"$f":"IF(T9=\"\",\"\",VLOOKUP(T9,LIVRE!$A$8:$AC$315,8))","v":""},{"$f":"IF(T9=\"\",\"\",VLOOKUP(T9,LIVRE!$A$8:$AC$315,11))","v":""},{"$f":"IF(T9=\"\",\"\",Y9+Z9)","v":""},null,null,{"$f":"IF(AC9=\"\",\"\",VLOOKUP(AC9,LIVRE!$A$8:$AC$315,4))","v":""},{"$f":"IF(AC9=\"\",\"\",VLOOKUP(AC9,LIVRE!$A$8:$AC$315,7))","v":""},{"$f":"IF(AC9=\"\",\"\",VLOOKUP(AC9,LIVRE!$A$8:$AC$315,10))","v":""},{"$f":"IF(AC9=\"\",\"\",AE9+AF9)","v":""},{"$f":"IF(AC9=\"\",\"\",VLOOKUP(AC9,LIVRE!$A$8:$AC$315,8))","v":""},{"$f":"IF(AC9=\"\",\"\",VLOOKUP(AC9,LIVRE!$A$8:$AC$315,11))","v":""},{"$f":"IF(AC9=\"\",\"\",AH9+AI9)","v":""}]
[null,null,{"$f":"IF(B10=\"\",\"\",VLOOKUP(B10,LIVRE!$A$8:$AC$315,4))","v":""},{"$f":"IF(B10=\"\",\"\",VLOOKUP(B10,LIVRE!$A$8:$AC$315,7))","v":""},{"$f":"IF(B10=\"\",\"\",VLOOKUP(B10,LIVRE!$A$8:$AC$315,10))","v":""},{"$f":"IF(B10=\"\",\"\",D10+E10)","v":""},{"$f":"IF(B10=\"\",\"\",VLOOKUP(B10,LIVRE!$A$8:$AC$315,8))","v":""},{"$f":"IF(B10=\"\",\"\",VLOOKUP(B10,LIVRE!$A$8:$AC$315,11))","v":""},{"$f":"IF(B10=\"\",\"\",G10+H10)","v":""},null,null,{"$f":"IF(K10=\"\",\"\",VLOOKUP(K10,LIVRE!$A$8:$AC$315,4))","v":""},{"$f":"IF(K10=\"\",\"\",VLOOKUP(K10,LIVRE!$A$8:$AC$315,7))","v":""},{"$f":"IF(K10=\"\",\"\",VLOOKUP(K10,LIVRE!$A$8:$AC$315,10))","v":""},{"$f":"IF(K10=\"\",\"\",M10+N10)","v":""},{"$f":"IF(K10=\"\",\"\",VLOOKUP(K10,LIVRE!$A$8:$AC$315,8))","v":""},{"$f":"IF(K10=\"\",\"\",VLOOKUP(K10,LIVRE!$A$8:$AC$315,11))","v":""},{"$f":"IF(K10=\"\",\"\",P10+Q10)","v":""},null,null,{"$f":"IF(T10=\"\",\"\",VLOOKUP(T10,LIVRE!$A$8:$AC$315,4))","v":""},{"$f":"IF(T10=\"\",\"\",VLOOKUP(T10,LIVRE!$A$8:$AC$315,7))","v":""},{"$f":"IF(T10=\"\",\"\",VLOOKUP(T10,LIVRE!$A$8:$AC$315,10))","v":""},{"$f":"IF(T10=\"\",\"\",V10+W10)","v":""},{"$f":"IF(T10=\"\",\"\",VLOOKUP(T10,LIVRE!$A$8:$AC$315,8))","v":""},{"$f":"IF(T10=\"\",\"\",VLOOKUP(T10,LIVRE!$A$8:$AC$315,11))","v":""},{"$f":"IF(T10=\"\",\"\",Y10+Z10)","v":""},null,null,{"$f":"IF(AC10=\"\",\"\",VLOOKUP(AC10,LIVRE!$A$8:$AC$315,4))","v":""},{"$f":"IF(AC10=\"\",\"\",VLOOKUP(AC10,LIVRE!$A$8:$AC$315,7))","v":""},{"$f":"IF(AC10=\"\",\"\",VLOOKUP(AC10,LIVRE!$A$8:$AC$315,10))","v":""},{"$f":"IF(AC10=\"\",\"\",AE10+AF10)","v":""},{"$f":"IF(AC10=\"\",\"\",VLOOKUP(AC10,LIVRE!$A$8:$AC$315,8))","v":""},{"$f":"IF(AC10=\"\",\"\",VLOOKUP(AC10,LIVRE!$A$8:$AC$315,11))","v":""},{"$f":"IF(AC10=\"\",\"\",AH10+AI10)","v":""}]
[null,null,{"$f":"IF(B11=\"\",\"\",VLOOKUP(B11,LIVRE!$A$8:$AC$315,4))","v":""},{"$f":"IF(B11=\"\",\"\",VLOOKUP(B11,LIVRE!$A$8:$AC$315,7))","v":""},{"$f":"IF(B11=\"\",\"\",VLOOKUP(B11,LIVRE!$A$8:$AC$315,10))","v":""},{"$f":"IF(B11=\"\",\"\",D11+E11)","v":""},{"$f":"IF(B11=\"\",\"\",VLOOKUP(B11,LIVRE!$A$8:$AC$315,8))","v":""},{"$f":"IF(B11=\"\",\"\",VLOOKUP(B11,LIVRE!$A$8:$AC$315,11))","v":""},{"$f":"IF(B11=\"\",\"\",G11+H11)","v":""},null,null,{"$f":"IF(K11=\"\",\"\",VLOOKUP(K11,LIVRE!$A$8:$AC$315,4))","v":""},{"$f":"IF(K11=\"\",\"\",VLOOKUP(K11,LIVRE!$A$8:$AC$315,7))","v":""},{"$f":"IF(K11=\"\",\"\",VLOOKUP(K11,LIVRE!$A$8:$AC$315,10))","v":""},{"$f":"IF(K11=\"\",\"\",M11+N11)","v":""},{"$f":"IF(K11=\"\",\"\",VLOOKUP(K11,LIVRE!$A$8:$AC$315,8))","v":""},{"$f":"IF(K11=\"\",\"\",VLOOKUP(K11,LIVRE!$A$8:$AC$315,11))","v":""},{"$f":"IF(K11=\"\",\"\",P11+Q11)","v":""},null,null,{"$f":"IF(T11=\"\",\"\",VLOOKUP(T11,LIVRE!$A$8:$AC$315,4))","v":""},{"$f":"IF(T11=\"\",\"\",VLOOKUP(T11,LIVRE!$A$8:$AC$315,7))","v":""},{"$f":"IF(T11=\"\",\"\",VLOOKUP(T11,LIVRE!$A$8:$AC$315,10))","v":""},{"$f":"IF(T11=\"\",\"\",V11+W11)","v":""},{"$f":"IF(T11=\"\",\"\",VLOOKUP(T11,LIVRE!$A$8:$AC$315,8))","v":""},{"$f":"IF(T11=\"\",\"\",VLOOKUP(T11,LIVRE!$A$8:$AC$315,11))","v":""},{"$f":"IF(T11=\"\",\"\",Y11+Z11)","v":""},null,null,{"$f":"IF(AC11=\"\",\"\",VLOOKUP(AC11,LIVRE!$A$8:$AC$315,4))","v":""},{"$f":"IF(AC11=\"\",\"\",VLOOKUP(AC11,LIVRE!$A$8:$AC$315,7))","v":""},{"$f":"IF(AC11=\"\",\"\",VLOOKUP(AC11,LIVRE!$A$8:$AC$315,10))","v":""},{"$f":"IF(AC11=\"\",\"\",AE11+AF11)","v":""},{"$f":"IF(AC11=\"\",\"\",VLOOKUP(AC11,LIVRE!$A$8:$AC$315,8))","v":""},{"$f":"IF(AC11=\"\",\"\",VLOOKUP(AC11,LIVRE!$A$8:$AC$315,11))","v":""},{"$f":"IF(AC11=\"\",\"\",AH11+AI11)","v":""}]
[null,null,{"$f":"IF(B12=\"\",\"\",VLOOKUP(B12,LIVRE!$A$8:$AC$315,4))","v":""},{"$f":"IF(B12=\"\",\"\",VLOOKUP(B12,LIVRE!$A$8:$AC$315,7))","v":""},{"$f":"IF(B12=\"\",\"\",VLOOKUP(B12,LIVRE!$A$8:$AC$315,10))","v":""},{"$f":"IF(B12=\"\",\"\",D12+E12)","v":""},{"$f":"IF(B12=\"\",\"\",VLOOKUP(B12,LIVRE!$A$8:$AC$315,8))","v":""},{"$f":"IF(B12=\"\",\"\",VLOOKUP(B12,LIVRE!$A$8:$AC$315,11))","v":""},{"$f":"IF(B12=\"\",\"\",G12+H12)","v":""},null,null,{"$f":"IF(K12=\"\",\"\",VLOOKUP(K12,LIVRE!$A$8:$AC$315,4))","v":""},{"$f":"IF(K12=\"\",\"\",VLOOKUP(K12,LIVRE!$A$8:$AC$315,7))","v":""},{"$f":"IF(K12=\"\",\"\",VLOOKUP(K12,LIVRE!$A$8:$AC$315,10))","v":""},{"$f":"IF(K12=\"\",\"\",M12+N12)","v":""},{"$f":"IF(K12=\"\",\"\",VLOOKUP(K12,LIVRE!$A$8:$AC$315,8))","v":""},{"$f":"IF(K12=\"\",\"\",VLOOKUP(K12,LIVRE!$A$8:$AC$315,11))","v":""},{"$f":"IF(K12=\"\",\"\",P12+Q12)","v":""},null,null,{"$f":"IF(T12=\"\",\"\",VLOOKUP(T12,LIVRE!$A$8:$AC$315,4))","v":""},{"$f":"IF(T12=\"\",\"\",VLOOKUP(T12,LIVRE!$A$8:$AC$315,7))","v":""},{"$f":"IF(T12=\"\",\"\",VLOOKUP(T12,LIVRE!$A$8:$AC$315,10))","v":""},{"$f":"IF(T12=\"\",\"\",V12+W12)","v":""},{"$f":"IF(T12=\"\",\"\",VLOOKUP(T12,LIVRE!$A$8:$AC$315,8))","v":""},{"$f":"IF(T12=\"\",\"\",VLOOKUP(T12,LIVRE!$A$8:$AC$315,11))","v":""},{"$f":"IF(T12=\"\",\"\",Y12+Z12)","v":""},null,null,{"$f":"IF(AC12=\"\",\"\",VLOOKUP(AC12,LIVRE!$A$8:$AC$315,4))","v":""},{"$f":"IF(AC12=\"\",\"\",VLOOKUP(AC12,LIVRE!$A$8:$AC$315,7))","v":""},{"$f":"IF(AC12=\"\",\"\",VLOOKUP(AC12,LIVRE!$A$8:$AC$315,10))","v":""},{"$f":"IF(AC12=\"\",\"\",AE12+AF12)","v":""},{"$f":"IF(AC12=\"\",\"\",VLOOKUP(AC12,LIVRE!$A$8:$AC$315,8))","v":""},{"$f":"IF(AC12=\"\",\"\",VLOOKUP(AC12,LIVRE!$A$8:$AC$315,11))","v":""},{"$f":"IF(AC12=\"\",\"\",AH12+AI12)","v":""}]
[null,null,{"$f":"IF(B13=\"\",\"\",VLOOKUP(B13,LIVRE!$A$8:$AC$315,4))","v":""},{"$f":"IF(B13=\"\",\"\",VLOOKUP(B13,LIVRE!$A$8:$AC$315,7))","v":""},{"$f":"IF(B13=\"\",\"\",VLOOKUP(B13,LIVRE!$A$8:$AC$315,10))","v":""},{"$f":"IF(B13=\"\",\"\",D13+E13)","v":""},{"$f":"IF(B13=\"\",\"\",VLOOKUP(B13,LIVRE!$A$8:$AC$315,8))","v":""},{"$f":"IF(B13=\"\",\"\",VLOOKUP(B13,LIVRE!$A$8:$AC$315,11))","v":""},{"$f":"IF(B13=\"\",\"\",G13+H13)","v":""},null,null,{"$f":"IF(K13=\"\",\"\",VLOOKUP(K13,LIVRE!$A$8:$AC$315,4))","v":""},{"$f":"IF(K13=\"\",\"\",VLOOKUP(K13,LIVRE!$A$8:$AC$315,7))","v":""},{"$f":"IF(K13=\"\",\"\",VLOOKUP(K13,LIVRE!$A$8:$AC$315,10))","v":""},{"$f":"IF(K13=\"\",\"\",M13+N13)","v":""},{"$f":"IF(K13=\"\",\"\",VLOOKUP(K13,LIVRE!$A$8:$AC$315,8))","v":""},{"$f":"IF(K13=\"\",\"\",VLOOKUP(K13,LIVRE!$A$8:$AC$315,11))","v":""},{"$f":"IF(K13=\"\",\"\",P13+Q13)","v":""},null,null,{"$f":"IF(T13=\"\",\"\",VLOOKUP(T13,LIVRE!$A$8:$AC$315,4))","v":""},{"$f":"IF(T13=\"\",\"\",VLOOKUP(T13,LIVRE!$A$8:$AC$315,7))","v":""},{"$f":"IF(T13=\"\",\"\",VLOOKUP(T13,LIVRE!$A$8:$AC$315,10))","v":""},{"$f":"IF(T13=\"\",\"\",V13+W13)","v":""},{"$f":"IF(T13=\"\",\"\",VLOOKUP(T13,LIVRE!$A$8:$AC$315,8))","v":""},{"$f":"IF(T13=\"\",\"\",VLOOKUP(T13,LIVRE!$A$8:$AC$315,11))","v":""},{"$f":"IF(T13=\"\",\"\",Y13+Z13)","v":""},null,null,{"$f":"IF(AC13=\"\",\"\",VLOOKUP(AC13,LIVRE!$A$8:$AC$315,4))","v":""},{"$f":"IF(AC13=\"\",\"\",VLOOKUP(AC13,LIVRE!$A$8:$AC$315,7))","v":""},{"$f":"IF(AC13=\"\",\"\",VLOOKUP(AC13,LIVRE!$A$8:$AC$315,10))","v":""},{"$f":"IF(AC13=\"\",\"\",AE13+AF13)","v":""},{"$f":"IF(AC13=\"\",\"\",VLOOKUP(AC13,LIVRE!$A$8:$AC$315,8))","v":""},{"$f":"IF(AC13=\"\",\"\",VLOOKUP(AC13,LIVRE!$A$8:$AC$315,11))","v":""},{"$f":"IF(AC13=\"\",\"\",AH13+AI13)","v":""}]
[null,null,{"$f":"IF(B14=\"\",\"\",VLOOKUP(B14,LIVRE!$A$8:$AC$315,4))","v":""},{"$f":"IF(B14=\"\",\"\",VLOOKUP(B14,LIVRE!$A$8:$AC$315,7))","v":""},{"$f":"IF(B14=\"\",\"\",VLOOKUP(B14,LIVRE!$A$8:$AC$315,10))","v":""},{"$f":"IF(B14=\"\",\"\",D14+E14)","v":""},{"$f":"IF(B14=\"\",\"\",VLOOKUP(B14,LIVRE!$A$8:$AC$315,8))","v":""},{"$f":"IF(B14=\"\",\"\",VLOOKUP(B14,LIVRE!$A$8:$AC$315,11))","v":""},{"$f":"IF(B14=\"\",\"\",G14+H14)","v":""},null,null,{"$f":"IF(K14=\"\",\"\",VLOOKUP(K14,LIVRE!$A$8:$AC$315,4))","v":""},{"$f":"IF(K14=\"\",\"\",VLOOKUP(K14,LIVRE!$A$8:$AC$315,7))","v":""},{"$f":"IF(K14=\"\",\"\",VLOOKUP(K14,LIVRE!$A$8:$AC$315,10))","v":""},{"$f":"IF(K14=\"\",\"\",M14+N14)","v":""},{"$f":"IF(K14=\"\",\"\",VLOOKUP(K14,LIVRE!$A$8:$AC$315,8))","v":""},{"$f":"IF(K14=\"\",\"\",VLOOKUP(K14,LIVRE!$A$8:$AC$315,11))","v":""},{"$f":"IF(K14=\"\",\"\",P14+Q14)","v":""},null,null,{"$f":"IF(T14=\"\",\"\",VLOOKUP(T14,LIVRE!$A$8:$AC$315,4))","v":""},{"$f":"IF(T14=\"\",\"\",VLOOKUP(T14,LIVRE!$A$8:$AC$315,7))","v":""},{"$f":"IF(T14=\"\",\"\",VLOOKUP(T14,LIVRE!$A$8:$AC$315,10))","v":""},{"$f":"IF(T14=\"\",\"\",V14+W14)","v":""},{"$f":"IF(T14=\"\",\"\",VLOOKUP(T14,LIVRE!$A$8:$AC$315,8))","v":""},{"$f":"IF(T14=\"\",\"\",VLOOKUP(T14,LIVRE!$A$8:$AC$315,11))","v":""},{"$f":"IF(T14=\"\",\"\",Y14+Z14)","v":""},null,null,{"$f":"IF(AC14=\"\",\"\",VLOOKUP(AC14,LIVRE!$A$8:$AC$315,4))","v":""},{"$f":"IF(AC14=\"\",\"\",VLOOKUP(AC14,LIVRE!$A$8:$AC$315,7))","v":""},{"$f":"IF(AC14=\"\",\"\",VLOOKUP(AC14,LIVRE!$A$8:$AC$315,10))","v":""},{"$f":"IF(AC14=\"\",\"\",AE14+AF14)","v":""},{"$f":"IF(AC14=\"\",\"\",VLOOKUP(AC14,LIVRE!$A$8:$AC$315,8))","v":""},{"$f":"IF(AC14=\"\",\"\",VLOOKUP(AC14,LIVRE!$A$8:$AC$315,11))","v":""},{"$f":"IF(AC14=\"\",\"\",AH14+AI14)","v":""}]
[null,null,{"$f":"IF(B15=\"\",\"\",VLOOKUP(B15,LIVRE!$A$8:$AC$315,4))","v":""},{"$f":"IF(B15=\"\",\"\",VLOOKUP(B15,LIVRE!$A$8:$AC$315,7))","v":""},{"$f":"IF(B15=\"\",\"\",VLOOKUP(B15,LIVRE!$A$8:$AC$315,10))","v":""},{"$f":"IF(B15=\"\",\"\",D15+E15)","v":""},{"$f":"IF(B15=\"\",\"\",VLOOKUP(B15,LIVRE!$A$8:$AC$315,8))","v":""},{"$f":"IF(B15=\"\",\"\",VLOOKUP(B15,LIVRE!$A$8:$AC$315,11))","v":""},{"$f":"IF(B15=\"\",\"\",G15+H15)","v":""},null,null,{"$f":"IF(K15=\"\",\"\",VLOOKUP(K15,LIVRE!$A$8:$AC$315,4))","v":""},{"$f":"IF(K15=\"\",\"\",VLOOKUP(K15,LIVRE!$A$8:$AC$315,7))","v":""},{"$f":"IF(K15=\"\",\"\",VLOOKUP(K15,LIVRE!$A$8:$AC$315,10))","v":""},{"$f":"IF(K15=\"\",\"\",M15+N15)","v":""},{"$f":"IF(K15=\"\",\"\",VLOOKUP(K15,LIVRE!$A$8:$AC$315,8))","v":""},{"$f":"IF(K15=\"\",\"\",VLOOKUP(K15,LIVRE!$A$8:$AC$315,11))","v":""},{"$f":"IF(K15=\"\",\"\",P15+Q15)","v":""},null,null,{"$f":"IF(T15=\"\",\"\",VLOOKUP(T15,LIVRE!$A$8:$AC$315,4))","v":""},{"$f":"IF(T15=\"\",\"\",VLOOKUP(T15,LIVRE!$A$8:$AC$315,7))","v":""},{"$f":"IF(T15=\"\",\"\",VLOOKUP(T15,LIVRE!$A$8:$AC$315,10))","v":""},{"$f":"IF(T15=\"\",\"\",V15+W15)","v":""},{"$f":"IF(T15=\"\",\"\",VLOOKUP(T15,LIVRE!$A$8:$AC$315,8))","v":""},{"$f":"IF(T15=\"\",\"\",VLOOKUP(T15,LIVRE!$A$8:$AC$315,11))","v":""},{"$f":"IF(T15=\"\",\"\",Y15+Z15)","v":""},null,null,{"$f":"IF(AC15=\"\",\"\",VLOOKUP(AC15,LIVRE!$A$8:$AC$315,4))","v":""},{"$f":"IF(AC15=\"\",\"\",VLOOKUP(AC15,LIVRE!$A$8:$AC$315,7))","v":""},{"$f":"IF(AC15=\"\",\"\",VLOOKUP(AC15,LIVRE!$A$8:$AC$315,10))","v":""},{"$f":"IF(AC15=\"\",\"\",AE15+AF15)","v":""},{"$f":"IF(AC15=\"\",\"\",VLOOKUP(AC15,LIVRE!$A$8:$AC$315,8))","v":""},{"$f":"IF(AC15=\"\",\"\",VLOOKUP(AC15,LIVRE!$A$8:$AC$315,11))","v":""},{"$f":"IF(AC15=\"\",\"\",AH15+AI15)","v":""}]
[null,null,{"$f":"IF(B16=\"\",\"\",VLOOKUP(B16,LIVRE!$A$8:$AC$315,4))","v":""},{"$f":"IF(B16=\"\",\"\",VLOOKUP(B16,LIVRE!$A$8:$AC$315,7))","v":""},{"$f":"IF(B16=\"\",\"\",VLOOKUP(B16,LIVRE!$A$8:$AC$315,10))","v":""},{"$f":"IF(B16=\"\",\"\",D16+E16)","v":""},{"$f":"IF(B16=\"\",\"\",VLOOKUP(B16,LIVRE!$A$8:$AC$315,8))","v":""},{"$f":"IF(B16=\"\",\"\",VLOOKUP(B16,LIVRE!$A$8:$AC$315,11))","v":""},{"$f":"IF(B16=\"\",\"\",G16+H16)","v":""},null,null,{"$f":"IF(K16=\"\",\"\",VLOOKUP(K16,LIVRE!$A$8:$AC$315,4))","v":""},{"$f":"IF(K16=\"\",\"\",VLOOKUP(K16,LIVRE!$A$8:$AC$315,7))","v":""},{"$f":"IF(K16=\"\",\"\",VLOOKUP(K16,LIVRE!$A$8:$AC$315,10))","v":""},{"$f":"IF(K16=\"\",\"\",M16+N16)","v":""},{"$f":"IF(K16=\"\",\"\",VLOOKUP(K16,LIVRE!$A$8:$AC$315,8))","v":""},{"$f":"IF(K16=\"\",\"\",VLOOKUP(K16,LIVRE!$A$8:$AC$315,11))","v":""},{"$f":"IF(K16=\"\",\"\",P16+Q16)","v":""},null,null,{"$f":"IF(T16=\"\",\"\",VLOOKUP(T16,LIVRE!$A$8:$AC$315,4))","v":""},{"$f":"IF(T16=\"\",\"\",VLOOKUP(T16,LIVRE!$A$8:$AC$315,7))","v":""},{"$f":"IF(T16=\"\",\"\",VLOOKUP(T16,LIVRE!$A$8:$AC$315,10))","v":""},{"$f":"IF(T16=\"\",\"\",V16+W16)","v":""},{"$f":"IF(T16=\"\",\"\",VLOOKUP(T16,LIVRE!$A$8:$AC$315,8))","v":""},{"$f":"IF(T16=\"\",\"\",VLOOKUP(T16,LIVRE!$A$8:$AC$315,11))","v":""},{"$f":"IF(T16=\"\",\"\",Y16+Z16)","v":""},null,null,{"$f":"IF(AC16=\"\",\"\",VLOOKUP(AC16,LIVRE!$A$8:$AC$315,4))","v":""},{"$f":"IF(AC16=\"\",\"\",VLOOKUP(AC16,LIVRE!$A$8:$AC$315,7))","v":""},{"$f":"IF(AC16=\"\",\"\",VLOOKUP(AC16,LIVRE!$A$8:$AC$315,10))","v":""},{"$f":"IF(AC16=\"\",\"\",AE16+AF16)","v":""},{"$f":"IF(AC16=\"\",\"\",VLOOKUP(AC16,LIVRE!$A$8:$AC$315,8))","v":""},{"$f":"IF(AC16=\"\",\"\",VLOOKUP(AC16,LIVRE!$A$8:$AC$315,11))","v":""},{"$f":"IF(AC16=\"\",\"\",AH16+AI16)","v":""}]
[null,null,{"$f":"IF(B17=\"\",\"\",VLOOKUP(B17,LIVRE!$A$8:$AC$315,4))","v":""},{"$f":"IF(B17=\"\",\"\",VLOOKUP(B17,LIVRE!$A$8:$AC$315,7))","v":""},{"$f":"IF(B17=\"\",\"\",VLOOKUP(B17,LIVRE!$A$8:$AC$315,10))","v":""},{"$f":"IF(B17=\"\",\"\",D17+E17)","v":""},{"$f":"IF(B17=\"\",\"\",VLOOKUP(B17,LIVRE!$A$8:$AC$315,8))","v":""},{"$f":"IF(B17=\"\",\"\",VLOOKUP(B17,LIVRE!$A$8:$AC$315,11))","v":""},{"$f":"IF(B17=\"\",\"\",G17+H17)","v":""},null,null,{"$f":"IF(K17=\"\",\"\",VLOOKUP(K17,LIVRE!$A$8:$AC$315,4))","v":""},{"$f":"IF(K17=\"\",\"\",VLOOKUP(K17,LIVRE!$A$8:$AC$315,7))","v":""},{"$f":"IF(K17=\"\",\"\",VLOOKUP(K17,LIVRE!$A$8:$AC$315,10))","v":""},{"$f":"IF(K17=\"\",\"\",M17+N17)","v":""},{"$f":"IF(K17=\"\",\"\",VLOOKUP(K17,LIVRE!$A$8:$AC$315,8))","v":""},{"$f":"IF(K17=\"\",\"\",VLOOKUP(K17,LIVRE!$A$8:$AC$315,11))","v":""},{"$f":"IF(K17=\"\",\"\",P17+Q17)","v":""},null,null,{"$f":"IF(T17=\"\",\"\",VLOOKUP(T17,LIVRE!$A$8:$AC$315,4))","v":""},{"$f":"IF(T17=\"\",\"\",VLOOKUP(T17,LIVRE!$A$8:$AC$315,7))","v":""},{"$f":"IF(T17=\"\",\"\",VLOOKUP(T17,LIVRE!$A$8:$AC$315,10))","v":""},{"$f":"IF(T17=\"\",\"\",V17+W17)","v":""},{"$f":"IF(T17=\"\",\"\",VLOOKUP(T17,LIVRE!$A$8:$AC$315,8))","v":""},{"$f":"IF(T17=\"\",\"\",VLOOKUP(T17,LIVRE!$A$8:$AC$315,11))","v":""},{"$f":"IF(T17=\"\",\"\",Y17+Z17)","v":""},null,null,{"$f":"IF(AC17=\"\",\"\",VLOOKUP(AC17,LIVRE!$A$8:$AC$315,4))","v":""},{"$f":"IF(AC17=\"\",\"\",VLOOKUP(AC17,LIVRE!$A$8:$AC$315,7))","v":""},{"$f":"IF(AC17=\"\",\"\",VLOOKUP(AC17,LIVRE!$A$8:$AC$315,10))","v":""},{"$f":"IF(AC17=\"\",\"\",AE17+AF17)","v":""},{"$f":"IF(AC17=\"\",\"\",VLOOKUP(AC17,LIVRE!$A$8:$AC$315,8))","v":""},{"$f":"IF(AC17=\"\",\"\",VLOOKUP(AC17,LIVRE!$A$8:$AC$315,11))","v":""},{"$f":"IF(AC17=\"\",\"\",AH17+AI17)","v":""}]
[null,null,{"$f":"IF(B18=\"\",\"\",VLOOKUP(B18,LIVRE!$A$8:$AC$315,4))","v":""},{"$f":"IF(B18=\"\",\"\",VLOOKUP(B18,LIVRE!$A$8:$AC$315,7))","v":""},{"$f":"IF(B18=\"\",\"\",VLOOKUP(B18,LIVRE!$A$8:$AC$315,10))","v":""},{"$f":"IF(B18=\"\",\"\",D18+E18)","v":""},{"$f":"IF(B18=\"\",\"\",VLOOKUP(B18,LIVRE!$A$8:$AC$315,8))","v":""},{"$f":"IF(B18=\"\",\"\",VLOOKUP(B18,LIVRE!$A$8:$AC$315,11))","v":""},{"$f":"IF(B18=\"\",\"\",G18+H18)","v":""},null,null,{"$f":"IF(K18=\"\",\"\",VLOOKUP(K18,LIVRE!$A$8:$AC$315,4))","v":""},{"$f":"IF(K18=\"\",\"\",VLOOKUP(K18,LIVRE!$A$8:$AC$315,7))","v":""},{"$f":"IF(K18=\"\",\"\",VLOOKUP(K18,LIVRE!$A$8:$AC$315,10))","v":""},{"$f":"IF(K18=\"\",\"\",M18+N18)","v":""},{"$f":"IF(K18=\"\",\"\",VLOOKUP(K18,LIVRE!$A$8:$AC$315,8))","v":""},{"$f":"IF(K18=\"\",\"\",VLOOKUP(K18,LIVRE!$A$8:$AC$315,11))","v":""},{"$f":"IF(K18=\"\",\"\",P18+Q18)","v":""},null,null,{"$f":"IF(T18=\"\",\"\",VLOOKUP(T18,LIVRE!$A$8:$AC$315,4))","v":""},{"$f":"IF(T18=\"\",\"\",VLOOKUP(T18,LIVRE!$A$8:$AC$315,7))","v":""},{"$f":"IF(T18=\"\",\"\",VLOOKUP(T18,LIVRE!$A$8:$AC$315,10))","v":""},{"$f":"IF(T18=\"\",\"\",V18+W18)","v":""},{"$f":"IF(T18=\"\",\"\",VLOOKUP(T18,LIVRE!$A$8:$AC$315,8))","v":""},{"$f":"IF(T18=\"\",\"\",VLOOKUP(T18,LIVRE!$A$8:$AC$315,11))","v":""},{"$f":"IF(T18=\"\",\"\",Y18+Z18)","v":""},null,null,{"$f":"IF(AC18=\"\",\"\",VLOOKUP(AC18,LIVRE!$A$8:$AC$315,4))","v":""},{"$f":"IF(AC18=\"\",\"\",VLOOKUP(AC18,LIVRE!$A$8:$AC$315,7))","v":""},{"$f":"IF(AC18=\"\",\"\",VLOOKUP(AC18,LIVRE!$A$8:$AC$315,10))","v":""},{"$f":"IF(AC18=\"\",\"\",AE18+AF18)","v":""},{"$f":"IF(AC18=\"\",\"\",VLOOKUP(AC18,LIVRE!$A$8:$AC$315,8))","v":""},{"$f":"IF(AC18=\"\",\"\",VLOOKUP(AC18,LIVRE!$A$8:$AC$315,11))","v":""},{"$f":"IF(AC18=\"\",\"\",AH18+AI18)","v":""}]
[null,null,{"$f":"IF(B19=\"\",\"\",VLOOKUP(B19,LIVRE!$A$8:$AC$315,4))","v":""},{"$f":"IF(B19=\"\",\"\",VLOOKUP(B19,LIVRE!$A$8:$AC$315,7))","v":""},{"$f":"IF(B19=\"\",\"\",VLOOKUP(B19,LIVRE!$A$8:$AC$315,10))","v":""},{"$f":"IF(B19=\"\",\"\",D19+E19)","v":""},{"$f":"IF(B19=\"\",\"\",VLOOKUP(B19,LIVRE!$A$8:$AC$315,8))","v":""},{"$f":"IF(B19=\"\",\"\",VLOOKUP(B19,LIVRE!$A$8:$AC$315,11))","v":""},{"$f":"IF(B19=\"\",\"\",G19+H19)","v":""},null,null,{"$f":"IF(K19=\"\",\"\",VLOOKUP(K19,LIVRE!$A$8:$AC$315,4))","v":""},{"$f":"IF(K19=\"\",\"\",VLOOKUP(K19,LIVRE!$A$8:$AC$315,7))","v":""},{"$f":"IF(K19=\"\",\"\",VLOOKUP(K19,LIVRE!$A$8:$AC$315,10))","v":""},{"$f":"IF(K19=\"\",\"\",M19+N19)","v":""},{"$f":"IF(K19=\"\",\"\",VLOOKUP(K19,LIVRE!$A$8:$AC$315,8))","v":""},{"$f":"IF(K19=\"\",\"\",VLOOKUP(K19,LIVRE!$A$8:$AC$315,11))","v":""},{"$f":"IF(K19=\"\",\"\",P19+Q19)","v":""},null,null,{"$f":"IF(T19=\"\",\"\",VLOOKUP(T19,LIVRE!$A$8:$AC$315,4))","v":""},{"$f":"IF(T19=\"\",\"\",VLOOKUP(T19,LIVRE!$A$8:$AC$315,7))","v":""},{"$f":"IF(T19=\"\",\"\",VLOOKUP(T19,LIVRE!$A$8:$AC$315,10))","v":""},{"$f":"IF(T19=\"\",\"\",V19+W19)","v":""},{"$f":"IF(T19=\"\",\"\",VLOOKUP(T19,LIVRE!$A$8:$AC$315,8))","v":""},{"$f":"IF(T19=\"\",\"\",VLOOKUP(T19,LIVRE!$A$8:$AC$315,11))","v":""},{"$f":"IF(T19=\"\",\"\",Y19+Z19)","v":""},null,null,{"$f":"IF(AC19=\"\",\"\",VLOOKUP(AC19,LIVRE!$A$8:$AC$315,4))","v":""},{"$f":"IF(AC19=\"\",\"\",VLOOKUP(AC19,LIVRE!$A$8:$AC$315,7))","v":""},{"$f":"IF(AC19=\"\",\"\",VLOOKUP(AC19,LIVRE!$A$8:$AC$315,10))","v":""},{"$f":"IF(AC19=\"\",\"\",AE19+AF19)","v":""},{"$f":"IF(AC19=\"\",\"\",VLOOKUP(AC19,LIVRE!$A$8:$AC$315,8))","v":""},{"$f":"IF(AC19=\"\",\"\",VLOOKUP(AC19,LIVRE!$A$8:$AC$315,11))","v":""},{"$f":"IF(AC19=\"\",\"\",AH19+AI19)","v":""}]
[null,null,{"$f":"IF(B20=\"\",\"\",VLOOKUP(B20,LIVRE!$A$8:$AC$315,4))","v":""},{"$f":"IF(B20=\"\",\"\",VLOOKUP(B20,LIVRE!$A$8:$AC$315,7))","v":""},{"$f":"IF(B20=\"\",\"\",VLOOKUP(B20,LIVRE!$A$8:$AC$315,10))","v":""},{"$f":"IF(B20=\"\",\"\",D20+E20)","v":""},{"$f":"IF(B20=\"\",\"\",VLOOKUP(B20,LIVRE!$A$8:$AC$315,8))","v":""},{"$f":"IF(B20=\"\",\"\",VLOOKUP(B20,LIVRE!$A$8:$AC$315,11))","v":""},{"$f":"IF(B20=\"\",\"\",G20+H20)","v":""},null,null,{"$f":"IF(K20=\"\",\"\",VLOOKUP(K20,LIVRE!$A$8:$AC$315,4))","v":""},{"$f":"IF(K20=\"\",\"\",VLOOKUP(K20,LIVRE!$A$8:$AC$315,7))","v":""},{"$f":"IF(K20=\"\",\"\",VLOOKUP(K20,LIVRE!$A$8:$AC$315,10))","v":""},{"$f":"IF(K20=\"\",\"\",M20+N20)","v":""},{"$f":"IF(K20=\"\",\"\",VLOOKUP(K20,LIVRE!$A$8:$AC$315,8))","v":""},{"$f":"IF(K20=\"\",\"\",VLOOKUP(K20,LIVRE!$A$8:$AC$315,11))","v":""},{"$f":"IF(K20=\"\",\"\",P20+Q20)","v":""},null,null,{"$f":"IF(T20=\"\",\"\",VLOOKUP(T20,LIVRE!$A$8:$AC$315,4))","v":""},{"$f":"IF(T20=\"\",\"\",VLOOKUP(T20,LIVRE!$A$8:$AC$315,7))","v":""},{"$f":"IF(T20=\"\",\"\",VLOOKUP(T20,LIVRE!$A$8:$AC$315,10))","v":""},{"$f":"IF(T20=\"\",\"\",V20+W20)","v":""},{"$f":"IF(T20=\"\",\"\",VLOOKUP(T20,LIVRE!$A$8:$AC$315,8))","v":""},{"$f":"IF(T20=\"\",\"\",VLOOKUP(T20,LIVRE!$A$8:$AC$315,11))","v":""},{"$f":"IF(T20=\"\",\"\",Y20+Z20)","v":""},null,null,{"$f":"IF(AC20=\"\",\"\",VLOOKUP(AC20,LIVRE!$A$8:$AC$315,4))","v":""},{"$f":"IF(AC20=\"\",\"\",VLOOKUP(AC20,LIVRE!$A$8:$AC$315,7))","v":""},{"$f":"IF(AC20=\"\",\"\",VLOOKUP(AC20,LIVRE!$A$8:$AC$315,10))","v":""},{"$f":"IF(AC20=\"\",\"\",AE20+AF20)","v":""},{"$f":"IF(AC20=\"\",\"\",VLOOKUP(AC20,LIVRE!$A$8:$AC$315,8))","v":""},{"$f":"IF(AC20=\"\",\"\",VLOOKUP(AC20,LIVRE!$A$8:$AC$315,11))","v":""},{"$f":"IF(AC20=\"\",\"\",AH20+AI20)","v":""}]
[null,null,{"$f":"IF(B21=\"\",\"\",VLOOKUP(B21,LIVRE!$A$8:$AC$315,4))","v":""},{"$f":"IF(B21=\"\",\"\",VLOOKUP(B21,LIVRE!$A$8:$AC$315,7))","v":""},{"$f":"IF(B21=\"\",\"\",VLOOKUP(B21,LIVRE!$A$8:$AC$315,10))","v":""},{"$f":"IF(B21=\"\",\"\",D21+E21)","v":""},{"$f":"IF(B21=\"\",\"\",VLOOKUP(B21,LIVRE!$A$8:$AC$315,8))","v":""},{"$f":"IF(B21=\"\",\"\",VLOOKUP(B21,LIVRE!$A$8:$AC$315,11))","v":""},{"$f":"IF(B21=\"\",\"\",G21+H21)","v":""},null,null,{"$f":"IF(K21=\"\",\"\",VLOOKUP(K21,LIVRE!$A$8:$AC$315,4))","v":""},{"$f":"IF(K21=\"\",\"\",VLOOKUP(K21,LIVRE!$A$8:$AC$315,7))","v":""},{"$f":"IF(K21=\"\",\"\",VLOOKUP(K21,LIVRE!$A$8:$AC$315,10))","v":""},{"$f":"IF(K21=\"\",\"\",M21+N21)","v":""},{"$f":"IF(K21=\"\",\"\",VLOOKUP(K21,LIVRE!$A$8:$AC$315,8))","v":""},{"$f":"IF(K21=\"\",\"\",VLOOKUP(K21,LIVRE!$A$8:$AC$315,11))","v":""},{"$f":"IF(K21=\"\",\"\",P21+Q21)","v":""},null,null,{"$f":"IF(T21=\"\",\"\",VLOOKUP(T21,LIVRE!$A$8:$AC$315,4))","v":""},{"$f":"IF(T21=\"\",\"\",VLOOKUP(T21,LIVRE!$A$8:$AC$315,7))","v":""},{"$f":"IF(T21=\"\",\"\",VLOOKUP(T21,LIVRE!$A$8:$AC$315,10))","v":""},{"$f":"IF(T21=\"\",\"\",V21+W21)","v":""},{"$f":"IF(T21=\"\",\"\",VLOOKUP(T21,LIVRE!$A$8:$AC$315,8))","v":""},{"$f":"IF(T21=\"\",\"\",VLOOKUP(T21,LIVRE!$A$8:$AC$315,11))","v":""},{"$f":"IF(T21=\"\",\"\",Y21+Z21)","v":""},null,null,{"$f":"IF(AC21=\"\",\"\",VLOOKUP(AC21,LIVRE!$A$8:$AC$315,4))","v":""},{"$f":"IF(AC21=\"\",\"\",VLOOKUP(AC21,LIVRE!$A$8:$AC$315,7))","v":""},{"$f":"IF(AC21=\"\",\"\",VLOOKUP(AC21,LIVRE!$A$8:$AC$315,10))","v":""},{"$f":"IF(AC21=\"\",\"\",AE21+AF21)","v":""},{"$f":"IF(AC21=\"\",\"\",VLOOKUP(AC21,LIVRE!$A$8:$AC$315,8))","v":""},{"$f":"IF(AC21=\"\",\"\",VLOOKUP(AC21,LIVRE!$A$8:$AC$315,11))","v":""},{"$f":"IF(AC21=\"\",\"\",AH21+AI21)","v":""}]
[null,null,{"$f":"IF(B22=\"\",\"\",VLOOKUP(B22,LIVRE!$A$8:$AC$315,4))","v":""},{"$f":"IF(B22=\"\",\"\",VLOOKUP(B22,LIVRE!$A$8:$AC$315,7))","v":""},{"$f":"IF(B22=\"\",\"\",VLOOKUP(B22,LIVRE!$A$8:$AC$315,10))","v":""},{"$f":"IF(B22=\"\",\"\",D22+E22)","v":""},{"$f":"IF(B22=\"\",\"\",VLOOKUP(B22,LIVRE!$A$8:$AC$315,8))","v":""},{"$f":"IF(B22=\"\",\"\",VLOOKUP(B22,LIVRE!$A$8:$AC$315,11))","v":""},{"$f":"IF(B22=\"\",\"\",G22+H22)","v":""},null,null,{"$f":"IF(K22=\"\",\"\",VLOOKUP(K22,LIVRE!$A$8:$AC$315,4))","v":""},{"$f":"IF(K22=\"\",\"\",VLOOKUP(K22,LIVRE!$A$8:$AC$315,7))","v":""},{"$f":"IF(K22=\"\",\"\",VLOOKUP(K22,LIVRE!$A$8:$AC$315,10))","v":""},{"$f":"IF(K22=\"\",\"\",M22+N22)","v":""},{"$f":"IF(K22=\"\",\"\",VLOOKUP(K22,LIVRE!$A$8:$AC$315,8))","v":""},{"$f":"IF(K22=\"\",\"\",VLOOKUP(K22,LIVRE!$A$8:$AC$315,11))","v":""},{"$f":"IF(K22=\"\",\"\",P22+Q22)","v":""},null,null,{"$f":"IF(T22=\"\",\"\",VLOOKUP(T22,LIVRE!$A$8:$AC$315,4))","v":""},{"$f":"IF(T22=\"\",\"\",VLOOKUP(T22,LIVRE!$A$8:$AC$315,7))","v":""},{"$f":"IF(T22=\"\",\"\",VLOOKUP(T22,LIVRE!$A$8:$AC$315,10))","v":""},{"$f":"IF(T22=\"\",\"\",V22+W22)","v":""},{"$f":"IF(T22=\"\",\"\",VLOOKUP(T22,LIVRE!$A$8:$AC$315,8))","v":""},{"$f":"IF(T22=\"\",\"\",VLOOKUP(T22,LIVRE!$A$8:$AC$315,11))","v":""},{"$f":"IF(T22=\"\",\"\",Y22+Z22)","v":""},null,null,{"$f":"IF(AC22=\"\",\"\",VLOOKUP(AC22,LIVRE!$A$8:$AC$315,4))","v":""},{"$f":"IF(AC22=\"\",\"\",VLOOKUP(AC22,LIVRE!$A$8:$AC$315,7))","v":""},{"$f":"IF(AC22=\"\",\"\",VLOOKUP(AC22,LIVRE!$A$8:$AC$315,10))","v":""},{"$f":"IF(AC22=\"\",\"\",AE22+AF22)","v":""},{"$f":"IF(AC22=\"\",\"\",VLOOKUP(AC22,LIVRE!$A$8:$AC$315,8))","v":""},{"$f":"IF(AC22=\"\",\"\",VLOOKUP(AC22,LIVRE!$A$8:$AC$315,11))","v":""},{"$f":"IF(AC22=\"\",\"\",AH22+AI22)","v":""}]
[null,null,{"$f":"IF(B23=\"\",\"\",VLOOKUP(B23,LIVRE!$A$8:$AC$315,4))","v":""},{"$f":"IF(B23=\"\",\"\",VLOOKUP(B23,LIVRE!$A$8:$AC$315,7))","v":""},{"$f":"IF(B23=\"\",\"\",VLOOKUP(B23,LIVRE!$A$8:$AC$315,10))","v":""},{"$f":"IF(B23=\"\",\"\",D23+E23)","v":""},{"$f":"IF(B23=\"\",\"\",VLOOKUP(B23,LIVRE!$A$8:$AC$315,8))","v":""},{"$f":"IF(B23=\"\",\"\",VLOOKUP(B23,LIVRE!$A$8:$AC$315,11))","v":""},{"$f":"IF(B23=\"\",\"\",G23+H23)","v":""},null,null,{"$f":"IF(K23=\"\",\"\",VLOOKUP(K23,LIVRE!$A$8:$AC$315,4))","v":""},{"$f":"IF(K23=\"\",\"\",VLOOKUP(K23,LIVRE!$A$8:$AC$315,7))","v":""},{"$f":"IF(K23=\"\",\"\",VLOOKUP(K23,LIVRE!$A$8:$AC$315,10))","v":""},{"$f":"IF(K23=\"\",\"\",M23+N23)","v":""},{"$f":"IF(K23=\"\",\"\",VLOOKUP(K23,LIVRE!$A$8:$AC$315,8))","v":""},{"$f":"IF(K23=\"\",\"\",VLOOKUP(K23,LIVRE!$A$8:$AC$315,11))","v":""},{"$f":"IF(K23=\"\",\"\",P23+Q23)","v":""},null,null,{"$f":"IF(T23=\"\",\"\",VLOOKUP(T23,LIVRE!$A$8:$AC$315,4))","v":""},{"$f":"IF(T23=\"\",\"\",VLOOKUP(T23,LIVRE!$A$8:$AC$315,7))","v":""},{"$f":"IF(T23=\"\",\"\",VLOOKUP(T23,LIVRE!$A$8:$AC$315,10))","v":""},{"$f":"IF(T23=\"\",\"\",V23+W23)","v":""},{"$f":"IF(T23=\"\",\"\",VLOOKUP(T23,LIVRE!$A$8:$AC$315,8))","v":""},{"$f":"IF(T23=\"\",\"\",VLOOKUP(T23,LIVRE!$A$8:$AC$315,11))","v":""},{"$f":"IF(T23=\"\",\"\",Y23+Z23)","v":""},null,null,{"$f":"IF(AC23=\"\",\"\",VLOOKUP(AC23,LIVRE!$A$8:$AC$315,4))","v":""},{"$f":"IF(AC23=\"\",\"\",VLOOKUP(AC23,LIVRE!$A$8:$AC$315,7))","v":""},{"$f":"IF(AC23=\"\",\"\",VLOOKUP(AC23,LIVRE!$A$8:$AC$315,10))","v":""},{"$f":"IF(AC23=\"\",\"\",AE23+AF23)","v":""},{"$f":"IF(AC23=\"\",\"\",VLOOKUP(AC23,LIVRE!$A$8:$AC$315,8))","v":""},{"$f":"IF(AC23=\"\",\"\",VLOOKUP(AC23,LIVRE!$A$8:$AC$315,11))","v":""},{"$f":"IF(AC23=\"\",\"\",AH23+AI23)","v":""}]
[null,null,{"$f":"IF(B24=\"\",\"\",VLOOKUP(B24,LIVRE!$A$8:$AC$315,4))","v":""},{"$f":"IF(B24=\"\",\"\",VLOOKUP(B24,LIVRE!$A$8:$AC$315,7))","v":""},{"$f":"IF(B24=\"\",\"\",VLOOKUP(B24,LIVRE!$A$8:$AC$315,10))","v":""},{"$f":"IF(B24=\"\",\"\",D24+E24)","v":""},{"$f":"IF(B24=\"\",\"\",VLOOKUP(B24,LIVRE!$A$8:$AC$315,8))","v":""},{"$f":"IF(B24=\"\",\"\",VLOOKUP(B24,LIVRE!$A$8:$AC$315,11))","v":""},{"$f":"IF(B24=\"\",\"\",G24+H24)","v":""},null,null,{"$f":"IF(K24=\"\",\"\",VLOOKUP(K24,LIVRE!$A$8:$AC$315,4))","v":""},{"$f":"IF(K24=\"\",\"\",VLOOKUP(K24,LIVRE!$A$8:$AC$315,7))","v":""},{"$f":"IF(K24=\"\",\"\",VLOOKUP(K24,LIVRE!$A$8:$AC$315,10))","v":""},{"$f":"IF(K24=\"\",\"\",M24+N24)","v":""},{"$f":"IF(K24=\"\",\"\",VLOOKUP(K24,LIVRE!$A$8:$AC$315,8))","v":""},{"$f":"IF(K24=\"\",\"\",VLOOKUP(K24,LIVRE!$A$8:$AC$315,11))","v":""},{"$f":"IF(K24=\"\",\"\",P24+Q24)","v":""},null,null,{"$f":"IF(T24=\"\",\"\",VLOOKUP(T24,LIVRE!$A$8:$AC$315,4))","v":""},{"$f":"IF(T24=\"\",\"\",VLOOKUP(T24,LIVRE!$A$8:$AC$315,7))","v":""},{"$f":"IF(T24=\"\",\"\",VLOOKUP(T24,LIVRE!$A$8:$AC$315,10))","v":""},{"$f":"IF(T24=\"\",\"\",V24+W24)","v":""},{"$f":"IF(T24=\"\",\"\",VLOOKUP(T24,LIVRE!$A$8:$AC$315,8))","v":""},{"$f":"IF(T24=\"\",\"\",VLOOKUP(T24,LIVRE!$A$8:$AC$315,11))","v":""},{"$f":"IF(T24=\"\",\"\",Y24+Z24)","v":""},null,null,{"$f":"IF(AC24=\"\",\"\",VLOOKUP(AC24,LIVRE!$A$8:$AC$315,4))","v":""},{"$f":"IF(AC24=\"\",\"\",VLOOKUP(AC24,LIVRE!$A$8:$AC$315,7))","v":""},{"$f":"IF(AC24=\"\",\"\",VLOOKUP(AC24,LIVRE!$A$8:$AC$315,10))","v":""},{"$f":"IF(AC24=\"\",\"\",AE24+AF24)","v":""},{"$f":"IF(AC24=\"\",\"\",VLOOKUP(AC24,LIVRE!$A$8:$AC$315,8))","v":""},{"$f":"IF(AC24=\"\",\"\",VLOOKUP(AC24,LIVRE!$A$8:$AC$315,11))","v":""},{"$f":"IF(AC24=\"\",\"\",AH24+AI24)","v":""}]
[null,null,{"$f":"IF(B25=\"\",\"\",VLOOKUP(B25,LIVRE!$A$8:$AC$315,4))","v":""},{"$f":"IF(B25=\"\",\"\",VLOOKUP(B25,LIVRE!$A$8:$AC$315,7))","v":""},{"$f":"IF(B25=\"\",\"\",VLOOKUP(B25,LIVRE!$A$8:$AC$315,10))","v":""},{"$f":"IF(B25=\"\",\"\",D25+E25)","v":""},{"$f":"IF(B25=\"\",\"\",VLOOKUP(B25,LIVRE!$A$8:$AC$315,8))","v":""},{"$f":"IF(B25=\"\",\"\",VLOOKUP(B25,LIVRE!$A$8:$AC$315,11))","v":""},{"$f":"IF(B25=\"\",\"\",G25+H25)","v":""},null,null,{"$f":"IF(K25=\"\",\"\",VLOOKUP(K25,LIVRE!$A$8:$AC$315,4))","v":""},{"$f":"IF(K25=\"\",\"\",VLOOKUP(K25,LIVRE!$A$8:$AC$315,7))","v":""},{"$f":"IF(K25=\"\",\"\",VLOOKUP(K25,LIVRE!$A$8:$AC$315,10))","v":""},{"$f":"IF(K25=\"\",\"\",M25+N25)","v":""},{"$f":"IF(K25=\"\",\"\",VLOOKUP(K25,LIVRE!$A$8:$AC$315,8))","v":""},{"$f":"IF(K25=\"\",\"\",VLOOKUP(K25,LIVRE!$A$8:$AC$315,11))","v":""},{"$f":"IF(K25=\"\",\"\",P25+Q25)","v":""},null,null,{"$f":"IF(T25=\"\",\"\",VLOOKUP(T25,LIVRE!$A$8:$AC$315,4))","v":""},{"$f":"IF(T25=\"\",\"\",VLOOKUP(T25,LIVRE!$A$8:$AC$315,7))","v":""},{"$f":"IF(T25=\"\",\"\",VLOOKUP(T25,LIVRE!$A$8:$AC$315,10))","v":""},{"$f":"IF(T25=\"\",\"\",V25+W25)","v":""},{"$f":"IF(T25=\"\",\"\",VLOOKUP(T25,LIVRE!$A$8:$AC$315,8))","v":""},{"$f":"IF(T25=\"\",\"\",VLOOKUP(T25,LIVRE!$A$8:$AC$315,11))","v":""},{"$f":"IF(T25=\"\",\"\",Y25+Z25)","v":""},null,null,{"$f":"IF(AC25=\"\",\"\",VLOOKUP(AC25,LIVRE!$A$8:$AC$315,4))","v":""},{"$f":"IF(AC25=\"\",\"\",VLOOKUP(AC25,LIVRE!$A$8:$AC$315,7))","v":""},{"$f":"IF(AC25=\"\",\"\",VLOOKUP(AC25,LIVRE!$A$8:$AC$315,10))","v":""},{"$f":"IF(AC25=\"\",\"\",AE25+AF25)","v":""},{"$f":"IF(AC25=\"\",\"\",VLOOKUP(AC25,LIVRE!$A$8:$AC$315,8))","v":""},{"$f":"IF(AC25=\"\",\"\",VLOOKUP(AC25,LIVRE!$A$8:$AC$315,11))","v":""},{"$f":"IF(AC25=\"\",\"\",AH25+AI25)","v":""}]
[null,null,{"$f":"IF(B26=\"\",\"\",VLOOKUP(B26,LIVRE!$A$8:$AC$315,4))","v":""},{"$f":"IF(B26=\"\",\"\",VLOOKUP(B26,LIVRE!$A$8:$AC$315,7))","v":""},{"$f":"IF(B26=\"\",\"\",VLOOKUP(B26,LIVRE!$A$8:$AC$315,10))","v":""},{"$f":"IF(B26=\"\",\"\",D26+E26)","v":""},{"$f":"IF(B26=\"\",\"\",VLOOKUP(B26,LIVRE!$A$8:$AC$315,8))","v":""},{"$f":"IF(B26=\"\",\"\",VLOOKUP(B26,LIVRE!$A$8:$AC$315,11))","v":""},{"$f":"IF(B26=\"\",\"\",G26+H26)","v":""},null,null,{"$f":"IF(K26=\"\",\"\",VLOOKUP(K26,LIVRE!$A$8:$AC$315,4))","v":""},{"$f":"IF(K26=\"\",\"\",VLOOKUP(K26,LIVRE!$A$8:$AC$315,7))","v":""},{"$f":"IF(K26=\"\",\"\",VLOOKUP(K26,LIVRE!$A$8:$AC$315,10))","v":""},{"$f":"IF(K26=\"\",\"\",M26+N26)","v":""},{"$f":"IF(K26=\"\",\"\",VLOOKUP(K26,LIVRE!$A$8:$AC$315,8))","v":""},{"$f":"IF(K26=\"\",\"\",VLOOKUP(K26,LIVRE!$A$8:$AC$315,11))","v":""},{"$f":"IF(K26=\"\",\"\",P26+Q26)","v":""},null,null,{"$f":"IF(T26=\"\",\"\",VLOOKUP(T26,LIVRE!$A$8:$AC$315,4))","v":""},{"$f":"IF(T26=\"\",\"\",VLOOKUP(T26,LIVRE!$A$8:$AC$315,7))","v":""},{"$f":"IF(T26=\"\",\"\",VLOOKUP(T26,LIVRE!$A$8:$AC$315,10))","v":""},{"$f":"IF(T26=\"\",\"\",V26+W26)","v":""},{"$f":"IF(T26=\"\",\"\",VLOOKUP(T26,LIVRE!$A$8:$AC$315,8))","v":""},{"$f":"IF(T26=\"\",\"\",VLOOKUP(T26,LIVRE!$A$8:$AC$315,11))","v":""},{"$f":"IF(T26=\"\",\"\",Y26+Z26)","v":""},null,null,{"$f":"IF(AC26=\"\",\"\",VLOOKUP(AC26,LIVRE!$A$8:$AC$315,4))","v":""},{"$f":"IF(AC26=\"\",\"\",VLOOKUP(AC26,LIVRE!$A$8:$AC$315,7))","v":""},{"$f":"IF(AC26=\"\",\"\",VLOOKUP(AC26,LIVRE!$A$8:$AC$315,10))","v":""},{"$f":"IF(AC26=\"\",\"\",AE26+AF26)","v":""},{"$f":"IF(AC26=\"\",\"\",VLOOKUP(AC26,LIVRE!$A$8:$AC$315,8))","v":""},{"$f":"IF(AC26=\"\",\"\",VLOOKUP(AC26,LIVRE!$A$8:$AC$315,11))","v":""},{"$f":"IF(AC26=\"\",\"\",AH26+AI26)","v":""}]
[null,null,{"$f":"IF(B27=\"\",\"\",VLOOKUP(B27,LIVRE!$A$8:$AC$315,4))","v":""},{"$f":"IF(B27=\"\",\"\",VLOOKUP(B27,LIVRE!$A$8:$AC$315,7))","v":""},{"$f":"IF(B27=\"\",\"\",VLOOKUP(B27,LIVRE!$A$8:$AC$315,10))","v":""},{"$f":"IF(B27=\"\",\"\",D27+E27)","v":""},{"$f":"IF(B27=\"\",\"\",VLOOKUP(B27,LIVRE!$A$8:$AC$315,8))","v":""},{"$f":"IF(B27=\"\",\"\",VLOOKUP(B27,LIVRE!$A$8:$AC$315,11))","v":""},{"$f":"IF(B27=\"\",\"\",G27+H27)","v":""},null,null,{"$f":"IF(K27=\"\",\"\",VLOOKUP(K27,LIVRE!$A$8:$AC$315,4))","v":""},{"$f":"IF(K27=\"\",\"\",VLOOKUP(K27,LIVRE!$A$8:$AC$315,7))","v":""},{"$f":"IF(K27=\"\",\"\",VLOOKUP(K27,LIVRE!$A$8:$AC$315,10))","v":""},{"$f":"IF(K27=\"\",\"\",M27+N27)","v":""},{"$f":"IF(K27=\"\",\"\",VLOOKUP(K27,LIVRE!$A$8:$AC$315,8))","v":""},{"$f":"IF(K27=\"\",\"\",VLOOKUP(K27,LIVRE!$A$8:$AC$315,11))","v":""},{"$f":"IF(K27=\"\",\"\",P27+Q27)","v":""},null,null,{"$f":"IF(T27=\"\",\"\",VLOOKUP(T27,LIVRE!$A$8:$AC$315,4))","v":""},{"$f":"IF(T27=\"\",\"\",VLOOKUP(T27,LIVRE!$A$8:$AC$315,7))","v":""},{"$f":"IF(T27=\"\",\"\",VLOOKUP(T27,LIVRE!$A$8:$AC$315,10))","v":""},{"$f":"IF(T27=\"\",\"\",V27+W27)","v":""},{"$f":"IF(T27=\"\",\"\",VLOOKUP(T27,LIVRE!$A$8:$AC$315,8))","v":""},{"$f":"IF(T27=\"\",\"\",VLOOKUP(T27,LIVRE!$A$8:$AC$315,11))","v":""},{"$f":"IF(T27=\"\",\"\",Y27+Z27)","v":""},null,null,{"$f":"IF(AC27=\"\",\"\",VLOOKUP(AC27,LIVRE!$A$8:$AC$315,4))","v":""},{"$f":"IF(AC27=\"\",\"\",VLOOKUP(AC27,LIVRE!$A$8:$AC$315,7))","v":""},{"$f":"IF(AC27=\"\",\"\",VLOOKUP(AC27,LIVRE!$A$8:$AC$315,10))","v":""},{"$f":"IF(AC27=\"\",\"\",AE27+AF27)","v":""},{"$f":"IF(AC27=\"\",\"\",VLOOKUP(AC27,LIVRE!$A$8:$AC$315,8))","v":""},{"$f":"IF(AC27=\"\",\"\",VLOOKUP(AC27,LIVRE!$A$8:$AC$315,11))","v":""},{"$f":"IF(AC27=\"\",\"\",AH27+AI27)","v":""}]
[null,null,{"$f":"IF(B28=\"\",\"\",VLOOKUP(B28,LIVRE!$A$8:$AC$315,4))","v":""},{"$f":"IF(B28=\"\",\"\",VLOOKUP(B28,LIVRE!$A$8:$AC$315,7))","v":""},{"$f":"IF(B28=\"\",\"\",VLOOKUP(B28,LIVRE!$A$8:$AC$315,10))","v":""},{"$f":"IF(B28=\"\",\"\",D28+E28)","v":""},{"$f":"IF(B28=\"\",\"\",VLOOKUP(B28,LIVRE!$A$8:$AC$315,8))","v":""},{"$f":"IF(B28=\"\",\"\",VLOOKUP(B28,LIVRE!$A$8:$AC$315,11))","v":""},{"$f":"IF(B28=\"\",\"\",G28+H28)","v":""},null,null,{"$f":"IF(K28=\"\",\"\",VLOOKUP(K28,LIVRE!$A$8:$AC$315,4))","v":""},{"$f":"IF(K28=\"\",\"\",VLOOKUP(K28,LIVRE!$A$8:$AC$315,7))","v":""},{"$f":"IF(K28=\"\",\"\",VLOOKUP(K28,LIVRE!$A$8:$AC$315,10))","v":""},{"$f":"IF(K28=\"\",\"\",M28+N28)","v":""},{"$f":"IF(K28=\"\",\"\",VLOOKUP(K28,LIVRE!$A$8:$AC$315,8))","v":""},{"$f":"IF(K28=\"\",\"\",VLOOKUP(K28,LIVRE!$A$8:$AC$315,11))","v":""},{"$f":"IF(K28=\"\",\"\",P28+Q28)","v":""},null,null,{"$f":"IF(T28=\"\",\"\",VLOOKUP(T28,LIVRE!$A$8:$AC$315,4))","v":""},{"$f":"IF(T28=\"\",\"\",VLOOKUP(T28,LIVRE!$A$8:$AC$315,7))","v":""},{"$f":"IF(T28=\"\",\"\",VLOOKUP(T28,LIVRE!$A$8:$AC$315,10))","v":""},{"$f":"IF(T28=\"\",\"\",V28+W28)","v":""},{"$f":"IF(T28=\"\",\"\",VLOOKUP(T28,LIVRE!$A$8:$AC$315,8))","v":""},{"$f":"IF(T28=\"\",\"\",VLOOKUP(T28,LIVRE!$A$8:$AC$315,11))","v":""},{"$f":"IF(T28=\"\",\"\",Y28+Z28)","v":""},null,null,{"$f":"IF(AC28=\"\",\"\",VLOOKUP(AC28,LIVRE!$A$8:$AC$315,4))","v":""},{"$f":"IF(AC28=\"\",\"\",VLOOKUP(AC28,LIVRE!$A$8:$AC$315,7))","v":""},{"$f":"IF(AC28=\"\",\"\",VLOOKUP(AC28,LIVRE!$A$8:$AC$315,10))","v":""},{"$f":"IF(AC28=\"\",\"\",AE28+AF28)","v":""},{"$f":"IF(AC28=\"\",\"\",VLOOKUP(AC28,LIVRE!$A$8:$AC$315,8))","v":""},{"$f":"IF(AC28=\"\",\"\",VLOOKUP(AC28,LIVRE!$A$8:$AC$315,11))","v":""},{"$f":"IF(AC28=\"\",\"\",AH28+AI28)","v":""}]
[null,null,{"$f":"IF(B29=\"\",\"\",VLOOKUP(B29,LIVRE!$A$8:$AC$315,4))","v":""},{"$f":"IF(B29=\"\",\"\",VLOOKUP(B29,LIVRE!$A$8:$AC$315,7))","v":""},{"$f":"IF(B29=\"\",\"\",VLOOKUP(B29,LIVRE!$A$8:$AC$315,10))","v":""},{"$f":"IF(B29=\"\",\"\",D29+E29)","v":""},{"$f":"IF(B29=\"\",\"\",VLOOKUP(B29,LIVRE!$A$8:$AC$315,8))","v":""},{"$f":"IF(B29=\"\",\"\",VLOOKUP(B29,LIVRE!$A$8:$AC$315,11))","v":""},{"$f":"IF(B29=\"\",\"\",G29+H29)","v":""},null,null,{"$f":"IF(K29=\"\",\"\",VLOOKUP(K29,LIVRE!$A$8:$AC$315,4))","v":""},{"$f":"IF(K29=\"\",\"\",VLOOKUP(K29,LIVRE!$A$8:$AC$315,7))","v":""},{"$f":"IF(K29=\"\",\"\",VLOOKUP(K29,LIVRE!$A$8:$AC$315,10))","v":""},{"$f":"IF(K29=\"\",\"\",M29+N29)","v":""},{"$f":"IF(K29=\"\",\"\",VLOOKUP(K29,LIVRE!$A$8:$AC$315,8))","v":""},{"$f":"IF(K29=\"\",\"\",VLOOKUP(K29,LIVRE!$A$8:$AC$315,11))","v":""},{"$f":"IF(K29=\"\",\"\",P29+Q29)","v":""},null,null,{"$f":"IF(T29=\"\",\"\",VLOOKUP(T29,LIVRE!$A$8:$AC$315,4))","v":""},{"$f":"IF(T29=\"\",\"\",VLOOKUP(T29,LIVRE!$A$8:$AC$315,7))","v":""},{"$f":"IF(T29=\"\",\"\",VLOOKUP(T29,LIVRE!$A$8:$AC$315,10))","v":""},{"$f":"IF(T29=\"\",\"\",V29+W29)","v":""},{"$f":"IF(T29=\"\",\"\",VLOOKUP(T29,LIVRE!$A$8:$AC$315,8))","v":""},{"$f":"IF(T29=\"\",\"\",VLOOKUP(T29,LIVRE!$A$8:$AC$315,11))","v":""},{"$f":"IF(T29=\"\",\"\",Y29+Z29)","v":""},null,null,{"$f":"IF(AC29=\"\",\"\",VLOOKUP(AC29,LIVRE!$A$8:$AC$315,4))","v":""},{"$f":"IF(AC29=\"\",\"\",VLOOKUP(AC29,LIVRE!$A$8:$AC$315,7))","v":""},{"$f":"IF(AC29=\"\",\"\",VLOOKUP(AC29,LIVRE!$A$8:$AC$315,10))","v":""},{"$f":"IF(AC29=\"\",\"\",AE29+AF29)","v":""},{"$f":"IF(AC29=\"\",\"\",VLOOKUP(AC29,LIVRE!$A$8:$AC$315,8))","v":""},{"$f":"IF(AC29=\"\",\"\",VLOOKUP(AC29,LIVRE!$A$8:$AC$315,11))","v":""},{"$f":"IF(AC29=\"\",\"\",AH29+AI29)","v":""}]
[null,null,{"$f":"IF(B30=\"\",\"\",VLOOKUP(B30,LIVRE!$A$8:$AC$315,4))","v":""},{"$f":"IF(B30=\"\",\"\",VLOOKUP(B30,LIVRE!$A$8:$AC$315,7))","v":""},{"$f":"IF(B30=\"\",\"\",VLOOKUP(B30,LIVRE!$A$8:$AC$315,10))","v":""},{"$f":"IF(B30=\"\",\"\",D30+E30)","v":""},{"$f":"IF(B30=\"\",\"\",VLOOKUP(B30,LIVRE!$A$8:$AC$315,8))","v":""},{"$f":"IF(B30=\"\",\"\",VLOOKUP(B30,LIVRE!$A$8:$AC$315,11))","v":""},{"$f":"IF(B30=\"\",\"\",G30+H30)","v":""},null,null,{"$f":"IF(K30=\"\",\"\",VLOOKUP(K30,LIVRE!$A$8:$AC$315,4))","v":""},{"$f":"IF(K30=\"\",\"\",VLOOKUP(K30,LIVRE!$A$8:$AC$315,7))","v":""},{"$f":"IF(K30=\"\",\"\",VLOOKUP(K30,LIVRE!$A$8:$AC$315,10))","v":""},{"$f":"IF(K30=\"\",\"\",M30+N30)","v":""},{"$f":"IF(K30=\"\",\"\",VLOOKUP(K30,LIVRE!$A$8:$AC$315,8))","v":""},{"$f":"IF(K30=\"\",\"\",VLOOKUP(K30,LIVRE!$A$8:$AC$315,11))","v":""},{"$f":"IF(K30=\"\",\"\",P30+Q30)","v":""},null,null,{"$f":"IF(T30=\"\",\"\",VLOOKUP(T30,LIVRE!$A$8:$AC$315,4))","v":""},{"$f":"IF(T30=\"\",\"\",VLOOKUP(T30,LIVRE!$A$8:$AC$315,7))","v":""},{"$f":"IF(T30=\"\",\"\",VLOOKUP(T30,LIVRE!$A$8:$AC$315,10))","v":""},{"$f":"IF(T30=\"\",\"\",V30+W30)","v":""},{"$f":"IF(T30=\"\",\"\",VLOOKUP(T30,LIVRE!$A$8:$AC$315,8))","v":""},{"$f":"IF(T30=\"\",\"\",VLOOKUP(T30,LIVRE!$A$8:$AC$315,11))","v":""},{"$f":"IF(T30=\"\",\"\",Y30+Z30)","v":""},null,null,{"$f":"IF(AC30=\"\",\"\",VLOOKUP(AC30,LIVRE!$A$8:$AC$315,4))","v":""},{"$f":"IF(AC30=\"\",\"\",VLOOKUP(AC30,LIVRE!$A$8:$AC$315,7))","v":""},{"$f":"IF(AC30=\"\",\"\",VLOOKUP(AC30,LIVRE!$A$8:$AC$315,10))","v":""},{"$f":"IF(AC30=\"\",\"\",AE30+AF30)","v":""},{"$f":"IF(AC30=\"\",\"\",VLOOKUP(AC30,LIVRE!$A$8:$AC$315,8))","v":""},{"$f":"IF(AC30=\"\",\"\",VLOOKUP(AC30,LIVRE!$A$8:$AC$315,11))","v":""},{"$f":"IF(AC30=\"\",\"\",AH30+AI30)","v":""}]
[null,null,{"$f":"IF(B31=\"\",\"\",VLOOKUP(B31,LIVRE!$A$8:$AC$315,4))","v":""},{"$f":"IF(B31=\"\",\"\",VLOOKUP(B31,LIVRE!$A$8:$AC$315,7))","v":""},{"$f":"IF(B31=\"\",\"\",VLOOKUP(B31,LIVRE!$A$8:$AC$315,10))","v":""},{"$f":"IF(B31=\"\",\"\",D31+E31)","v":""},{"$f":"IF(B31=\"\",\"\",VLOOKUP(B31,LIVRE!$A$8:$AC$315,8))","v":""},{"$f":"IF(B31=\"\",\"\",VLOOKUP(B31,LIVRE!$A$8:$AC$315,11))","v":""},{"$f":"IF(B31=\"\",\"\",G31+H31)","v":""},null,null,{"$f":"IF(K31=\"\",\"\",VLOOKUP(K31,LIVRE!$A$8:$AC$315,4))","v":""},{"$f":"IF(K31=\"\",\"\",VLOOKUP(K31,LIVRE!$A$8:$AC$315,7))","v":""},{"$f":"IF(K31=\"\",\"\",VLOOKUP(K31,LIVRE!$A$8:$AC$315,10))","v":""},{"$f":"IF(K31=\"\",\"\",M31+N31)","v":""},{"$f":"IF(K31=\"\",\"\",VLOOKUP(K31,LIVRE!$A$8:$AC$315,8))","v":""},{"$f":"IF(K31=\"\",\"\",VLOOKUP(K31,LIVRE!$A$8:$AC$315,11))","v":""},{"$f":"IF(K31=\"\",\"\",P31+Q31)","v":""},null,null,{"$f":"IF(T31=\"\",\"\",VLOOKUP(T31,LIVRE!$A$8:$AC$315,4))","v":""},{"$f":"IF(T31=\"\",\"\",VLOOKUP(T31,LIVRE!$A$8:$AC$315,7))","v":""},{"$f":"IF(T31=\"\",\"\",VLOOKUP(T31,LIVRE!$A$8:$AC$315,10))","v":""},{"$f":"IF(T31=\"\",\"\",V31+W31)","v":""},{"$f":"IF(T31=\"\",\"\",VLOOKUP(T31,LIVRE!$A$8:$AC$315,8))","v":""},{"$f":"IF(T31=\"\",\"\",VLOOKUP(T31,LIVRE!$A$8:$AC$315,11))","v":""},{"$f":"IF(T31=\"\",\"\",Y31+Z31)","v":""},null,null,{"$f":"IF(AC31=\"\",\"\",VLOOKUP(AC31,LIVRE!$A$8:$AC$315,4))","v":""},{"$f":"IF(AC31=\"\",\"\",VLOOKUP(AC31,LIVRE!$A$8:$AC$315,7))","v":""},{"$f":"IF(AC31=\"\",\"\",VLOOKUP(AC31,LIVRE!$A$8:$AC$315,10))","v":""},{"$f":"IF(AC31=\"\",\"\",AE31+AF31)","v":""},{"$f":"IF(AC31=\"\",\"\",VLOOKUP(AC31,LIVRE!$A$8:$AC$315,8))","v":""},{"$f":"IF(AC31=\"\",\"\",VLOOKUP(AC31,LIVRE!$A$8:$AC$315,11))","v":""},{"$f":"IF(AC31=\"\",\"\",AH31+AI31)","v":""}]
[null,null,{"$f":"IF(B32=\"\",\"\",VLOOKUP(B32,LIVRE!$A$8:$AC$315,4))","v":""},{"$f":"IF(B32=\"\",\"\",VLOOKUP(B32,LIVRE!$A$8:$AC$315,7))","v":""},{"$f":"IF(B32=\"\",\"\",VLOOKUP(B32,LIVRE!$A$8:$AC$315,10))","v":""},{"$f":"IF(B32=\"\",\"\",D32+E32)","v":""},{"$f":"IF(B32=\"\",\"\",VLOOKUP(B32,LIVRE!$A$8:$AC$315,8))","v":""},{"$f":"IF(B32=\"\",\"\",VLOOKUP(B32,LIVRE!$A$8:$AC$315,11))","v":""},{"$f":"IF(B32=\"\",\"\",G32+H32)","v":""},null,null,{"$f":"IF(K32=\"\",\"\",VLOOKUP(K32,LIVRE!$A$8:$AC$315,4))","v":""},{"$f":"IF(K32=\"\",\"\",VLOOKUP(K32,LIVRE!$A$8:$AC$315,7))","v":""},{"$f":"IF(K32=\"\",\"\",VLOOKUP(K32,LIVRE!$A$8:$AC$315,10))","v":""},{"$f":"IF(K32=\"\",\"\",M32+N32)","v":""},{"$f":"IF(K32=\"\",\"\",VLOOKUP(K32,LIVRE!$A$8:$AC$315,8))","v":""},{"$f":"IF(K32=\"\",\"\",VLOOKUP(K32,LIVRE!$A$8:$AC$315,11))","v":""},{"$f":"IF(K32=\"\",\"\",P32+Q32)","v":""},null,null,{"$f":"IF(T32=\"\",\"\",VLOOKUP(T32,LIVRE!$A$8:$AC$315,4))","v":""},{"$f":"IF(T32=\"\",\"\",VLOOKUP(T32,LIVRE!$A$8:$AC$315,7))","v":""},{"$f":"IF(T32=\"\",\"\",VLOOKUP(T32,LIVRE!$A$8:$AC$315,10))","v":""},{"$f":"IF(T32=\"\",\"\",V32+W32)","v":""},{"$f":"IF(T32=\"\",\"\",VLOOKUP(T32,LIVRE!$A$8:$AC$315,8))","v":""},{"$f":"IF(T32=\"\",\"\",VLOOKUP(T32,LIVRE!$A$8:$AC$315,11))","v":""},{"$f":"IF(T32=\"\",\"\",Y32+Z32)","v":""},null,null,{"$f":"IF(AC32=\"\",\"\",VLOOKUP(AC32,LIVRE!$A$8:$AC$315,4))","v":""},{"$f":"IF(AC32=\"\",\"\",VLOOKUP(AC32,LIVRE!$A$8:$AC$315,7))","v":""},{"$f":"IF(AC32=\"\",\"\",VLOOKUP(AC32,LIVRE!$A$8:$AC$315,10))","v":""},{"$f":"IF(AC32=\"\",\"\",AE32+AF32)","v":""},{"$f":"IF(AC32=\"\",\"\",VLOOKUP(AC32,LIVRE!$A$8:$AC$315,8))","v":""},{"$f":"IF(AC32=\"\",\"\",VLOOKUP(AC32,LIVRE!$A$8:$AC$315,11))","v":""},{"$f":"IF(AC32=\"\",\"\",AH32+AI32)","v":""}]
[null,null,{"$f":"IF(B33=\"\",\"\",VLOOKUP(B33,LIVRE!$A$8:$AC$315,4))","v":""},{"$f":"IF(B33=\"\",\"\",VLOOKUP(B33,LIVRE!$A$8:$AC$315,7))","v":""},{"$f":"IF(B33=\"\",\"\",VLOOKUP(B33,LIVRE!$A$8:$AC$315,10))","v":""},{"$f":"IF(B33=\"\",\"\",D33+E33)","v":""},{"$f":"IF(B33=\"\",\"\",VLOOKUP(B33,LIVRE!$A$8:$AC$315,8))","v":""},{"$f":"IF(B33=\"\",\"\",VLOOKUP(B33,LIVRE!$A$8:$AC$315,11))","v":""},{"$f":"IF(B33=\"\",\"\",G33+H33)","v":""},null,null,{"$f":"IF(K33=\"\",\"\",VLOOKUP(K33,LIVRE!$A$8:$AC$315,4))","v":""},{"$f":"IF(K33=\"\",\"\",VLOOKUP(K33,LIVRE!$A$8:$AC$315,7))","v":""},{"$f":"IF(K33=\"\",\"\",VLOOKUP(K33,LIVRE!$A$8:$AC$315,10))","v":""},{"$f":"IF(K33=\"\",\"\",M33+N33)","v":""},{"$f":"IF(K33=\"\",\"\",VLOOKUP(K33,LIVRE!$A$8:$AC$315,8))","v":""},{"$f":"IF(K33=\"\",\"\",VLOOKUP(K33,LIVRE!$A$8:$AC$315,11))","v":""},{"$f":"IF(K33=\"\",\"\",P33+Q33)","v":""},null,null,{"$f":"IF(T33=\"\",\"\",VLOOKUP(T33,LIVRE!$A$8:$AC$315,4))","v":""},{"$f":"IF(T33=\"\",\"\",VLOOKUP(T33,LIVRE!$A$8:$AC$315,7))","v":""},{"$f":"IF(T33=\"\",\"\",VLOOKUP(T33,LIVRE!$A$8:$AC$315,10))","v":""},{"$f":"IF(T33=\"\",\"\",V33+W33)","v":""},{"$f":"IF(T33=\"\",\"\",VLOOKUP(T33,LIVRE!$A$8:$AC$315,8))","v":""},{"$f":"IF(T33=\"\",\"\",VLOOKUP(T33,LIVRE!$A$8:$AC$315,11))","v":""},{"$f":"IF(T33=\"\",\"\",Y33+Z33)","v":""},null,null,{"$f":"IF(AC33=\"\",\"\",VLOOKUP(AC33,LIVRE!$A$8:$AC$315,4))","v":""},{"$f":"IF(AC33=\"\",\"\",VLOOKUP(AC33,LIVRE!$A$8:$AC$315,7))","v":""},{"$f":"IF(AC33=\"\",\"\",VLOOKUP(AC33,LIVRE!$A$8:$AC$315,10))","v":""},{"$f":"IF(AC33=\"\",\"\",AE33+AF33)","v":""},{"$f":"IF(AC33=\"\",\"\",VLOOKUP(AC33,LIVRE!$A$8:$AC$315,8))","v":""},{"$f":"IF(AC33=\"\",\"\",VLOOKUP(AC33,LIVRE!$A$8:$AC$315,11))","v":""},{"$f":"IF(AC33=\"\",\"\",AH33+AI33)","v":""}]
[null,null,{"$f":"IF(B34=\"\",\"\",VLOOKUP(B34,LIVRE!$A$8:$AC$315,4))","v":""},{"$f":"IF(B34=\"\",\"\",VLOOKUP(B34,LIVRE!$A$8:$AC$315,7))","v":""},{"$f":"IF(B34=\"\",\"\",VLOOKUP(B34,LIVRE!$A$8:$AC$315,10))","v":""},{"$f":"IF(B34=\"\",\"\",D34+E34)","v":""},{"$f":"IF(B34=\"\",\"\",VLOOKUP(B34,LIVRE!$A$8:$AC$315,8))","v":""},{"$f":"IF(B34=\"\",\"\",VLOOKUP(B34,LIVRE!$A$8:$AC$315,11))","v":""},{"$f":"IF(B34=\"\",\"\",G34+H34)","v":""},null,null,{"$f":"IF(K34=\"\",\"\",VLOOKUP(K34,LIVRE!$A$8:$AC$315,4))","v":""},{"$f":"IF(K34=\"\",\"\",VLOOKUP(K34,LIVRE!$A$8:$AC$315,7))","v":""},{"$f":"IF(K34=\"\",\"\",VLOOKUP(K34,LIVRE!$A$8:$AC$315,10))","v":""},{"$f":"IF(K34=\"\",\"\",M34+N34)","v":""},{"$f":"IF(K34=\"\",\"\",VLOOKUP(K34,LIVRE!$A$8:$AC$315,8))","v":""},{"$f":"IF(K34=\"\",\"\",VLOOKUP(K34,LIVRE!$A$8:$AC$315,11))","v":""},{"$f":"IF(K34=\"\",\"\",P34+Q34)","v":""},null,null,{"$f":"IF(T34=\"\",\"\",VLOOKUP(T34,LIVRE!$A$8:$AC$315,4))","v":""},{"$f":"IF(T34=\"\",\"\",VLOOKUP(T34,LIVRE!$A$8:$AC$315,7))","v":""},{"$f":"IF(T34=\"\",\"\",VLOOKUP(T34,LIVRE!$A$8:$AC$315,10))","v":""},{"$f":"IF(T34=\"\",\"\",V34+W34)","v":""},{"$f":"IF(T34=\"\",\"\",VLOOKUP(T34,LIVRE!$A$8:$AC$315,8))","v":""},{"$f":"IF(T34=\"\",\"\",VLOOKUP(T34,LIVRE!$A$8:$AC$315,11))","v":""},{"$f":"IF(T34=\"\",\"\",Y34+Z34)","v":""},null,null,{"$f":"IF(AC34=\"\",\"\",VLOOKUP(AC34,LIVRE!$A$8:$AC$315,4))","v":""},{"$f":"IF(AC34=\"\",\"\",VLOOKUP(AC34,LIVRE!$A$8:$AC$315,7))","v":""},{"$f":"IF(AC34=\"\",\"\",VLOOKUP(AC34,LIVRE!$A$8:$AC$315,10))","v":""},{"$f":"IF(AC34=\"\",\"\",AE34+AF34)","v":""},{"$f":"IF(AC34=\"\",\"\",VLOOKUP(AC34,LIVRE!$A$8:$AC$315,8))","v":""},{"$f":"IF(AC34=\"\",\"\",VLOOKUP(AC34,LIVRE!$A$8:$AC$315,11))","v":""},{"$f":"IF(AC34=\"\",\"\",AH34+AI34)","v":""}]
[null,null,{"$f":"IF(B35=\"\",\"\",VLOOKUP(B35,LIVRE!$A$8:$AC$315,4))","v":""},{"$f":"IF(B35=\"\",\"\",VLOOKUP(B35,LIVRE!$A$8:$AC$315,7))","v":""},{"$f":"IF(B35=\"\",\"\",VLOOKUP(B35,LIVRE!$A$8:$AC$315,10))","v":""},{"$f":"IF(B35=\"\",\"\",D35+E35)","v":""},{"$f":"IF(B35=\"\",\"\",VLOOKUP(B35,LIVRE!$A$8:$AC$315,8))","v":""},{"$f":"IF(B35=\"\",\"\",VLOOKUP(B35,LIVRE!$A$8:$AC$315,11))","v":""},{"$f":"IF(B35=\"\",\"\",G35+H35)","v":""},null,null,{"$f":"IF(K35=\"\",\"\",VLOOKUP(K35,LIVRE!$A$8:$AC$315,4))","v":""},{"$f":"IF(K35=\"\",\"\",VLOOKUP(K35,LIVRE!$A$8:$AC$315,7))","v":""},{"$f":"IF(K35=\"\",\"\",VLOOKUP(K35,LIVRE!$A$8:$AC$315,10))","v":""},{"$f":"IF(K35=\"\",\"\",M35+N35)","v":""},{"$f":"IF(K35=\"\",\"\",VLOOKUP(K35,LIVRE!$A$8:$AC$315,8))","v":""},{"$f":"IF(K35=\"\",\"\",VLOOKUP(K35,LIVRE!$A$8:$AC$315,11))","v":""},{"$f":"IF(K35=\"\",\"\",P35+Q35)","v":""},null,null,{"$f":"IF(T35=\"\",\"\",VLOOKUP(T35,LIVRE!$A$8:$AC$315,4))","v":""},{"$f":"IF(T35=\"\",\"\",VLOOKUP(T35,LIVRE!$A$8:$AC$315,7))","v":""},{"$f":"IF(T35=\"\",\"\",VLOOKUP(T35,LIVRE!$A$8:$AC$315,10))","v":""},{"$f":"IF(T35=\"\",\"\",V35+W35)","v":""},{"$f":"IF(T35=\"\",\"\",VLOOKUP(T35,LIVRE!$A$8:$AC$315,8))","v":""},{"$f":"IF(T35=\"\",\"\",VLOOKUP(T35,LIVRE!$A$8:$AC$315,11))","v":""},{"$f":"IF(T35=\"\",\"\",Y35+Z35)","v":""},null,null,{"$f":"IF(AC35=\"\",\"\",VLOOKUP(AC35,LIVRE!$A$8:$AC$315,4))","v":""},{"$f":"IF(AC35=\"\",\"\",VLOOKUP(AC35,LIVRE!$A$8:$AC$315,7))","v":""},{"$f":"IF(AC35=\"\",\"\",VLOOKUP(AC35,LIVRE!$A$8:$AC$315,10))","v":""},{"$f":"IF(AC35=\"\",\"\",AE35+AF35)","v":""},{"$f":"IF(AC35=\"\",\"\",VLOOKUP(AC35,LIVRE!$A$8:$AC$315,8))","v":""},{"$f":"IF(AC35=\"\",\"\",VLOOKUP(AC35,LIVRE!$A$8:$AC$315,11))","v":""},{"$f":"IF(AC35=\"\",\"\",AH35+AI35)","v":""}]
[null,null,{"$f":"IF(B36=\"\",\"\",VLOOKUP(B36,LIVRE!$A$8:$AC$315,4))","v":""},{"$f":"IF(B36=\"\",\"\",VLOOKUP(B36,LIVRE!$A$8:$AC$315,7))","v":""},{"$f":"IF(B36=\"\",\"\",VLOOKUP(B36,LIVRE!$A$8:$AC$315,10))","v":""},{"$f":"IF(B36=\"\",\"\",D36+E36)","v":""},{"$f":"IF(B36=\"\",\"\",VLOOKUP(B36,LIVRE!$A$8:$AC$315,8))","v":""},{"$f":"IF(B36=\"\",\"\",VLOOKUP(B36,LIVRE!$A$8:$AC$315,11))","v":""},{"$f":"IF(B36=\"\",\"\",G36+H36)","v":""},null,null,{"$f":"IF(K36=\"\",\"\",VLOOKUP(K36,LIVRE!$A$8:$AC$315,4))","v":""},{"$f":"IF(K36=\"\",\"\",VLOOKUP(K36,LIVRE!$A$8:$AC$315,7))","v":""},{"$f":"IF(K36=\"\",\"\",VLOOKUP(K36,LIVRE!$A$8:$AC$315,10))","v":""},{"$f":"IF(K36=\"\",\"\",M36+N36)","v":""},{"$f":"IF(K36=\"\",\"\",VLOOKUP(K36,LIVRE!$A$8:$AC$315,8))","v":""},{"$f":"IF(K36=\"\",\"\",VLOOKUP(K36,LIVRE!$A$8:$AC$315,11))","v":""},{"$f":"IF(K36=\"\",\"\",P36+Q36)","v":""},null,null,{"$f":"IF(T36=\"\",\"\",VLOOKUP(T36,LIVRE!$A$8:$AC$315,4))","v":""},{"$f":"IF(T36=\"\",\"\",VLOOKUP(T36,LIVRE!$A$8:$AC$315,7))","v":""},{"$f":"IF(T36=\"\",\"\",VLOOKUP(T36,LIVRE!$A$8:$AC$315,10))","v":""},{"$f":"IF(T36=\"\",\"\",V36+W36)","v":""},{"$f":"IF(T36=\"\",\"\",VLOOKUP(T36,LIVRE!$A$8:$AC$315,8))","v":""},{"$f":"IF(T36=\"\",\"\",VLOOKUP(T36,LIVRE!$A$8:$AC$315,11))","v":""},{"$f":"IF(T36=\"\",\"\",Y36+Z36)","v":""},null,null,{"$f":"IF(AC36=\"\",\"\",VLOOKUP(AC36,LIVRE!$A$8:$AC$315,4))","v":""},{"$f":"IF(AC36=\"\",\"\",VLOOKUP(AC36,LIVRE!$A$8:$AC$315,7))","v":""},{"$f":"IF(AC36=\"\",\"\",VLOOKUP(AC36,LIVRE!$A$8:$AC$315,10))","v":""},{"$f":"IF(AC36=\"\",\"\",AE36+AF36)","v":""},{"$f":"IF(AC36=\"\",\"\",VLOOKUP(AC36,LIVRE!$A$8:$AC$315,8))","v":""},{"$f":"IF(AC36=\"\",\"\",VLOOKUP(AC36,LIVRE!$A$8:$AC$315,11))","v":""},{"$f":"IF(AC36=\"\",\"\",AH36+AI36)","v":""}]
[null,null,{"$f":"IF(B37=\"\",\"\",VLOOKUP(B37,LIVRE!$A$8:$AC$315,4))","v":""},{"$f":"IF(B37=\"\",\"\",VLOOKUP(B37,LIVRE!$A$8:$AC$315,7))","v":""},{"$f":"IF(B37=\"\",\"\",VLOOKUP(B37,LIVRE!$A$8:$AC$315,10))","v":""},{"$f":"IF(B37=\"\",\"\",D37+E37)","v":""},{"$f":"IF(B37=\"\",\"\",VLOOKUP(B37,LIVRE!$A$8:$AC$315,8))","v":""},{"$f":"IF(B37=\"\",\"\",VLOOKUP(B37,LIVRE!$A$8:$AC$315,11))","v":""},{"$f":"IF(B37=\"\",\"\",G37+H37)","v":""},null,null,{"$f":"IF(K37=\"\",\"\",VLOOKUP(K37,LIVRE!$A$8:$AC$315,4))","v":""},{"$f":"IF(K37=\"\",\"\",VLOOKUP(K37,LIVRE!$A$8:$AC$315,7))","v":""},{"$f":"IF(K37=\"\",\"\",VLOOKUP(K37,LIVRE!$A$8:$AC$315,10))","v":""},{"$f":"IF(K37=\"\",\"\",M37+N37)","v":""},{"$f":"IF(K37=\"\",\"\",VLOOKUP(K37,LIVRE!$A$8:$AC$315,8))","v":""},{"$f":"IF(K37=\"\",\"\",VLOOKUP(K37,LIVRE!$A$8:$AC$315,11))","v":""},{"$f":"IF(K37=\"\",\"\",P37+Q37)","v":""},null,null,{"$f":"IF(T37=\"\",\"\",VLOOKUP(T37,LIVRE!$A$8:$AC$315,4))","v":""},{"$f":"IF(T37=\"\",\"\",VLOOKUP(T37,LIVRE!$A$8:$AC$315,7))","v":""},{"$f":"IF(T37=\"\",\"\",VLOOKUP(T37,LIVRE!$A$8:$AC$315,10))","v":""},{"$f":"IF(T37=\"\",\"\",V37+W37)","v":""},{"$f":"IF(T37=\"\",\"\",VLOOKUP(T37,LIVRE!$A$8:$AC$315,8))","v":""},{"$f":"IF(T37=\"\",\"\",VLOOKUP(T37,LIVRE!$A$8:$AC$315,11))","v":""},{"$f":"IF(T37=\"\",\"\",Y37+Z37)","v":""},null,null,{"$f":"IF(AC37=\"\",\"\",VLOOKUP(AC37,LIVRE!$A$8:$AC$315,4))","v":""},{"$f":"IF(AC37=\"\",\"\",VLOOKUP(AC37,LIVRE!$A$8:$AC$315,7))","v":""},{"$f":"IF(AC37=\"\",\"\",VLOOKUP(AC37,LIVRE!$A$8:$AC$315,10))","v":""},{"$f":"IF(AC37=\"\",\"\",AE37+AF37)","v":""},{"$f":"IF(AC37=\"\",\"\",VLOOKUP(AC37,LIVRE!$A$8:$AC$315,8))","v":""},{"$f":"IF(AC37=\"\",\"\",VLOOKUP(AC37,LIVRE!$A$8:$AC$315,11))","v":""},{"$f":"IF(AC37=\"\",\"\",AH37+AI37)","v":""}]
[null,null,{"$f":"IF(B38=\"\",\"\",VLOOKUP(B38,LIVRE!$A$8:$AC$315,4))","v":""},{"$f":"IF(B38=\"\",\"\",VLOOKUP(B38,LIVRE!$A$8:$AC$315,7))","v":""},{"$f":"IF(B38=\"\",\"\",VLOOKUP(B38,LIVRE!$A$8:$AC$315,10))","v":""},{"$f":"IF(B38=\"\",\"\",D38+E38)","v":""},{"$f":"IF(B38=\"\",\"\",VLOOKUP(B38,LIVRE!$A$8:$AC$315,8))","v":""},{"$f":"IF(B38=\"\",\"\",VLOOKUP(B38,LIVRE!$A$8:$AC$315,11))","v":""},{"$f":"IF(B38=\"\",\"\",G38+H38)","v":""},null,null,{"$f":"IF(K38=\"\",\"\",VLOOKUP(K38,LIVRE!$A$8:$AC$315,4))","v":""},{"$f":"IF(K38=\"\",\"\",VLOOKUP(K38,LIVRE!$A$8:$AC$315,7))","v":""},{"$f":"IF(K38=\"\",\"\",VLOOKUP(K38,LIVRE!$A$8:$AC$315,10))","v":""},{"$f":"IF(K38=\"\",\"\",M38+N38)","v":""},{"$f":"IF(K38=\"\",\"\",VLOOKUP(K38,LIVRE!$A$8:$AC$315,8))","v":""},{"$f":"IF(K38=\"\",\"\",VLOOKUP(K38,LIVRE!$A$8:$AC$315,11))","v":""},{"$f":"IF(K38=\"\",\"\",P38+Q38)","v":""},null,null,{"$f":"IF(T38=\"\",\"\",VLOOKUP(T38,LIVRE!$A$8:$AC$315,4))","v":""},{"$f":"IF(T38=\"\",\"\",VLOOKUP(T38,LIVRE!$A$8:$AC$315,7))","v":""},{"$f":"IF(T38=\"\",\"\",VLOOKUP(T38,LIVRE!$A$8:$AC$315,10))","v":""},{"$f":"IF(T38=\"\",\"\",V38+W38)","v":""},{"$f":"IF(T38=\"\",\"\",VLOOKUP(T38,LIVRE!$A$8:$AC$315,8))","v":""},{"$f":"IF(T38=\"\",\"\",VLOOKUP(T38,LIVRE!$A$8:$AC$315,11))","v":""},{"$f":"IF(T38=\"\",\"\",Y38+Z38)","v":""},null,null,{"$f":"IF(AC38=\"\",\"\",VLOOKUP(AC38,LIVRE!$A$8:$AC$315,4))","v":""},{"$f":"IF(AC38=\"\",\"\",VLOOKUP(AC38,LIVRE!$A$8:$AC$315,7))","v":""},{"$f":"IF(AC38=\"\",\"\",VLOOKUP(AC38,LIVRE!$A$8:$AC$315,10))","v":""},{"$f":"IF(AC38=\"\",\"\",AE38+AF38)","v":""},{"$f":"IF(AC38=\"\",\"\",VLOOKUP(AC38,LIVRE!$A$8:$AC$315,8))","v":""},{"$f":"IF(AC38=\"\",\"\",VLOOKUP(AC38,LIVRE!$A$8:$AC$315,11))","v":""},{"$f":"IF(AC38=\"\",\"\",AH38+AI38)","v":""}]
[null,null,{"$f":"IF(B39=\"\",\"\",VLOOKUP(B39,LIVRE!$A$8:$AC$315,4))","v":""},{"$f":"IF(B39=\"\",\"\",VLOOKUP(B39,LIVRE!$A$8:$AC$315,7))","v":""},{"$f":"IF(B39=\"\",\"\",VLOOKUP(B39,LIVRE!$A$8:$AC$315,10))","v":""},{"$f":"IF(B39=\"\",\"\",D39+E39)","v":""},{"$f":"IF(B39=\"\",\"\",VLOOKUP(B39,LIVRE!$A$8:$AC$315,8))","v":""},{"$f":"IF(B39=\"\",\"\",VLOOKUP(B39,LIVRE!$A$8:$AC$315,11))","v":""},{"$f":"IF(B39=\"\",\"\",G39+H39)","v":""},null,null,{"$f":"IF(K39=\"\",\"\",VLOOKUP(K39,LIVRE!$A$8:$AC$315,4))","v":""},{"$f":"IF(K39=\"\",\"\",VLOOKUP(K39,LIVRE!$A$8:$AC$315,7))","v":""},{"$f":"IF(K39=\"\",\"\",VLOOKUP(K39,LIVRE!$A$8:$AC$315,10))","v":""},{"$f":"IF(K39=\"\",\"\",M39+N39)","v":""},{"$f":"IF(K39=\"\",\"\",VLOOKUP(K39,LIVRE!$A$8:$AC$315,8))","v":""},{"$f":"IF(K39=\"\",\"\",VLOOKUP(K39,LIVRE!$A$8:$AC$315,11))","v":""},{"$f":"IF(K39=\"\",\"\",P39+Q39)","v":""},null,null,{"$f":"IF(T39=\"\",\"\",VLOOKUP(T39,LIVRE!$A$8:$AC$315,4))","v":""},{"$f":"IF(T39=\"\",\"\",VLOOKUP(T39,LIVRE!$A$8:$AC$315,7))","v":""},{"$f":"IF(T39=\"\",\"\",VLOOKUP(T39,LIVRE!$A$8:$AC$315,10))","v":""},{"$f":"IF(T39=\"\",\"\",V39+W39)","v":""},{"$f":"IF(T39=\"\",\"\",VLOOKUP(T39,LIVRE!$A$8:$AC$315,8))","v":""},{"$f":"IF(T39=\"\",\"\",VLOOKUP(T39,LIVRE!$A$8:$AC$315,11))","v":""},{"$f":"IF(T39=\"\",\"\",Y39+Z39)","v":""},null,null,{"$f":"IF(AC39=\"\",\"\",VLOOKUP(AC39,LIVRE!$A$8:$AC$315,4))","v":""},{"$f":"IF(AC39=\"\",\"\",VLOOKUP(AC39,LIVRE!$A$8:$AC$315,7))","v":""},{"$f":"IF(AC39=\"\",\"\",VLOOKUP(AC39,LIVRE!$A$8:$AC$315,10))","v":""},{"$f":"IF(AC39=\"\",\"\",AE39+AF39)","v":""},{"$f":"IF(AC39=\"\",\"\",VLOOKUP(AC39,LIVRE!$A$8:$AC$315,8))","v":""},{"$f":"IF(AC39=\"\",\"\",VLOOKUP(AC39,LIVRE!$A$8:$AC$315,11))","v":""},{"$f":"IF(AC39=\"\",\"\",AH39+AI39)","v":""}]
[null,null,{"$f":"IF(B40=\"\",\"\",VLOOKUP(B40,LIVRE!$A$8:$AC$315,4))","v":""},{"$f":"IF(B40=\"\",\"\",VLOOKUP(B40,LIVRE!$A$8:$AC$315,7))","v":""},{"$f":"IF(B40=\"\",\"\",VLOOKUP(B40,LIVRE!$A$8:$AC$315,10))","v":""},{"$f":"IF(B40=\"\",\"\",D40+E40)","v":""},{"$f":"IF(B40=\"\",\"\",VLOOKUP(B40,LIVRE!$A$8:$AC$315,8))","v":""},{"$f":"IF(B40=\"\",\"\",VLOOKUP(B40,LIVRE!$A$8:$AC$315,11))","v":""},{"$f":"IF(B40=\"\",\"\",G40+H40)","v":""},null,null,{"$f":"IF(K40=\"\",\"\",VLOOKUP(K40,LIVRE!$A$8:$AC$315,4))","v":""},{"$f":"IF(K40=\"\",\"\",VLOOKUP(K40,LIVRE!$A$8:$AC$315,7))","v":""},{"$f":"IF(K40=\"\",\"\",VLOOKUP(K40,LIVRE!$A$8:$AC$315,10))","v":""},{"$f":"IF(K40=\"\",\"\",M40+N40)","v":""},{"$f":"IF(K40=\"\",\"\",VLOOKUP(K40,LIVRE!$A$8:$AC$315,8))","v":""},{"$f":"IF(K40=\"\",\"\",VLOOKUP(K40,LIVRE!$A$8:$AC$315,11))","v":""},{"$f":"IF(K40=\"\",\"\",P40+Q40)","v":""},null,null,{"$f":"IF(T40=\"\",\"\",VLOOKUP(T40,LIVRE!$A$8:$AC$315,4))","v":""},{"$f":"IF(T40=\"\",\"\",VLOOKUP(T40,LIVRE!$A$8:$AC$315,7))","v":""},{"$f":"IF(T40=\"\",\"\",VLOOKUP(T40,LIVRE!$A$8:$AC$315,10))","v":""},{"$f":"IF(T40=\"\",\"\",V40+W40)","v":""},{"$f":"IF(T40=\"\",\"\",VLOOKUP(T40,LIVRE!$A$8:$AC$315,8))","v":""},{"$f":"IF(T40=\"\",\"\",VLOOKUP(T40,LIVRE!$A$8:$AC$315,11))","v":""},{"$f":"IF(T40=\"\",\"\",Y40+Z40)","v":""},null,null,{"$f":"IF(AC40=\"\",\"\",VLOOKUP(AC40,LIVRE!$A$8:$AC$315,4))","v":""},{"$f":"IF(AC40=\"\",\"\",VLOOKUP(AC40,LIVRE!$A$8:$AC$315,7))","v":""},{"$f":"IF(AC40=\"\",\"\",VLOOKUP(AC40,LIVRE!$A$8:$AC$315,10))","v":""},{"$f":"IF(AC40=\"\",\"\",AE40+AF40)","v":""},{"$f":"IF(AC40=\"\",\"\",VLOOKUP(AC40,LIVRE!$A$8:$AC$315,8))","v":""},{"$f":"IF(AC40=\"\",\"\",VLOOKUP(AC40,LIVRE!$A$8:$AC$315,11))","v":""},{"$f":"IF(AC40=\"\",\"\",AH40+AI40)","v":""}]
[null,null,{"$f":"IF(B41=\"\",\"\",VLOOKUP(B41,LIVRE!$A$8:$AC$315,4))","v":""},{"$f":"IF(B41=\"\",\"\",VLOOKUP(B41,LIVRE!$A$8:$AC$315,7))","v":""},{"$f":"IF(B41=\"\",\"\",VLOOKUP(B41,LIVRE!$A$8:$AC$315,10))","v":""},{"$f":"IF(B41=\"\",\"\",D41+E41)","v":""},{"$f":"IF(B41=\"\",\"\",VLOOKUP(B41,LIVRE!$A$8:$AC$315,8))","v":""},{"$f":"IF(B41=\"\",\"\",VLOOKUP(B41,LIVRE!$A$8:$AC$315,11))","v":""},{"$f":"IF(B41=\"\",\"\",G41+H41)","v":""},null,null,{"$f":"IF(K41=\"\",\"\",VLOOKUP(K41,LIVRE!$A$8:$AC$315,4))","v":""},{"$f":"IF(K41=\"\",\"\",VLOOKUP(K41,LIVRE!$A$8:$AC$315,7))","v":""},{"$f":"IF(K41=\"\",\"\",VLOOKUP(K41,LIVRE!$A$8:$AC$315,10))","v":""},{"$f":"IF(K41=\"\",\"\",M41+N41)","v":""},{"$f":"IF(K41=\"\",\"\",VLOOKUP(K41,LIVRE!$A$8:$AC$315,8))","v":""},{"$f":"IF(K41=\"\",\"\",VLOOKUP(K41,LIVRE!$A$8:$AC$315,11))","v":""},{"$f":"IF(K41=\"\",\"\",P41+Q41)","v":""},null,null,{"$f":"IF(T41=\"\",\"\",VLOOKUP(T41,LIVRE!$A$8:$AC$315,4))","v":""},{"$f":"IF(T41=\"\",\"\",VLOOKUP(T41,LIVRE!$A$8:$AC$315,7))","v":""},{"$f":"IF(T41=\"\",\"\",VLOOKUP(T41,LIVRE!$A$8:$AC$315,10))","v":""},{"$f":"IF(T41=\"\",\"\",V41+W41)","v":""},{"$f":"IF(T41=\"\",\"\",VLOOKUP(T41,LIVRE!$A$8:$AC$315,8))","v":""},{"$f":"IF(T41=\"\",\"\",VLOOKUP(T41,LIVRE!$A$8:$AC$315,11))","v":""},{"$f":"IF(T41=\"\",\"\",Y41+Z41)","v":""},null,null,{"$f":"IF(AC41=\"\",\"\",VLOOKUP(AC41,LIVRE!$A$8:$AC$315,4))","v":""},{"$f":"IF(AC41=\"\",\"\",VLOOKUP(AC41,LIVRE!$A$8:$AC$315,7))","v":""},{"$f":"IF(AC41=\"\",\"\",VLOOKUP(AC41,LIVRE!$A$8:$AC$315,10))","v":""},{"$f":"IF(AC41=\"\",\"\",AE41+AF41)","v":""},{"$f":"IF(AC41=\"\",\"\",VLOOKUP(AC41,LIVRE!$A$8:$AC$315,8))","v":""},{"$f":"IF(AC41=\"\",\"\",VLOOKUP(AC41,LIVRE!$A$8:$AC$315,11))","v":""},{"$f":"IF(AC41=\"\",\"\",AH41+AI41)","v":""}]
[null,null,{"$f":"IF(B42=\"\",\"\",VLOOKUP(B42,LIVRE!$A$8:$AC$315,4))","v":""},{"$f":"IF(B42=\"\",\"\",VLOOKUP(B42,LIVRE!$A$8:$AC$315,7))","v":""},{"$f":"IF(B42=\"\",\"\",VLOOKUP(B42,LIVRE!$A$8:$AC$315,10))","v":""},{"$f":"IF(B42=\"\",\"\",D42+E42)","v":""},{"$f":"IF(B42=\"\",\"\",VLOOKUP(B42,LIVRE!$A$8:$AC$315,8))","v":""},{"$f":"IF(B42=\"\",\"\",VLOOKUP(B42,LIVRE!$A$8:$AC$315,11))","v":""},{"$f":"IF(B42=\"\",\"\",G42+H42)","v":""},null,null,{"$f":"IF(K42=\"\",\"\",VLOOKUP(K42,LIVRE!$A$8:$AC$315,4))","v":""},{"$f":"IF(K42=\"\",\"\",VLOOKUP(K42,LIVRE!$A$8:$AC$315,7))","v":""},{"$f":"IF(K42=\"\",\"\",VLOOKUP(K42,LIVRE!$A$8:$AC$315,10))","v":""},{"$f":"IF(K42=\"\",\"\",M42+N42)","v":""},{"$f":"IF(K42=\"\",\"\",VLOOKUP(K42,LIVRE!$A$8:$AC$315,8))","v":""},{"$f":"IF(K42=\"\",\"\",VLOOKUP(K42,LIVRE!$A$8:$AC$315,11))","v":""},{"$f":"IF(K42=\"\",\"\",P42+Q42)","v":""},null,null,{"$f":"IF(T42=\"\",\"\",VLOOKUP(T42,LIVRE!$A$8:$AC$315,4))","v":""},{"$f":"IF(T42=\"\",\"\",VLOOKUP(T42,LIVRE!$A$8:$AC$315,7))","v":""},{"$f":"IF(T42=\"\",\"\",VLOOKUP(T42,LIVRE!$A$8:$AC$315,10))","v":""},{"$f":"IF(T42=\"\",\"\",V42+W42)","v":""},{"$f":"IF(T42=\"\",\"\",VLOOKUP(T42,LIVRE!$A$8:$AC$315,8))","v":""},{"$f":"IF(T42=\"\",\"\",VLOOKUP(T42,LIVRE!$A$8:$AC$315,11))","v":""},{"$f":"IF(T42=\"\",\"\",Y42+Z42)","v":""},null,null,{"$f":"IF(AC42=\"\",\"\",VLOOKUP(AC42,LIVRE!$A$8:$AC$315,4))","v":""},{"$f":"IF(AC42=\"\",\"\",VLOOKUP(AC42,LIVRE!$A$8:$AC$315,7))","v":""},{"$f":"IF(AC42=\"\",\"\",VLOOKUP(AC42,LIVRE!$A$8:$AC$315,10))","v":""},{"$f":"IF(AC42=\"\",\"\",AE42+AF42)","v":""},{"$f":"IF(AC42=\"\",\"\",VLOOKUP(AC42,LIVRE!$A$8:$AC$315,8))","v":""},{"$f":"IF(AC42=\"\",\"\",VLOOKUP(AC42,LIVRE!$A$8:$AC$315,11))","v":""},{"$f":"IF(AC42=\"\",\"\",AH42+AI42)","v":""}]
[null,null,{"$f":"IF(B43=\"\",\"\",VLOOKUP(B43,LIVRE!$A$8:$AC$315,4))","v":""},{"$f":"IF(B43=\"\",\"\",VLOOKUP(B43,LIVRE!$A$8:$AC$315,7))","v":""},{"$f":"IF(B43=\"\",\"\",VLOOKUP(B43,LIVRE!$A$8:$AC$315,10))","v":""},{"$f":"IF(B43=\"\",\"\",D43+E43)","v":""},{"$f":"IF(B43=\"\",\"\",VLOOKUP(B43,LIVRE!$A$8:$AC$315,8))","v":""},{"$f":"IF(B43=\"\",\"\",VLOOKUP(B43,LIVRE!$A$8:$AC$315,11))","v":""},{"$f":"IF(B43=\"\",\"\",G43+H43)","v":""},null,null,{"$f":"IF(K43=\"\",\"\",VLOOKUP(K43,LIVRE!$A$8:$AC$315,4))","v":""},{"$f":"IF(K43=\"\",\"\",VLOOKUP(K43,LIVRE!$A$8:$AC$315,7))","v":""},{"$f":"IF(K43=\"\",\"\",VLOOKUP(K43,LIVRE!$A$8:$AC$315,10))","v":""},{"$f":"IF(K43=\"\",\"\",M43+N43)","v":""},{"$f":"IF(K43=\"\",\"\",VLOOKUP(K43,LIVRE!$A$8:$AC$315,8))","v":""},{"$f":"IF(K43=\"\",\"\",VLOOKUP(K43,LIVRE!$A$8:$AC$315,11))","v":""},{"$f":"IF(K43=\"\",\"\",P43+Q43)","v":""},null,null,{"$f":"IF(T43=\"\",\"\",VLOOKUP(T43,LIVRE!$A$8:$AC$315,4))","v":""},{"$f":"IF(T43=\"\",\"\",VLOOKUP(T43,LIVRE!$A$8:$AC$315,7))","v":""},{"$f":"IF(T43=\"\",\"\",VLOOKUP(T43,LIVRE!$A$8:$AC$315,10))","v":""},{"$f":"IF(T43=\"\",\"\",V43+W43)","v":""},{"$f":"IF(T43=\"\",\"\",VLOOKUP(T43,LIVRE!$A$8:$AC$315,8))","v":""},{"$f":"IF(T43=\"\",\"\",VLOOKUP(T43,LIVRE!$A$8:$AC$315,11))","v":""},{"$f":"IF(T43=\"\",\"\",Y43+Z43)","v":""},null,null,{"$f":"IF(AC43=\"\",\"\",VLOOKUP(AC43,LIVRE!$A$8:$AC$315,4))","v":""},{"$f":"IF(AC43=\"\",\"\",VLOOKUP(AC43,LIVRE!$A$8:$AC$315,7))","v":""},{"$f":"IF(AC43=\"\",\"\",VLOOKUP(AC43,LIVRE!$A$8:$AC$315,10))","v":""},{"$f":"IF(AC43=\"\",\"\",AE43+AF43)","v":""},{"$f":"IF(AC43=\"\",\"\",VLOOKUP(AC43,LIVRE!$A$8:$AC$315,8))","v":""},{"$f":"IF(AC43=\"\",\"\",VLOOKUP(AC43,LIVRE!$A$8:$AC$315,11))","v":""},{"$f":"IF(AC43=\"\",\"\",AH43+AI43)","v":""}]
[null,null,{"$f":"IF(B44=\"\",\"\",VLOOKUP(B44,LIVRE!$A$8:$AC$315,4))","v":""},{"$f":"IF(B44=\"\",\"\",VLOOKUP(B44,LIVRE!$A$8:$AC$315,7))","v":""},{"$f":"IF(B44=\"\",\"\",VLOOKUP(B44,LIVRE!$A$8:$AC$315,10))","v":""},{"$f":"IF(B44=\"\",\"\",D44+E44)","v":""},{"$f":"IF(B44=\"\",\"\",VLOOKUP(B44,LIVRE!$A$8:$AC$315,8))","v":""},{"$f":"IF(B44=\"\",\"\",VLOOKUP(B44,LIVRE!$A$8:$AC$315,11))","v":""},{"$f":"IF(B44=\"\",\"\",G44+H44)","v":""},null,null,{"$f":"IF(K44=\"\",\"\",VLOOKUP(K44,LIVRE!$A$8:$AC$315,4))","v":""},{"$f":"IF(K44=\"\",\"\",VLOOKUP(K44,LIVRE!$A$8:$AC$315,7))","v":""},{"$f":"IF(K44=\"\",\"\",VLOOKUP(K44,LIVRE!$A$8:$AC$315,10))","v":""},{"$f":"IF(K44=\"\",\"\",M44+N44)","v":""},{"$f":"IF(K44=\"\",\"\",VLOOKUP(K44,LIVRE!$A$8:$AC$315,8))","v":""},{"$f":"IF(K44=\"\",\"\",VLOOKUP(K44,LIVRE!$A$8:$AC$315,11))","v":""},{"$f":"IF(K44=\"\",\"\",P44+Q44)","v":""},null,null,{"$f":"IF(T44=\"\",\"\",VLOOKUP(T44,LIVRE!$A$8:$AC$315,4))","v":""},{"$f":"IF(T44=\"\",\"\",VLOOKUP(T44,LIVRE!$A$8:$AC$315,7))","v":""},{"$f":"IF(T44=\"\",\"\",VLOOKUP(T44,LIVRE!$A$8:$AC$315,10))","v":""},{"$f":"IF(T44=\"\",\"\",V44+W44)","v":""},{"$f":"IF(T44=\"\",\"\",VLOOKUP(T44,LIVRE!$A$8:$AC$315,8))","v":""},{"$f":"IF(T44=\"\",\"\",VLOOKUP(T44,LIVRE!$A$8:$AC$315,11))","v":""},{"$f":"IF(T44=\"\",\"\",Y44+Z44)","v":""},null,null,{"$f":"IF(AC44=\"\",\"\",VLOOKUP(AC44,LIVRE!$A$8:$AC$315,4))","v":""},{"$f":"IF(AC44=\"\",\"\",VLOOKUP(AC44,LIVRE!$A$8:$AC$315,7))","v":""},{"$f":"IF(AC44=\"\",\"\",VLOOKUP(AC44,LIVRE!$A$8:$AC$315,10))","v":""},{"$f":"IF(AC44=\"\",\"\",AE44+AF44)","v":""},{"$f":"IF(AC44=\"\",\"\",VLOOKUP(AC44,LIVRE!$A$8:$AC$315,8))","v":""},{"$f":"IF(AC44=\"\",\"\",VLOOKUP(AC44,LIVRE!$A$8:$AC$315,11))","v":""},{"$f":"IF(AC44=\"\",\"\",AH44+AI44)","v":""}]
[null,null,{"$f":"IF(B45=\"\",\"\",VLOOKUP(B45,LIVRE!$A$8:$AC$315,4))","v":""},{"$f":"IF(B45=\"\",\"\",VLOOKUP(B45,LIVRE!$A$8:$AC$315,7))","v":""},{"$f":"IF(B45=\"\",\"\",VLOOKUP(B45,LIVRE!$A$8:$AC$315,10))","v":""},{"$f":"IF(B45=\"\",\"\",D45+E45)","v":""},{"$f":"IF(B45=\"\",\"\",VLOOKUP(B45,LIVRE!$A$8:$AC$315,8))","v":""},{"$f":"IF(B45=\"\",\"\",VLOOKUP(B45,LIVRE!$A$8:$AC$315,11))","v":""},{"$f":"IF(B45=\"\",\"\",G45+H45)","v":""},null,null,{"$f":"IF(K45=\"\",\"\",VLOOKUP(K45,LIVRE!$A$8:$AC$315,4))","v":""},{"$f":"IF(K45=\"\",\"\",VLOOKUP(K45,LIVRE!$A$8:$AC$315,7))","v":""},{"$f":"IF(K45=\"\",\"\",VLOOKUP(K45,LIVRE!$A$8:$AC$315,10))","v":""},{"$f":"IF(K45=\"\",\"\",M45+N45)","v":""},{"$f":"IF(K45=\"\",\"\",VLOOKUP(K45,LIVRE!$A$8:$AC$315,8))","v":""},{"$f":"IF(K45=\"\",\"\",VLOOKUP(K45,LIVRE!$A$8:$AC$315,11))","v":""},{"$f":"IF(K45=\"\",\"\",P45+Q45)","v":""},null,null,{"$f":"IF(T45=\"\",\"\",VLOOKUP(T45,LIVRE!$A$8:$AC$315,4))","v":""},{"$f":"IF(T45=\"\",\"\",VLOOKUP(T45,LIVRE!$A$8:$AC$315,7))","v":""},{"$f":"IF(T45=\"\",\"\",VLOOKUP(T45,LIVRE!$A$8:$AC$315,10))","v":""},{"$f":"IF(T45=\"\",\"\",V45+W45)","v":""},{"$f":"IF(T45=\"\",\"\",VLOOKUP(T45,LIVRE!$A$8:$AC$315,8))","v":""},{"$f":"IF(T45=\"\",\"\",VLOOKUP(T45,LIVRE!$A$8:$AC$315,11))","v":""},{"$f":"IF(T45=\"\",\"\",Y45+Z45)","v":""},null,null,{"$f":"IF(AC45=\"\",\"\",VLOOKUP(AC45,LIVRE!$A$8:$AC$315,4))","v":""},{"$f":"IF(AC45=\"\",\"\",VLOOKUP(AC45,LIVRE!$A$8:$AC$315,7))","v":""},{"$f":"IF(AC45=\"\",\"\",VLOOKUP(AC45,LIVRE!$A$8:$AC$315,10))","v":""},{"$f":"IF(AC45=\"\",\"\",AE45+AF45)","v":""},{"$f":"IF(AC45=\"\",\"\",VLOOKUP(AC45,LIVRE!$A$8:$AC$315,8))","v":""},{"$f":"IF(AC45=\"\",\"\",VLOOKUP(AC45,LIVRE!$A$8:$AC$315,11))","v":""},{"$f":"IF(AC45=\"\",\"\",AH45+AI45)","v":""}]
[null,null,{"$f":"IF(B46=\"\",\"\",VLOOKUP(B46,LIVRE!$A$8:$AC$315,4))","v":""},{"$f":"IF(B46=\"\",\"\",VLOOKUP(B46,LIVRE!$A$8:$AC$315,7))","v":""},{"$f":"IF(B46=\"\",\"\",VLOOKUP(B46,LIVRE!$A$8:$AC$315,10))","v":""},{"$f":"IF(B46=\"\",\"\",D46+E46)","v":""},{"$f":"IF(B46=\"\",\"\",VLOOKUP(B46,LIVRE!$A$8:$AC$315,8))","v":""},{"$f":"IF(B46=\"\",\"\",VLOOKUP(B46,LIVRE!$A$8:$AC$315,11))","v":""},{"$f":"IF(B46=\"\",\"\",G46+H46)","v":""},null,null,{"$f":"IF(K46=\"\",\"\",VLOOKUP(K46,LIVRE!$A$8:$AC$315,4))","v":""},{"$f":"IF(K46=\"\",\"\",VLOOKUP(K46,LIVRE!$A$8:$AC$315,7))","v":""},{"$f":"IF(K46=\"\",\"\",VLOOKUP(K46,LIVRE!$A$8:$AC$315,10))","v":""},{"$f":"IF(K46=\"\",\"\",M46+N46)","v":""},{"$f":"IF(K46=\"\",\"\",VLOOKUP(K46,LIVRE!$A$8:$AC$315,8))","v":""},{"$f":"IF(K46=\"\",\"\",VLOOKUP(K46,LIVRE!$A$8:$AC$315,11))","v":""},{"$f":"IF(K46=\"\",\"\",P46+Q46)","v":""},null,null,{"$f":"IF(T46=\"\",\"\",VLOOKUP(T46,LIVRE!$A$8:$AC$315,4))","v":""},{"$f":"IF(T46=\"\",\"\",VLOOKUP(T46,LIVRE!$A$8:$AC$315,7))","v":""},{"$f":"IF(T46=\"\",\"\",VLOOKUP(T46,LIVRE!$A$8:$AC$315,10))","v":""},{"$f":"IF(T46=\"\",\"\",V46+W46)","v":""},{"$f":"IF(T46=\"\",\"\",VLOOKUP(T46,LIVRE!$A$8:$AC$315,8))","v":""},{"$f":"IF(T46=\"\",\"\",VLOOKUP(T46,LIVRE!$A$8:$AC$315,11))","v":""},{"$f":"IF(T46=\"\",\"\",Y46+Z46)","v":""},null,null,{"$f":"IF(AC46=\"\",\"\",VLOOKUP(AC46,LIVRE!$A$8:$AC$315,4))","v":""},{"$f":"IF(AC46=\"\",\"\",VLOOKUP(AC46,LIVRE!$A$8:$AC$315,7))","v":""},{"$f":"IF(AC46=\"\",\"\",VLOOKUP(AC46,LIVRE!$A$8:$AC$315,10))","v":""},{"$f":"IF(AC46=\"\",\"\",AE46+AF46)","v":""},{"$f":"IF(AC46=\"\",\"\",VLOOKUP(AC46,LIVRE!$A$8:$AC$315,8))","v":""},{"$f":"IF(AC46=\"\",\"\",VLOOKUP(AC46,LIVRE!$A$8:$AC$315,11))","v":""},{"$f":"IF(AC46=\"\",\"\",AH46+AI46)","v":""}]
[null,null,{"$f":"IF(B47=\"\",\"\",VLOOKUP(B47,LIVRE!$A$8:$AC$315,4))","v":""},{"$f":"IF(B47=\"\",\"\",VLOOKUP(B47,LIVRE!$A$8:$AC$315,7))","v":""},{"$f":"IF(B47=\"\",\"\",VLOOKUP(B47,LIVRE!$A$8:$AC$315,10))","v":""},{"$f":"IF(B47=\"\",\"\",D47+E47)","v":""},{"$f":"IF(B47=\"\",\"\",VLOOKUP(B47,LIVRE!$A$8:$AC$315,8))","v":""},{"$f":"IF(B47=\"\",\"\",VLOOKUP(B47,LIVRE!$A$8:$AC$315,11))","v":""},{"$f":"IF(B47=\"\",\"\",G47+H47)","v":""},null,null,{"$f":"IF(K47=\"\",\"\",VLOOKUP(K47,LIVRE!$A$8:$AC$315,4))","v":""},{"$f":"IF(K47=\"\",\"\",VLOOKUP(K47,LIVRE!$A$8:$AC$315,7))","v":""},{"$f":"IF(K47=\"\",\"\",VLOOKUP(K47,LIVRE!$A$8:$AC$315,10))","v":""},{"$f":"IF(K47=\"\",\"\",M47+N47)","v":""},{"$f":"IF(K47=\"\",\"\",VLOOKUP(K47,LIVRE!$A$8:$AC$315,8))","v":""},{"$f":"IF(K47=\"\",\"\",VLOOKUP(K47,LIVRE!$A$8:$AC$315,11))","v":""},{"$f":"IF(K47=\"\",\"\",P47+Q47)","v":""},null,null,{"$f":"IF(T47=\"\",\"\",VLOOKUP(T47,LIVRE!$A$8:$AC$315,4))","v":""},{"$f":"IF(T47=\"\",\"\",VLOOKUP(T47,LIVRE!$A$8:$AC$315,7))","v":""},{"$f":"IF(T47=\"\",\"\",VLOOKUP(T47,LIVRE!$A$8:$AC$315,10))","v":""},{"$f":"IF(T47=\"\",\"\",V47+W47)","v":""},{"$f":"IF(T47=\"\",\"\",VLOOKUP(T47,LIVRE!$A$8:$AC$315,8))","v":""},{"$f":"IF(T47=\"\",\"\",VLOOKUP(T47,LIVRE!$A$8:$AC$315,11))","v":""},{"$f":"IF(T47=\"\",\"\",Y47+Z47)","v":""},null,null,{"$f":"IF(AC47=\"\",\"\",VLOOKUP(AC47,LIVRE!$A$8:$AC$315,4))","v":""},{"$f":"IF(AC47=\"\",\"\",VLOOKUP(AC47,LIVRE!$A$8:$AC$315,7))","v":""},{"$f":"IF(AC47=\"\",\"\",VLOOKUP(AC47,LIVRE!$A$8:$AC$315,10))","v":""},{"$f":"IF(AC47=\"\",\"\",AE47+AF47)","v":""},{"$f":"IF(AC47=\"\",\"\",VLOOKUP(AC47,LIVRE!$A$8:$AC$315,8))","v":""},{"$f":"IF(AC47=\"\",\"\",VLOOKUP(AC47,LIVRE!$A$8:$AC$315,11))","v":""},{"$f":"IF(AC47=\"\",\"\",AH47+AI47)","v":""}]
[null,null,{"$f":"IF(B48=\"\",\"\",VLOOKUP(B48,LIVRE!$A$8:$AC$315,4))","v":""},{"$f":"IF(B48=\"\",\"\",VLOOKUP(B48,LIVRE!$A$8:$AC$315,7))","v":""},{"$f":"IF(B48=\"\",\"\",VLOOKUP(B48,LIVRE!$A$8:$AC$315,10))","v":""},{"$f":"IF(B48=\"\",\"\",D48+E48)","v":""},{"$f":"IF(B48=\"\",\"\",VLOOKUP(B48,LIVRE!$A$8:$AC$315,8))","v":""},{"$f":"IF(B48=\"\",\"\",VLOOKUP(B48,LIVRE!$A$8:$AC$315,11))","v":""},{"$f":"IF(B48=\"\",\"\",G48+H48)","v":""},null,null,{"$f":"IF(K48=\"\",\"\",VLOOKUP(K48,LIVRE!$A$8:$AC$315,4))","v":""},{"$f":"IF(K48=\"\",\"\",VLOOKUP(K48,LIVRE!$A$8:$AC$315,7))","v":""},{"$f":"IF(K48=\"\",\"\",VLOOKUP(K48,LIVRE!$A$8:$AC$315,10))","v":""},{"$f":"IF(K48=\"\",\"\",M48+N48)","v":""},{"$f":"IF(K48=\"\",\"\",VLOOKUP(K48,LIVRE!$A$8:$AC$315,8))","v":""},{"$f":"IF(K48=\"\",\"\",VLOOKUP(K48,LIVRE!$A$8:$AC$315,11))","v":""},{"$f":"IF(K48=\"\",\"\",P48+Q48)","v":""},null,null,{"$f":"IF(T48=\"\",\"\",VLOOKUP(T48,LIVRE!$A$8:$AC$315,4))","v":""},{"$f":"IF(T48=\"\",\"\",VLOOKUP(T48,LIVRE!$A$8:$AC$315,7))","v":""},{"$f":"IF(T48=\"\",\"\",VLOOKUP(T48,LIVRE!$A$8:$AC$315,10))","v":""},{"$f":"IF(T48=\"\",\"\",V48+W48)","v":""},{"$f":"IF(T48=\"\",\"\",VLOOKUP(T48,LIVRE!$A$8:$AC$315,8))","v":""},{"$f":"IF(T48=\"\",\"\",VLOOKUP(T48,LIVRE!$A$8:$AC$315,11))","v":""},{"$f":"IF(T48=\"\",\"\",Y48+Z48)","v":""},null,null,{"$f":"IF(AC48=\"\",\"\",VLOOKUP(AC48,LIVRE!$A$8:$AC$315,4))","v":""},{"$f":"IF(AC48=\"\",\"\",VLOOKUP(AC48,LIVRE!$A$8:$AC$315,7))","v":""},{"$f":"IF(AC48=\"\",\"\",VLOOKUP(AC48,LIVRE!$A$8:$AC$315,10))","v":""},{"$f":"IF(AC48=\"\",\"\",AE48+AF48)","v":""},{"$f":"IF(AC48=\"\",\"\",VLOOKUP(AC48,LIVRE!$A$8:$AC$315,8))","v":""},{"$f":"IF(AC48=\"\",\"\",VLOOKUP(AC48,LIVRE!$A$8:$AC$315,11))","v":""},{"$f":"IF(AC48=\"\",\"\",AH48+AI48)","v":""}]
[null,null,{"$f":"IF(B49=\"\",\"\",VLOOKUP(B49,LIVRE!$A$8:$AC$315,4))","v":""},{"$f":"IF(B49=\"\",\"\",VLOOKUP(B49,LIVRE!$A$8:$AC$315,7))","v":""},{"$f":"IF(B49=\"\",\"\",VLOOKUP(B49,LIVRE!$A$8:$AC$315,10))","v":""},{"$f":"IF(B49=\"\",\"\",D49+E49)","v":""},{"$f":"IF(B49=\"\",\"\",VLOOKUP(B49,LIVRE!$A$8:$AC$315,8))","v":""},{"$f":"IF(B49=\"\",\"\",VLOOKUP(B49,LIVRE!$A$8:$AC$315,11))","v":""},{"$f":"IF(B49=\"\",\"\",G49+H49)","v":""},null,null,{"$f":"IF(K49=\"\",\"\",VLOOKUP(K49,LIVRE!$A$8:$AC$315,4))","v":""},{"$f":"IF(K49=\"\",\"\",VLOOKUP(K49,LIVRE!$A$8:$AC$315,7))","v":""},{"$f":"IF(K49=\"\",\"\",VLOOKUP(K49,LIVRE!$A$8:$AC$315,10))","v":""},{"$f":"IF(K49=\"\",\"\",M49+N49)","v":""},{"$f":"IF(K49=\"\",\"\",VLOOKUP(K49,LIVRE!$A$8:$AC$315,8))","v":""},{"$f":"IF(K49=\"\",\"\",VLOOKUP(K49,LIVRE!$A$8:$AC$315,11))","v":""},{"$f":"IF(K49=\"\",\"\",P49+Q49)","v":""},null,null,{"$f":"IF(T49=\"\",\"\",VLOOKUP(T49,LIVRE!$A$8:$AC$315,4))","v":""},{"$f":"IF(T49=\"\",\"\",VLOOKUP(T49,LIVRE!$A$8:$AC$315,7))","v":""},{"$f":"IF(T49=\"\",\"\",VLOOKUP(T49,LIVRE!$A$8:$AC$315,10))","v":""},{"$f":"IF(T49=\"\",\"\",V49+W49)","v":""},{"$f":"IF(T49=\"\",\"\",VLOOKUP(T49,LIVRE!$A$8:$AC$315,8))","v":""},{"$f":"IF(T49=\"\",\"\",VLOOKUP(T49,LIVRE!$A$8:$AC$315,11))","v":""},{"$f":"IF(T49=\"\",\"\",Y49+Z49)","v":""},null,null,{"$f":"IF(AC49=\"\",\"\",VLOOKUP(AC49,LIVRE!$A$8:$AC$315,4))","v":""},{"$f":"IF(AC49=\"\",\"\",VLOOKUP(AC49,LIVRE!$A$8:$AC$315,7))","v":""},{"$f":"IF(AC49=\"\",\"\",VLOOKUP(AC49,LIVRE!$A$8:$AC$315,10))","v":""},{"$f":"IF(AC49=\"\",\"\",AE49+AF49)","v":""},{"$f":"IF(AC49=\"\",\"\",VLOOKUP(AC49,LIVRE!$A$8:$AC$315,8))","v":""},{"$f":"IF(AC49=\"\",\"\",VLOOKUP(AC49,LIVRE!$A$8:$AC$315,11))","v":""},{"$f":"IF(AC49=\"\",\"\",AH49+AI49)","v":""}]
[null,null,{"$f":"IF(B50=\"\",\"\",VLOOKUP(B50,LIVRE!$A$8:$AC$315,4))","v":""},{"$f":"IF(B50=\"\",\"\",VLOOKUP(B50,LIVRE!$A$8:$AC$315,7))","v":""},{"$f":"IF(B50=\"\",\"\",VLOOKUP(B50,LIVRE!$A$8:$AC$315,10))","v":""},{"$f":"IF(B50=\"\",\"\",D50+E50)","v":""},{"$f":"IF(B50=\"\",\"\",VLOOKUP(B50,LIVRE!$A$8:$AC$315,8))","v":""},{"$f":"IF(B50=\"\",\"\",VLOOKUP(B50,LIVRE!$A$8:$AC$315,11))","v":""},{"$f":"IF(B50=\"\",\"\",G50+H50)","v":""},null,null,{"$f":"IF(K50=\"\",\"\",VLOOKUP(K50,LIVRE!$A$8:$AC$315,4))","v":""},{"$f":"IF(K50=\"\",\"\",VLOOKUP(K50,LIVRE!$A$8:$AC$315,7))","v":""},{"$f":"IF(K50=\"\",\"\",VLOOKUP(K50,LIVRE!$A$8:$AC$315,10))","v":""},{"$f":"IF(K50=\"\",\"\",M50+N50)","v":""},{"$f":"IF(K50=\"\",\"\",VLOOKUP(K50,LIVRE!$A$8:$AC$315,8))","v":""},{"$f":"IF(K50=\"\",\"\",VLOOKUP(K50,LIVRE!$A$8:$AC$315,11))","v":""},{"$f":"IF(K50=\"\",\"\",P50+Q50)","v":""},null,null,{"$f":"IF(T50=\"\",\"\",VLOOKUP(T50,LIVRE!$A$8:$AC$315,4))","v":""},{"$f":"IF(T50=\"\",\"\",VLOOKUP(T50,LIVRE!$A$8:$AC$315,7))","v":""},{"$f":"IF(T50=\"\",\"\",VLOOKUP(T50,LIVRE!$A$8:$AC$315,10))","v":""},{"$f":"IF(T50=\"\",\"\",V50+W50)","v":""},{"$f":"IF(T50=\"\",\"\",VLOOKUP(T50,LIVRE!$A$8:$AC$315,8))","v":""},{"$f":"IF(T50=\"\",\"\",VLOOKUP(T50,LIVRE!$A$8:$AC$315,11))","v":""},{"$f":"IF(T50=\"\",\"\",Y50+Z50)","v":""},null,null,{"$f":"IF(AC50=\"\",\"\",VLOOKUP(AC50,LIVRE!$A$8:$AC$315,4))","v":""},{"$f":"IF(AC50=\"\",\"\",VLOOKUP(AC50,LIVRE!$A$8:$AC$315,7))","v":""},{"$f":"IF(AC50=\"\",\"\",VLOOKUP(AC50,LIVRE!$A$8:$AC$315,10))","v":""},{"$f":"IF(AC50=\"\",\"\",AE50+AF50)","v":""},{"$f":"IF(AC50=\"\",\"\",VLOOKUP(AC50,LIVRE!$A$8:$AC$315,8))","v":""},{"$f":"IF(AC50=\"\",\"\",VLOOKUP(AC50,LIVRE!$A$8:$AC$315,11))","v":""},{"$f":"IF(AC50=\"\",\"\",AH50+AI50)","v":""}]
[null,null,{"$f":"IF(B51=\"\",\"\",VLOOKUP(B51,LIVRE!$A$8:$AC$315,4))","v":""},{"$f":"IF(B51=\"\",\"\",VLOOKUP(B51,LIVRE!$A$8:$AC$315,7))","v":""},{"$f":"IF(B51=\"\",\"\",VLOOKUP(B51,LIVRE!$A$8:$AC$315,10))","v":""},{"$f":"IF(B51=\"\",\"\",D51+E51)","v":""},{"$f":"IF(B51=\"\",\"\",VLOOKUP(B51,LIVRE!$A$8:$AC$315,8))","v":""},{"$f":"IF(B51=\"\",\"\",VLOOKUP(B51,LIVRE!$A$8:$AC$315,11))","v":""},{"$f":"IF(B51=\"\",\"\",G51+H51)","v":""},null,null,{"$f":"IF(K51=\"\",\"\",VLOOKUP(K51,LIVRE!$A$8:$AC$315,4))","v":""},{"$f":"IF(K51=\"\",\"\",VLOOKUP(K51,LIVRE!$A$8:$AC$315,7))","v":""},{"$f":"IF(K51=\"\",\"\",VLOOKUP(K51,LIVRE!$A$8:$AC$315,10))","v":""},{"$f":"IF(K51=\"\",\"\",M51+N51)","v":""},{"$f":"IF(K51=\"\",\"\",VLOOKUP(K51,LIVRE!$A$8:$AC$315,8))","v":""},{"$f":"IF(K51=\"\",\"\",VLOOKUP(K51,LIVRE!$A$8:$AC$315,11))","v":""},{"$f":"IF(K51=\"\",\"\",P51+Q51)","v":""},null,null,{"$f":"IF(T51=\"\",\"\",VLOOKUP(T51,LIVRE!$A$8:$AC$315,4))","v":""},{"$f":"IF(T51=\"\",\"\",VLOOKUP(T51,LIVRE!$A$8:$AC$315,7))","v":""},{"$f":"IF(T51=\"\",\"\",VLOOKUP(T51,LIVRE!$A$8:$AC$315,10))","v":""},{"$f":"IF(T51=\"\",\"\",V51+W51)","v":""},{"$f":"IF(T51=\"\",\"\",VLOOKUP(T51,LIVRE!$A$8:$AC$315,8))","v":""},{"$f":"IF(T51=\"\",\"\",VLOOKUP(T51,LIVRE!$A$8:$AC$315,11))","v":""},{"$f":"IF(T51=\"\",\"\",Y51+Z51)","v":""},null,null,{"$f":"IF(AC51=\"\",\"\",VLOOKUP(AC51,LIVRE!$A$8:$AC$315,4))","v":""},{"$f":"IF(AC51=\"\",\"\",VLOOKUP(AC51,LIVRE!$A$8:$AC$315,7))","v":""},{"$f":"IF(AC51=\"\",\"\",VLOOKUP(AC51,LIVRE!$A$8:$AC$315,10))","v":""},{"$f":"IF(AC51=\"\",\"\",AE51+AF51)","v":""},{"$f":"IF(AC51=\"\",\"\",VLOOKUP(AC51,LIVRE!$A$8:$AC$315,8))","v":""},{"$f":"IF(AC51=\"\",\"\",VLOOKUP(AC51,LIVRE!$A$8:$AC$315,11))","v":""},{"$f":"IF(AC51=\"\",\"\",AH51+AI51)","v":""}]
[null,null,{"$f":"IF(B52=\"\",\"\",VLOOKUP(B52,LIVRE!$A$8:$AC$315,4))","v":""},{"$f":"IF(B52=\"\",\"\",VLOOKUP(B52,LIVRE!$A$8:$AC$315,7))","v":""},{"$f":"IF(B52=\"\",\"\",VLOOKUP(B52,LIVRE!$A$8:$AC$315,10))","v":""},{"$f":"IF(B52=\"\",\"\",D52+E52)","v":""},{"$f":"IF(B52=\"\",\"\",VLOOKUP(B52,LIVRE!$A$8:$AC$315,8))","v":""},{"$f":"IF(B52=\"\",\"\",VLOOKUP(B52,LIVRE!$A$8:$AC$315,11))","v":""},{"$f":"IF(B52=\"\",\"\",G52+H52)","v":""},null,null,{"$f":"IF(K52=\"\",\"\",VLOOKUP(K52,LIVRE!$A$8:$AC$315,4))","v":""},{"$f":"IF(K52=\"\",\"\",VLOOKUP(K52,LIVRE!$A$8:$AC$315,7))","v":""},{"$f":"IF(K52=\"\",\"\",VLOOKUP(K52,LIVRE!$A$8:$AC$315,10))","v":""},{"$f":"IF(K52=\"\",\"\",M52+N52)","v":""},{"$f":"IF(K52=\"\",\"\",VLOOKUP(K52,LIVRE!$A$8:$AC$315,8))","v":""},{"$f":"IF(K52=\"\",\"\",VLOOKUP(K52,LIVRE!$A$8:$AC$315,11))","v":""},{"$f":"IF(K52=\"\",\"\",P52+Q52)","v":""},null,null,{"$f":"IF(T52=\"\",\"\",VLOOKUP(T52,LIVRE!$A$8:$AC$315,4))","v":""},{"$f":"IF(T52=\"\",\"\",VLOOKUP(T52,LIVRE!$A$8:$AC$315,7))","v":""},{"$f":"IF(T52=\"\",\"\",VLOOKUP(T52,LIVRE!$A$8:$AC$315,10))","v":""},{"$f":"IF(T52=\"\",\"\",V52+W52)","v":""},{"$f":"IF(T52=\"\",\"\",VLOOKUP(T52,LIVRE!$A$8:$AC$315,8))","v":""},{"$f":"IF(T52=\"\",\"\",VLOOKUP(T52,LIVRE!$A$8:$AC$315,11))","v":""},{"$f":"IF(T52=\"\",\"\",Y52+Z52)","v":""},null,null,{"$f":"IF(AC52=\"\",\"\",VLOOKUP(AC52,LIVRE!$A$8:$AC$315,4))","v":""},{"$f":"IF(AC52=\"\",\"\",VLOOKUP(AC52,LIVRE!$A$8:$AC$315,7))","v":""},{"$f":"IF(AC52=\"\",\"\",VLOOKUP(AC52,LIVRE!$A$8:$AC$315,10))","v":""},{"$f":"IF(AC52=\"\",\"\",AE52+AF52)","v":""},{"$f":"IF(AC52=\"\",\"\",VLOOKUP(AC52,LIVRE!$A$8:$AC$315,8))","v":""},{"$f":"IF(AC52=\"\",\"\",VLOOKUP(AC52,LIVRE!$A$8:$AC$315,11))","v":""},{"$f":"IF(AC52=\"\",\"\",AH52+AI52)","v":""}]
[null,null,{"$f":"IF(B53=\"\",\"\",VLOOKUP(B53,LIVRE!$A$8:$AC$315,4))","v":""},{"$f":"IF(B53=\"\",\"\",VLOOKUP(B53,LIVRE!$A$8:$AC$315,7))","v":""},{"$f":"IF(B53=\"\",\"\",VLOOKUP(B53,LIVRE!$A$8:$AC$315,10))","v":""},{"$f":"IF(B53=\"\",\"\",D53+E53)","v":""},{"$f":"IF(B53=\"\",\"\",VLOOKUP(B53,LIVRE!$A$8:$AC$315,8))","v":""},{"$f":"IF(B53=\"\",\"\",VLOOKUP(B53,LIVRE!$A$8:$AC$315,11))","v":""},{"$f":"IF(B53=\"\",\"\",G53+H53)","v":""},null,null,{"$f":"IF(K53=\"\",\"\",VLOOKUP(K53,LIVRE!$A$8:$AC$315,4))","v":""},{"$f":"IF(K53=\"\",\"\",VLOOKUP(K53,LIVRE!$A$8:$AC$315,7))","v":""},{"$f":"IF(K53=\"\",\"\",VLOOKUP(K53,LIVRE!$A$8:$AC$315,10))","v":""},{"$f":"IF(K53=\"\",\"\",M53+N53)","v":""},{"$f":"IF(K53=\"\",\"\",VLOOKUP(K53,LIVRE!$A$8:$AC$315,8))","v":""},{"$f":"IF(K53=\"\",\"\",VLOOKUP(K53,LIVRE!$A$8:$AC$315,11))","v":""},{"$f":"IF(K53=\"\",\"\",P53+Q53)","v":""},null,null,{"$f":"IF(T53=\"\",\"\",VLOOKUP(T53,LIVRE!$A$8:$AC$315,4))","v":""},{"$f":"IF(T53=\"\",\"\",VLOOKUP(T53,LIVRE!$A$8:$AC$315,7))","v":""},{"$f":"IF(T53=\"\",\"\",VLOOKUP(T53,LIVRE!$A$8:$AC$315,10))","v":""},{"$f":"IF(T53=\"\",\"\",V53+W53)","v":""},{"$f":"IF(T53=\"\",\"\",VLOOKUP(T53,LIVRE!$A$8:$AC$315,8))","v":""},{"$f":"IF(T53=\"\",\"\",VLOOKUP(T53,LIVRE!$A$8:$AC$315,11))","v":""},{"$f":"IF(T53=\"\",\"\",Y53+Z53)","v":""},null,null,{"$f":"IF(AC53=\"\",\"\",VLOOKUP(AC53,LIVRE!$A$8:$AC$315,4))","v":""},{"$f":"IF(AC53=\"\",\"\",VLOOKUP(AC53,LIVRE!$A$8:$AC$315,7))","v":""},{"$f":"IF(AC53=\"\",\"\",VLOOKUP(AC53,LIVRE!$A$8:$AC$315,10))","v":""},{"$f":"IF(AC53=\"\",\"\",AE53+AF53)","v":""},{"$f":"IF(AC53=\"\",\"\",VLOOKUP(AC53,LIVRE!$A$8:$AC$315,8))","v":""},{"$f":"IF(AC53=\"\",\"\",VLOOKUP(AC53,LIVRE!$A$8:$AC$315,11))","v":""},{"$f":"IF(AC53=\"\",\"\",AH53+AI53)","v":""}]
[null,null,{"$f":"IF(B54=\"\",\"\",VLOOKUP(B54,LIVRE!$A$8:$AC$315,4))","v":""},{"$f":"IF(B54=\"\",\"\",VLOOKUP(B54,LIVRE!$A$8:$AC$315,7))","v":""},{"$f":"IF(B54=\"\",\"\",VLOOKUP(B54,LIVRE!$A$8:$AC$315,10))","v":""},{"$f":"IF(B54=\"\",\"\",D54+E54)","v":""},{"$f":"IF(B54=\"\",\"\",VLOOKUP(B54,LIVRE!$A$8:$AC$315,8))","v":""},{"$f":"IF(B54=\"\",\"\",VLOOKUP(B54,LIVRE!$A$8:$AC$315,11))","v":""},{"$f":"IF(B54=\"\",\"\",G54+H54)","v":""},null,null,{"$f":"IF(K54=\"\",\"\",VLOOKUP(K54,LIVRE!$A$8:$AC$315,4))","v":""},{"$f":"IF(K54=\"\",\"\",VLOOKUP(K54,LIVRE!$A$8:$AC$315,7))","v":""},{"$f":"IF(K54=\"\",\"\",VLOOKUP(K54,LIVRE!$A$8:$AC$315,10))","v":""},{"$f":"IF(K54=\"\",\"\",M54+N54)","v":""},{"$f":"IF(K54=\"\",\"\",VLOOKUP(K54,LIVRE!$A$8:$AC$315,8))","v":""},{"$f":"IF(K54=\"\",\"\",VLOOKUP(K54,LIVRE!$A$8:$AC$315,11))","v":""},{"$f":"IF(K54=\"\",\"\",P54+Q54)","v":""},null,null,{"$f":"IF(T54=\"\",\"\",VLOOKUP(T54,LIVRE!$A$8:$AC$315,4))","v":""},{"$f":"IF(T54=\"\",\"\",VLOOKUP(T54,LIVRE!$A$8:$AC$315,7))","v":""},{"$f":"IF(T54=\"\",\"\",VLOOKUP(T54,LIVRE!$A$8:$AC$315,10))","v":""},{"$f":"IF(T54=\"\",\"\",V54+W54)","v":""},{"$f":"IF(T54=\"\",\"\",VLOOKUP(T54,LIVRE!$A$8:$AC$315,8))","v":""},{"$f":"IF(T54=\"\",\"\",VLOOKUP(T54,LIVRE!$A$8:$AC$315,11))","v":""},{"$f":"IF(T54=\"\",\"\",Y54+Z54)","v":""},null,null,{"$f":"IF(AC54=\"\",\"\",VLOOKUP(AC54,LIVRE!$A$8:$AC$315,4))","v":""},{"$f":"IF(AC54=\"\",\"\",VLOOKUP(AC54,LIVRE!$A$8:$AC$315,7))","v":""},{"$f":"IF(AC54=\"\",\"\",VLOOKUP(AC54,LIVRE!$A$8:$AC$315,10))","v":""},{"$f":"IF(AC54=\"\",\"\",AE54+AF54)","v":""},{"$f":"IF(AC54=\"\",\"\",VLOOKUP(AC54,LIVRE!$A$8:$AC$315,8))","v":""},{"$f":"IF(AC54=\"\",\"\",VLOOKUP(AC54,LIVRE!$A$8:$AC$315,11))","v":""},{"$f":"IF(AC54=\"\",\"\",AH54+AI54)","v":""}]
[null,null,{"$f":"IF(B55=\"\",\"\",VLOOKUP(B55,LIVRE!$A$8:$AC$315,4))","v":""},{"$f":"IF(B55=\"\",\"\",VLOOKUP(B55,LIVRE!$A$8:$AC$315,7))","v":""},{"$f":"IF(B55=\"\",\"\",VLOOKUP(B55,LIVRE!$A$8:$AC$315,10))","v":""},{"$f":"IF(B55=\"\",\"\",D55+E55)","v":""},{"$f":"IF(B55=\"\",\"\",VLOOKUP(B55,LIVRE!$A$8:$AC$315,8))","v":""},{"$f":"IF(B55=\"\",\"\",VLOOKUP(B55,LIVRE!$A$8:$AC$315,11))","v":""},{"$f":"IF(B55=\"\",\"\",G55+H55)","v":""},null,null,{"$f":"IF(K55=\"\",\"\",VLOOKUP(K55,LIVRE!$A$8:$AC$315,4))","v":""},{"$f":"IF(K55=\"\",\"\",VLOOKUP(K55,LIVRE!$A$8:$AC$315,7))","v":""},{"$f":"IF(K55=\"\",\"\",VLOOKUP(K55,LIVRE!$A$8:$AC$315,10))","v":""},{"$f":"IF(K55=\"\",\"\",M55+N55)","v":""},{"$f":"IF(K55=\"\",\"\",VLOOKUP(K55,LIVRE!$A$8:$AC$315,8))","v":""},{"$f":"IF(K55=\"\",\"\",VLOOKUP(K55,LIVRE!$A$8:$AC$315,11))","v":""},{"$f":"IF(K55=\"\",\"\",P55+Q55)","v":""},null,null,{"$f":"IF(T55=\"\",\"\",VLOOKUP(T55,LIVRE!$A$8:$AC$315,4))","v":""},{"$f":"IF(T55=\"\",\"\",VLOOKUP(T55,LIVRE!$A$8:$AC$315,7))","v":""},{"$f":"IF(T55=\"\",\"\",VLOOKUP(T55,LIVRE!$A$8:$AC$315,10))","v":""},{"$f":"IF(T55=\"\",\"\",V55+W55)","v":""},{"$f":"IF(T55=\"\",\"\",VLOOKUP(T55,LIVRE!$A$8:$AC$315,8))","v":""},{"$f":"IF(T55=\"\",\"\",VLOOKUP(T55,LIVRE!$A$8:$AC$315,11))","v":""},{"$f":"IF(T55=\"\",\"\",Y55+Z55)","v":""},null,null,{"$f":"IF(AC55=\"\",\"\",VLOOKUP(AC55,LIVRE!$A$8:$AC$315,4))","v":""},{"$f":"IF(AC55=\"\",\"\",VLOOKUP(AC55,LIVRE!$A$8:$AC$315,7))","v":""},{"$f":"IF(AC55=\"\",\"\",VLOOKUP(AC55,LIVRE!$A$8:$AC$315,10))","v":""},{"$f":"IF(AC55=\"\",\"\",AE55+AF55)","v":""},{"$f":"IF(AC55=\"\",\"\",VLOOKUP(AC55,LIVRE!$A$8:$AC$315,8))","v":""},{"$f":"IF(AC55=\"\",\"\",VLOOKUP(AC55,LIVRE!$A$8:$AC$315,11))","v":""},{"$f":"IF(AC55=\"\",\"\",AH55+AI55)","v":""}]
[null,null,{"$f":"IF(B56=\"\",\"\",VLOOKUP(B56,LIVRE!$A$8:$AC$315,4))","v":""},{"$f":"IF(B56=\"\",\"\",VLOOKUP(B56,LIVRE!$A$8:$AC$315,7))","v":""},{"$f":"IF(B56=\"\",\"\",VLOOKUP(B56,LIVRE!$A$8:$AC$315,10))","v":""},{"$f":"IF(B56=\"\",\"\",D56+E56)","v":""},{"$f":"IF(B56=\"\",\"\",VLOOKUP(B56,LIVRE!$A$8:$AC$315,8))","v":""},{"$f":"IF(B56=\"\",\"\",VLOOKUP(B56,LIVRE!$A$8:$AC$315,11))","v":""},{"$f":"IF(B56=\"\",\"\",G56+H56)","v":""},null,null,{"$f":"IF(K56=\"\",\"\",VLOOKUP(K56,LIVRE!$A$8:$AC$315,4))","v":""},{"$f":"IF(K56=\"\",\"\",VLOOKUP(K56,LIVRE!$A$8:$AC$315,7))","v":""},{"$f":"IF(K56=\"\",\"\",VLOOKUP(K56,LIVRE!$A$8:$AC$315,10))","v":""},{"$f":"IF(K56=\"\",\"\",M56+N56)","v":""},{"$f":"IF(K56=\"\",\"\",VLOOKUP(K56,LIVRE!$A$8:$AC$315,8))","v":""},{"$f":"IF(K56=\"\",\"\",VLOOKUP(K56,LIVRE!$A$8:$AC$315,11))","v":""},{"$f":"IF(K56=\"\",\"\",P56+Q56)","v":""},null,null,{"$f":"IF(T56=\"\",\"\",VLOOKUP(T56,LIVRE!$A$8:$AC$315,4))","v":""},{"$f":"IF(T56=\"\",\"\",VLOOKUP(T56,LIVRE!$A$8:$AC$315,7))","v":""},{"$f":"IF(T56=\"\",\"\",VLOOKUP(T56,LIVRE!$A$8:$AC$315,10))","v":""},{"$f":"IF(T56=\"\",\"\",V56+W56)","v":""},{"$f":"IF(T56=\"\",\"\",VLOOKUP(T56,LIVRE!$A$8:$AC$315,8))","v":""},{"$f":"IF(T56=\"\",\"\",VLOOKUP(T56,LIVRE!$A$8:$AC$315,11))","v":""},{"$f":"IF(T56=\"\",\"\",Y56+Z56)","v":""},null,null,{"$f":"IF(AC56=\"\",\"\",VLOOKUP(AC56,LIVRE!$A$8:$AC$315,4))","v":""},{"$f":"IF(AC56=\"\",\"\",VLOOKUP(AC56,LIVRE!$A$8:$AC$315,7))","v":""},{"$f":"IF(AC56=\"\",\"\",VLOOKUP(AC56,LIVRE!$A$8:$AC$315,10))","v":""},{"$f":"IF(AC56=\"\",\"\",AE56+AF56)","v":""},{"$f":"IF(AC56=\"\",\"\",VLOOKUP(AC56,LIVRE!$A$8:$AC$315,8))","v":""},{"$f":"IF(AC56=\"\",\"\",VLOOKUP(AC56,LIVRE!$A$8:$AC$315,11))","v":""},{"$f":"IF(AC56=\"\",\"\",AH56+AI56)","v":""}]
[null,null,{"$f":"IF(B57=\"\",\"\",VLOOKUP(B57,LIVRE!$A$8:$AC$315,4))","v":""},{"$f":"IF(B57=\"\",\"\",VLOOKUP(B57,LIVRE!$A$8:$AC$315,7))","v":""},{"$f":"IF(B57=\"\",\"\",VLOOKUP(B57,LIVRE!$A$8:$AC$315,10))","v":""},{"$f":"IF(B57=\"\",\"\",D57+E57)","v":""},{"$f":"IF(B57=\"\",\"\",VLOOKUP(B57,LIVRE!$A$8:$AC$315,8))","v":""},{"$f":"IF(B57=\"\",\"\",VLOOKUP(B57,LIVRE!$A$8:$AC$315,11))","v":""},{"$f":"IF(B57=\"\",\"\",G57+H57)","v":""},null,null,{"$f":"IF(K57=\"\",\"\",VLOOKUP(K57,LIVRE!$A$8:$AC$315,4))","v":""},{"$f":"IF(K57=\"\",\"\",VLOOKUP(K57,LIVRE!$A$8:$AC$315,7))","v":""},{"$f":"IF(K57=\"\",\"\",VLOOKUP(K57,LIVRE!$A$8:$AC$315,10))","v":""},{"$f":"IF(K57=\"\",\"\",M57+N57)","v":""},{"$f":"IF(K57=\"\",\"\",VLOOKUP(K57,LIVRE!$A$8:$AC$315,8))","v":""},{"$f":"IF(K57=\"\",\"\",VLOOKUP(K57,LIVRE!$A$8:$AC$315,11))","v":""},{"$f":"IF(K57=\"\",\"\",P57+Q57)","v":""},null,null,{"$f":"IF(T57=\"\",\"\",VLOOKUP(T57,LIVRE!$A$8:$AC$315,4))","v":""},{"$f":"IF(T57=\"\",\"\",VLOOKUP(T57,LIVRE!$A$8:$AC$315,7))","v":""},{"$f":"IF(T57=\"\",\"\",VLOOKUP(T57,LIVRE!$A$8:$AC$315,10))","v":""},{"$f":"IF(T57=\"\",\"\",V57+W57)","v":""},{"$f":"IF(T57=\"\",\"\",VLOOKUP(T57,LIVRE!$A$8:$AC$315,8))","v":""},{"$f":"IF(T57=\"\",\"\",VLOOKUP(T57,LIVRE!$A$8:$AC$315,11))","v":""},{"$f":"IF(T57=\"\",\"\",Y57+Z57)","v":""},null,null,{"$f":"IF(AC57=\"\",\"\",VLOOKUP(AC57,LIVRE!$A$8:$AC$315,4))","v":""},{"$f":"IF(AC57=\"\",\"\",VLOOKUP(AC57,LIVRE!$A$8:$AC$315,7))","v":""},{"$f":"IF(AC57=\"\",\"\",VLOOKUP(AC57,LIVRE!$A$8:$AC$315,10))","v":""},{"$f":"IF(AC57=\"\",\"\",AE57+AF57)","v":""},{"$f":"IF(AC57=\"\",\"\",VLOOKUP(AC57,LIVRE!$A$8:$AC$315,8))","v":""},{"$f":"IF(AC57=\"\",\"\",VLOOKUP(AC57,LIVRE!$A$8:$AC$315,11))","v":""},{"$f":"IF(AC57=\"\",\"\",AH57+AI57)","v":""}]
[null,null,{"$f":"IF(B58=\"\",\"\",VLOOKUP(B58,LIVRE!$A$8:$AC$315,4))","v":""},{"$f":"IF(B58=\"\",\"\",VLOOKUP(B58,LIVRE!$A$8:$AC$315,7))","v":""},{"$f":"IF(B58=\"\",\"\",VLOOKUP(B58,LIVRE!$A$8:$AC$315,10))","v":""},{"$f":"IF(B58=\"\",\"\",D58+E58)","v":""},{"$f":"IF(B58=\"\",\"\",VLOOKUP(B58,LIVRE!$A$8:$AC$315,8))","v":""},{"$f":"IF(B58=\"\",\"\",VLOOKUP(B58,LIVRE!$A$8:$AC$315,11))","v":""},{"$f":"IF(B58=\"\",\"\",G58+H58)","v":""},null,null,{"$f":"IF(K58=\"\",\"\",VLOOKUP(K58,LIVRE!$A$8:$AC$315,4))","v":""},{"$f":"IF(K58=\"\",\"\",VLOOKUP(K58,LIVRE!$A$8:$AC$315,7))","v":""},{"$f":"IF(K58=\"\",\"\",VLOOKUP(K58,LIVRE!$A$8:$AC$315,10))","v":""},{"$f":"IF(K58=\"\",\"\",M58+N58)","v":""},{"$f":"IF(K58=\"\",\"\",VLOOKUP(K58,LIVRE!$A$8:$AC$315,8))","v":""},{"$f":"IF(K58=\"\",\"\",VLOOKUP(K58,LIVRE!$A$8:$AC$315,11))","v":""},{"$f":"IF(K58=\"\",\"\",P58+Q58)","v":""},null,null,{"$f":"IF(T58=\"\",\"\",VLOOKUP(T58,LIVRE!$A$8:$AC$315,4))","v":""},{"$f":"IF(T58=\"\",\"\",VLOOKUP(T58,LIVRE!$A$8:$AC$315,7))","v":""},{"$f":"IF(T58=\"\",\"\",VLOOKUP(T58,LIVRE!$A$8:$AC$315,10))","v":""},{"$f":"IF(T58=\"\",\"\",V58+W58)","v":""},{"$f":"IF(T58=\"\",\"\",VLOOKUP(T58,LIVRE!$A$8:$AC$315,8))","v":""},{"$f":"IF(T58=\"\",\"\",VLOOKUP(T58,LIVRE!$A$8:$AC$315,11))","v":""},{"$f":"IF(T58=\"\",\"\",Y58+Z58)","v":""},null,null,{"$f":"IF(AC58=\"\",\"\",VLOOKUP(AC58,LIVRE!$A$8:$AC$315,4))","v":""},{"$f":"IF(AC58=\"\",\"\",VLOOKUP(AC58,LIVRE!$A$8:$AC$315,7))","v":""},{"$f":"IF(AC58=\"\",\"\",VLOOKUP(AC58,LIVRE!$A$8:$AC$315,10))","v":""},{"$f":"IF(AC58=\"\",\"\",AE58+AF58)","v":""},{"$f":"IF(AC58=\"\",\"\",VLOOKUP(AC58,LIVRE!$A$8:$AC$315,8))","v":""},{"$f":"IF(AC58=\"\",\"\",VLOOKUP(AC58,LIVRE!$A$8:$AC$315,11))","v":""},{"$f":"IF(AC58=\"\",\"\",AH58+AI58)","v":""}]
[null,null,{"$f":"IF(B59=\"\",\"\",VLOOKUP(B59,LIVRE!$A$8:$AC$315,4))","v":""},{"$f":"IF(B59=\"\",\"\",VLOOKUP(B59,LIVRE!$A$8:$AC$315,7))","v":""},{"$f":"IF(B59=\"\",\"\",VLOOKUP(B59,LIVRE!$A$8:$AC$315,10))","v":""},{"$f":"IF(B59=\"\",\"\",D59+E59)","v":""},{"$f":"IF(B59=\"\",\"\",VLOOKUP(B59,LIVRE!$A$8:$AC$315,8))","v":""},{"$f":"IF(B59=\"\",\"\",VLOOKUP(B59,LIVRE!$A$8:$AC$315,11))","v":""},{"$f":"IF(B59=\"\",\"\",G59+H59)","v":""},null,null,{"$f":"IF(K59=\"\",\"\",VLOOKUP(K59,LIVRE!$A$8:$AC$315,4))","v":""},{"$f":"IF(K59=\"\",\"\",VLOOKUP(K59,LIVRE!$A$8:$AC$315,7))","v":""},{"$f":"IF(K59=\"\",\"\",VLOOKUP(K59,LIVRE!$A$8:$AC$315,10))","v":""},{"$f":"IF(K59=\"\",\"\",M59+N59)","v":""},{"$f":"IF(K59=\"\",\"\",VLOOKUP(K59,LIVRE!$A$8:$AC$315,8))","v":""},{"$f":"IF(K59=\"\",\"\",VLOOKUP(K59,LIVRE!$A$8:$AC$315,11))","v":""},{"$f":"IF(K59=\"\",\"\",P59+Q59)","v":""},null,null,{"$f":"IF(T59=\"\",\"\",VLOOKUP(T59,LIVRE!$A$8:$AC$315,4))","v":""},{"$f":"IF(T59=\"\",\"\",VLOOKUP(T59,LIVRE!$A$8:$AC$315,7))","v":""},{"$f":"IF(T59=\"\",\"\",VLOOKUP(T59,LIVRE!$A$8:$AC$315,10))","v":""},{"$f":"IF(T59=\"\",\"\",V59+W59)","v":""},{"$f":"IF(T59=\"\",\"\",VLOOKUP(T59,LIVRE!$A$8:$AC$315,8))","v":""},{"$f":"IF(T59=\"\",\"\",VLOOKUP(T59,LIVRE!$A$8:$AC$315,11))","v":""},{"$f":"IF(T59=\"\",\"\",Y59+Z59)","v":""},null,null,{"$f":"IF(AC59=\"\",\"\",VLOOKUP(AC59,LIVRE!$A$8:$AC$315,4))","v":""},{"$f":"IF(AC59=\"\",\"\",VLOOKUP(AC59,LIVRE!$A$8:$AC$315,7))","v":""},{"$f":"IF(AC59=\"\",\"\",VLOOKUP(AC59,LIVRE!$A$8:$AC$315,10))","v":""},{"$f":"IF(AC59=\"\",\"\",AE59+AF59)","v":""},{"$f":"IF(AC59=\"\",\"\",VLOOKUP(AC59,LIVRE!$A$8:$AC$315,8))","v":""},{"$f":"IF(AC59=\"\",\"\",VLOOKUP(AC59,LIVRE!$A$8:$AC$315,11))","v":""},{"$f":"IF(AC59=\"\",\"\",AH59+AI59)","v":""}]
[null,null,{"$f":"IF(B60=\"\",\"\",VLOOKUP(B60,LIVRE!$A$8:$AC$315,4))","v":""},{"$f":"IF(B60=\"\",\"\",VLOOKUP(B60,LIVRE!$A$8:$AC$315,7))","v":""},{"$f":"IF(B60=\"\",\"\",VLOOKUP(B60,LIVRE!$A$8:$AC$315,10))","v":""},{"$f":"IF(B60=\"\",\"\",D60+E60)","v":""},{"$f":"IF(B60=\"\",\"\",VLOOKUP(B60,LIVRE!$A$8:$AC$315,8))","v":""},{"$f":"IF(B60=\"\",\"\",VLOOKUP(B60,LIVRE!$A$8:$AC$315,11))","v":""},{"$f":"IF(B60=\"\",\"\",G60+H60)","v":""},null,null,{"$f":"IF(K60=\"\",\"\",VLOOKUP(K60,LIVRE!$A$8:$AC$315,4))","v":""},{"$f":"IF(K60=\"\",\"\",VLOOKUP(K60,LIVRE!$A$8:$AC$315,7))","v":""},{"$f":"IF(K60=\"\",\"\",VLOOKUP(K60,LIVRE!$A$8:$AC$315,10))","v":""},{"$f":"IF(K60=\"\",\"\",M60+N60)","v":""},{"$f":"IF(K60=\"\",\"\",VLOOKUP(K60,LIVRE!$A$8:$AC$315,8))","v":""},{"$f":"IF(K60=\"\",\"\",VLOOKUP(K60,LIVRE!$A$8:$AC$315,11))","v":""},{"$f":"IF(K60=\"\",\"\",P60+Q60)","v":""},null,null,{"$f":"IF(T60=\"\",\"\",VLOOKUP(T60,LIVRE!$A$8:$AC$315,4))","v":""},{"$f":"IF(T60=\"\",\"\",VLOOKUP(T60,LIVRE!$A$8:$AC$315,7))","v":""},{"$f":"IF(T60=\"\",\"\",VLOOKUP(T60,LIVRE!$A$8:$AC$315,10))","v":""},{"$f":"IF(T60=\"\",\"\",V60+W60)","v":""},{"$f":"IF(T60=\"\",\"\",VLOOKUP(T60,LIVRE!$A$8:$AC$315,8))","v":""},{"$f":"IF(T60=\"\",\"\",VLOOKUP(T60,LIVRE!$A$8:$AC$315,11))","v":""},{"$f":"IF(T60=\"\",\"\",Y60+Z60)","v":""},null,null,{"$f":"IF(AC60=\"\",\"\",VLOOKUP(AC60,LIVRE!$A$8:$AC$315,4))","v":""},{"$f":"IF(AC60=\"\",\"\",VLOOKUP(AC60,LIVRE!$A$8:$AC$315,7))","v":""},{"$f":"IF(AC60=\"\",\"\",VLOOKUP(AC60,LIVRE!$A$8:$AC$315,10))","v":""},{"$f":"IF(AC60=\"\",\"\",AE60+AF60)","v":""},{"$f":"IF(AC60=\"\",\"\",VLOOKUP(AC60,LIVRE!$A$8:$AC$315,8))","v":""},{"$f":"IF(AC60=\"\",\"\",VLOOKUP(AC60,LIVRE!$A$8:$AC$315,11))","v":""},{"$f":"IF(AC60=\"\",\"\",AH60+AI60)","v":""}]
[null,null,{"$f":"IF(B61=\"\",\"\",VLOOKUP(B61,LIVRE!$A$8:$AC$315,4))","v":""},{"$f":"IF(B61=\"\",\"\",VLOOKUP(B61,LIVRE!$A$8:$AC$315,7))","v":""},{"$f":"IF(B61=\"\",\"\",VLOOKUP(B61,LIVRE!$A$8:$AC$315,10))","v":""},{"$f":"IF(B61=\"\",\"\",D61+E61)","v":""},{"$f":"IF(B61=\"\",\"\",VLOOKUP(B61,LIVRE!$A$8:$AC$315,8))","v":""},{"$f":"IF(B61=\"\",\"\",VLOOKUP(B61,LIVRE!$A$8:$AC$315,11))","v":""},{"$f":"IF(B61=\"\",\"\",G61+H61)","v":""},null,null,{"$f":"IF(K61=\"\",\"\",VLOOKUP(K61,LIVRE!$A$8:$AC$315,4))","v":""},{"$f":"IF(K61=\"\",\"\",VLOOKUP(K61,LIVRE!$A$8:$AC$315,7))","v":""},{"$f":"IF(K61=\"\",\"\",VLOOKUP(K61,LIVRE!$A$8:$AC$315,10))","v":""},{"$f":"IF(K61=\"\",\"\",M61+N61)","v":""},{"$f":"IF(K61=\"\",\"\",VLOOKUP(K61,LIVRE!$A$8:$AC$315,8))","v":""},{"$f":"IF(K61=\"\",\"\",VLOOKUP(K61,LIVRE!$A$8:$AC$315,11))","v":""},{"$f":"IF(K61=\"\",\"\",P61+Q61)","v":""},null,null,{"$f":"IF(T61=\"\",\"\",VLOOKUP(T61,LIVRE!$A$8:$AC$315,4))","v":""},{"$f":"IF(T61=\"\",\"\",VLOOKUP(T61,LIVRE!$A$8:$AC$315,7))","v":""},{"$f":"IF(T61=\"\",\"\",VLOOKUP(T61,LIVRE!$A$8:$AC$315,10))","v":""},{"$f":"IF(T61=\"\",\"\",V61+W61)","v":""},{"$f":"IF(T61=\"\",\"\",VLOOKUP(T61,LIVRE!$A$8:$AC$315,8))","v":""},{"$f":"IF(T61=\"\",\"\",VLOOKUP(T61,LIVRE!$A$8:$AC$315,11))","v":""},{"$f":"IF(T61=\"\",\"\",Y61+Z61)","v":""},null,null,{"$f":"IF(AC61=\"\",\"\",VLOOKUP(AC61,LIVRE!$A$8:$AC$315,4))","v":""},{"$f":"IF(AC61=\"\",\"\",VLOOKUP(AC61,LIVRE!$A$8:$AC$315,7))","v":""},{"$f":"IF(AC61=\"\",\"\",VLOOKUP(AC61,LIVRE!$A$8:$AC$315,10))","v":""},{"$f":"IF(AC61=\"\",\"\",AE61+AF61)","v":""},{"$f":"IF(AC61=\"\",\"\",VLOOKUP(AC61,LIVRE!$A$8:$AC$315,8))","v":""},{"$f":"IF(AC61=\"\",\"\",VLOOKUP(AC61,LIVRE!$A$8:$AC$315,11))","v":""},{"$f":"IF(AC61=\"\",\"\",AH61+AI61)","v":""}]
[null,null,{"$f":"IF(B62=\"\",\"\",VLOOKUP(B62,LIVRE!$A$8:$AC$315,4))","v":""},{"$f":"IF(B62=\"\",\"\",VLOOKUP(B62,LIVRE!$A$8:$AC$315,7))","v":""},{"$f":"IF(B62=\"\",\"\",VLOOKUP(B62,LIVRE!$A$8:$AC$315,10))","v":""},{"$f":"IF(B62=\"\",\"\",D62+E62)","v":""},{"$f":"IF(B62=\"\",\"\",VLOOKUP(B62,LIVRE!$A$8:$AC$315,8))","v":""},{"$f":"IF(B62=\"\",\"\",VLOOKUP(B62,LIVRE!$A$8:$AC$315,11))","v":""},{"$f":"IF(B62=\"\",\"\",G62+H62)","v":""},null,null,{"$f":"IF(K62=\"\",\"\",VLOOKUP(K62,LIVRE!$A$8:$AC$315,4))","v":""},{"$f":"IF(K62=\"\",\"\",VLOOKUP(K62,LIVRE!$A$8:$AC$315,7))","v":""},{"$f":"IF(K62=\"\",\"\",VLOOKUP(K62,LIVRE!$A$8:$AC$315,10))","v":""},{"$f":"IF(K62=\"\",\"\",M62+N62)","v":""},{"$f":"IF(K62=\"\",\"\",VLOOKUP(K62,LIVRE!$A$8:$AC$315,8))","v":""},{"$f":"IF(K62=\"\",\"\",VLOOKUP(K62,LIVRE!$A$8:$AC$315,11))","v":""},{"$f":"IF(K62=\"\",\"\",P62+Q62)","v":""},null,null,{"$f":"IF(T62=\"\",\"\",VLOOKUP(T62,LIVRE!$A$8:$AC$315,4))","v":""},{"$f":"IF(T62=\"\",\"\",VLOOKUP(T62,LIVRE!$A$8:$AC$315,7))","v":""},{"$f":"IF(T62=\"\",\"\",VLOOKUP(T62,LIVRE!$A$8:$AC$315,10))","v":""},{"$f":"IF(T62=\"\",\"\",V62+W62)","v":""},{"$f":"IF(T62=\"\",\"\",VLOOKUP(T62,LIVRE!$A$8:$AC$315,8))","v":""},{"$f":"IF(T62=\"\",\"\",VLOOKUP(T62,LIVRE!$A$8:$AC$315,11))","v":""},{"$f":"IF(T62=\"\",\"\",Y62+Z62)","v":""},null,null,{"$f":"IF(AC62=\"\",\"\",VLOOKUP(AC62,LIVRE!$A$8:$AC$315,4))","v":""},{"$f":"IF(AC62=\"\",\"\",VLOOKUP(AC62,LIVRE!$A$8:$AC$315,7))","v":""},{"$f":"IF(AC62=\"\",\"\",VLOOKUP(AC62,LIVRE!$A$8:$AC$315,10))","v":""},{"$f":"IF(AC62=\"\",\"\",AE62+AF62)","v":""},{"$f":"IF(AC62=\"\",\"\",VLOOKUP(AC62,LIVRE!$A$8:$AC$315,8))","v":""},{"$f":"IF(AC62=\"\",\"\",VLOOKUP(AC62,LIVRE!$A$8:$AC$315,11))","v":""},{"$f":"IF(AC62=\"\",\"\",AH62+AI62)","v":""}]
[null,null,{"$f":"IF(B63=\"\",\"\",VLOOKUP(B63,LIVRE!$A$8:$AC$315,4))","v":""},{"$f":"IF(B63=\"\",\"\",VLOOKUP(B63,LIVRE!$A$8:$AC$315,7))","v":""},{"$f":"IF(B63=\"\",\"\",VLOOKUP(B63,LIVRE!$A$8:$AC$315,10))","v":""},{"$f":"IF(B63=\"\",\"\",D63+E63)","v":""},{"$f":"IF(B63=\"\",\"\",VLOOKUP(B63,LIVRE!$A$8:$AC$315,8))","v":""},{"$f":"IF(B63=\"\",\"\",VLOOKUP(B63,LIVRE!$A$8:$AC$315,11))","v":""},{"$f":"IF(B63=\"\",\"\",G63+H63)","v":""},null,null,{"$f":"IF(K63=\"\",\"\",VLOOKUP(K63,LIVRE!$A$8:$AC$315,4))","v":""},{"$f":"IF(K63=\"\",\"\",VLOOKUP(K63,LIVRE!$A$8:$AC$315,7))","v":""},{"$f":"IF(K63=\"\",\"\",VLOOKUP(K63,LIVRE!$A$8:$AC$315,10))","v":""},{"$f":"IF(K63=\"\",\"\",M63+N63)","v":""},{"$f":"IF(K63=\"\",\"\",VLOOKUP(K63,LIVRE!$A$8:$AC$315,8))","v":""},{"$f":"IF(K63=\"\",\"\",VLOOKUP(K63,LIVRE!$A$8:$AC$315,11))","v":""},{"$f":"IF(K63=\"\",\"\",P63+Q63)","v":""},null,null,{"$f":"IF(T63=\"\",\"\",VLOOKUP(T63,LIVRE!$A$8:$AC$315,4))","v":""},{"$f":"IF(T63=\"\",\"\",VLOOKUP(T63,LIVRE!$A$8:$AC$315,7))","v":""},{"$f":"IF(T63=\"\",\"\",VLOOKUP(T63,LIVRE!$A$8:$AC$315,10))","v":""},{"$f":"IF(T63=\"\",\"\",V63+W63)","v":""},{"$f":"IF(T63=\"\",\"\",VLOOKUP(T63,LIVRE!$A$8:$AC$315,8))","v":""},{"$f":"IF(T63=\"\",\"\",VLOOKUP(T63,LIVRE!$A$8:$AC$315,11))","v":""},{"$f":"IF(T63=\"\",\"\",Y63+Z63)","v":""},null,null,{"$f":"IF(AC63=\"\",\"\",VLOOKUP(AC63,LIVRE!$A$8:$AC$315,4))","v":""},{"$f":"IF(AC63=\"\",\"\",VLOOKUP(AC63,LIVRE!$A$8:$AC$315,7))","v":""},{"$f":"IF(AC63=\"\",\"\",VLOOKUP(AC63,LIVRE!$A$8:$AC$315,10))","v":""},{"$f":"IF(AC63=\"\",\"\",AE63+AF63)","v":""},{"$f":"IF(AC63=\"\",\"\",VLOOKUP(AC63,LIVRE!$A$8:$AC$315,8))","v":""},{"$f":"IF(AC63=\"\",\"\",VLOOKUP(AC63,LIVRE!$A$8:$AC$315,11))","v":""},{"$f":"IF(AC63=\"\",\"\",AH63+AI63)","v":""}]
[null,null,"Total :",null,null,{"$f":"SUM(F9:F63)","v":0},null,null,{"$f":"SUM(I9:I63)","v":0},null,null,"Total :",null,null,{"$f":"SUM(O9:O63)","v":0},null,null,{"$f":"SUM(R9:R63)","v":0},null,null,"Total :",null,null,{"$f":"SUM(X9:X63)","v":0},null,null,{"$f":"SUM(AA9:AA63)","v":0},null,null,"Total :",null,null,{"$f":"SUM(AG9:AG63)","v":0},null,null,{"$f":"SUM(AJ9:AJ63)","v":0}]

{"sheet":"Projets (suite)","index":6,"n_rows":64,"n_cols":36,"rows_kept":64,"cut":false,"hidden":false,"merged":[[0,2,0,27],[1,5,1,17],[1,23,1,26],[3,5,3,8],[3,14,3,17],[3,23,3,26],[3,32,3,35],[4,5,4,8],[4,14,4,17],[4,23,4,26],[4,32,4,35],[6,1,7,1],[6,10,7,10],[6,19,7,19],[6,28,7,28]]}
[null,null,"GESTION ANALYTIQUE DES PROJETS DE LA COOPERATIVE SCOLAIRE"]
[null,null,"Nom de l'école  :",null,null,{"$f":"Coordonnées!B2&\" \"&\"- \"&Coordonnées!B4","v":"-"},null,null,null,null,null,null,null,null,null,null,null,null,null,null,"Année scolaire :",null,null,{"$f":"Coordonnées!B10&\"/\"&Coordonnées!B11","v":"2023/2024"}]
[]
[null,null,null,null,null,"budget accordé",null,null,null,null,null,null,null,null,"budget accordé",null,null,null,null,null,null,null,null,"budget accordé",null,null,null,null,null,null,null,null,"budget accordé"]
[null,null,"Intitulé de l'action 5 :",null,null,null,null,null,null,null,null,"Intitulé de l'action 6 :",null,null,null,null,null,null,null,null,"Intitulé de l'action 7 :",{"$f":"IF(Q5=\"\",\"\",VLOOKUP(Q5,LIVRE!$A$8:$AC$315,8))","v":""},null,null,null,null,null,null,null,"Intitulé de l'action 8 :",{"$f":"IF(Z5=\"\",\"\",VLOOKUP(Z5,LIVRE!$A$8:$AC$315,8))","v":""}]
[null,"PJ","Nature de l'opération",null,null,"Recettes",null,null,"Dépenses",null,"PJ","Nature de l'opération",null,null,"Recettes",null,null,"Dépenses",null,"PJ","Nature de l'opération",null,null,"Recettes",null,null,"Dépenses",null,"PJ","Nature de l'opération",null,null,"Recettes",null,null,"Dépenses"]
[null,null,"Solde","Entrées Banque","Entrées Caisse","Bilan recettes","Sorties Banque","Sorties Caisse","Bilan dépenses",null,null,"Solde","Entrées Banque","Entrées Caisse","Bilan recettes","Sorties Banque","Sorties Caisse","Bilan dépenses",null,null,"Solde","Entrées Banque","Entrées Caisse","Bilan recettes","Sorties Banque","Sorties Caisse","Bilan dépenses",null,null,"Solde","Entrées Banque","Entrées Caisse","Bilan recettes","Sorties Banque","Sorties Caisse","Bilan dépenses"]
[null,null,{"$f":"F64-I64","v":0},null,null,{"$f":"F64","v":0},null,null,{"$f":"I64","v":0},null,null,{"$f":"O64-R64","v":0},null,null,{"$f":"O64","v":0},null,null,{"$f":"R64","v":0},null,null,{"$f":"X64-AA64","v":0},null,null,{"$f":"X64","v":0},null,null,{"$f":"AA64","v":0},null,null,{"$f":"AG64-AJ64","v":0},null,null,{"$f":"AG64","v":0},null,null,{"$f":"AJ64","v":0}]
[null,null,{"$f":"IF(B9=\"\",\"\",VLOOKUP(B9,LIVRE!$A$8:$AC$315,4))","v":""},{"$f":"IF(B9=\"\",\"\",VLOOKUP(B9,LIVRE!$A$8:$AC$315,7))","v":""},{"$f":"IF(B9=\"\",\"\",VLOOKUP(B9,LIVRE!$A$8:$AC$315,10))","v":""},{"$f":"IF(B9=\"\",\"\",D9+E9)","v":""},{"$f":"IF(B9=\"\",\"\",VLOOKUP(B9,LIVRE!$A$8:$AC$315,8))","v":""},{"$f":"IF(B9=\"\",\"\",VLOOKUP(B9,LIVRE!$A$8:$AC$315,11))","v":""},{"$f":"IF(B9=\"\",\"\",G9+H9)","v":""},null,null,{"$f":"IF(K9=\"\",\"\",VLOOKUP(K9,LIVRE!$A$8:$AC$315,4))","v":""},{"$f":"IF(K9=\"\",\"\",VLOOKUP(K9,LIVRE!$A$8:$AC$315,7))","v":""},{"$f":"IF(K9=\"\",\"\",VLOOKUP(K9,LIVRE!$A$8:$AC$315,10))","v":""},{"$f":"IF(K9=\"\",\"\",M9+N9)","v":""},{"$f":"IF(K9=\"\",\"\",VLOOKUP(K9,LIVRE!$A$8:$AC$315,8))","v":""},{"$f":"IF(K9=\"\",\"\",VLOOKUP(K9,LIVRE!$A$8:$AC$315,11))","v":""},{"$f":"IF(K9=\"\",\"\",P9+Q9)","v":""},null,null,{"$f":"IF(T9=\"\",\"\",VLOOKUP(T9,LIVRE!$A$8:$AC$315,4))","v":""},{"$f":"IF(T9=\"\",\"\",VLOOKUP(T9,LIVRE!$A$8:$AC$315,7))","v":""},{"$f":"IF(T9=\"\",\"\",VLOOKUP(T9,LIVRE!$A$8:$AC$315,10))","v":""},{"$f":"IF(T9=\"\",\"\",V9+W9)","v":""},{"$f":"IF(T9=\"\",\"\",VLOOKUP(T9,LIVRE!$A$8:$AC$315,8))","v":""},{"$f":"IF(T9=\"\",\"\",VLOOKUP(T9,LIVRE!$A$8:$AC$315,11))","v":""},{"$f":"IF(T9=\"\",\"\",Y9+Z9)","v":""},null,null,{"$f":"IF(AC9=\"\",\"\",VLOOKUP(AC9,LIVRE!$A$8:$AC$315,4))","v":""},{"$f":"IF(AC9=\"\",\"\",VLOOKUP(AC9,LIVRE!$A$8:$AC$315,7))","v":""},{"$f":"IF(AC9=\"\",\"\",VLOOKUP(AC9,LIVRE!$A$8:$AC$315,10))","v":""},{"$f":"IF(AC9=\"\",\"\",AE9+AF9)","v":""},{"$f":"IF(AC9=\"\",\"\",VLOOKUP(AC9,LIVRE!$A$8:$AC$315,8))","v":""},{"$f":"IF(AC9=\"\",\"\",VLOOKUP(AC9,LIVRE!$A$8:$AC$315,11))","v":""},{"$f":"IF(AC9=\"\",\"\",AH9+AI9)","v":""}]
[null,null,{"$f":"IF(B10=\"\",\"\",VLOOKUP(B10,LIVRE!$A$8:$AC$315,4))","v":""},{"$f":"IF(B10=\"\",\"\",VLOOKUP(B10,LIVRE!$A$8:$AC$315,7))","v":""},{"$f":"IF(B10=\"\",\"\",VLOOKUP(B10,LIVRE!$A$8:$AC$315,10))","v":""},{"$f":"IF(B10=\"\",\"\",D10+E10)","v":""},{"$f":"IF(B10=\"\",\"\",VLOOKUP(B10,LIVRE!$A$8:$AC$315,8))","v":""},{"$f":"IF(B10=\"\",\"\",VLOOKUP(B10,LIVRE!$A$8:$AC$315,11))","v":""},{"$f":"IF(B10=\"\",\"\",G10+H10)","v":""},null,null,{"$f":"IF(K10=\"\",\"\",VLOOKUP(K10,LIVRE!$A$8:$AC$315,4))","v":""},{"$f":"IF(K10=\"\",\"\",VLOOKUP(K10,LIVRE!$A$8:$AC$315,7))","v":""},{"$f":"IF(K10=\"\",\"\",VLOOKUP(K10,LIVRE!$A$8:$AC$315,10))","v":""},{"$f":"IF(K10=\"\",\"\",M10+N10)","v":""},{"$f":"IF(K10=\"\",\"\",VLOOKUP(K10,LIVRE!$A$8:$AC$315,8))","v":""},{"$f":"IF(K10=\"\",\"\",VLOOKUP(K10,LIVRE!$A$8:$AC$315,11))","v":""},{"$f":"IF(K10=\"\",\"\",P10+Q10)","v":""},null,null,{"$f":"IF(T10=\"\",\"\",VLOOKUP(T10,LIVRE!$A$8:$AC$315,4))","v":""},{"$f":"IF(T10=\"\",\"\",VLOOKUP(T10,LIVRE!$A$8:$AC$315,7))","v":""},{"$f":"IF(T10=\"\",\"\",VLOOKUP(T10,LIVRE!$A$8:$AC$315,10))","v":""},{"$f":"IF(T10=\"\",\"\",V10+W10)","v":""},{"$f":"IF(T10=\"\",\"\",VLOOKUP(T10,LIVRE!$A$8:$AC$315,8))","v":""},{"$f":"IF(T10=\"\",\"\",VLOOKUP(T10,LIVRE!$A$8:$AC$315,11))","v":""},{"$f":"IF(T10=\"\",\"\",Y10+Z10)","v":""},null,null,{"$f":"IF(AC10=\"\",\"\",VLOOKUP(AC10,LIVRE!$A$8:$AC$315,4))","v":""},{"$f":"IF(AC10=\"\",\"\",VLOOKUP(AC10,LIVRE!$A$8:$AC$315,7))","v":""},{"$f":"IF(AC10=\"\",\"\",VLOOKUP(AC10,LIVRE!$A$8:$AC$315,10))","v":""},{"$f":"IF(AC10=\"\",\"\",AE10+AF10)","v":""},{"$f":"IF(AC10=\"\",\"\",VLOOKUP(AC10,LIVRE!$A$8:$AC$315,8))","v":""},{"$f":"IF(AC10=\"\",\"\",VLOOKUP(AC10,LIVRE!$A$8:$AC$315,11))","v":""},{"$f":"IF(AC10=\"\",\"\",AH10+AI10)","v":""}]
[null,null,{"$f":"IF(B11=\"\",\"\",VLOOKUP(B11,LIVRE!$A$8:$AC$315,4))","v":""},{"$f":"IF(B11=\"\",\"\",VLOOKUP(B11,LIVRE!$A$8:$AC$315,7))","v":""},{"$f":"IF(B11=\"\",\"\",VLOOKUP(B11,LIVRE!$A$8:$AC$315,10))","v":""},{"$f":"IF(B11=\"\",\"\",D11+E11)","v":""},{"$f":"IF(B11=\"\",\"\",VLOOKUP(B11,LIVRE!$A$8:$AC$315,8))","v":""},{"$f":"IF(B11=\"\",\"\",VLOOKUP(B11,LIVRE!$A$8:$AC$315,11))","v":""},{"$f":"IF(B11=\"\",\"\",G11+H11)","v":""},null,null,{"$f":"IF(K11=\"\",\"\",VLOOKUP(K11,LIVRE!$A$8:$AC$315,4))","v":""},{"$f":"IF(K11=\"\",\"\",VLOOKUP(K11,LIVRE!$A$8:$AC$315,7))","v":""},{"$f":"IF(K11=\"\",\"\",VLOOKUP(K11,LIVRE!$A$8:$AC$315,10))","v":""},{"$f":"IF(K11=\"\",\"\",M11+N11)","v":""},{"$f":"IF(K11=\"\",\"\",VLOOKUP(K11,LIVRE!$A$8:$AC$315,8))","v":""},{"$f":"IF(K11=\"\",\"\",VLOOKUP(K11,LIVRE!$A$8:$AC$315,11))","v":""},{"$f":"IF(K11=\"\",\"\",P11+Q11)","v":""},null,null,{"$f":"IF(T11=\"\",\"\",VLOOKUP(T11,LIVRE!$A$8:$AC$315,4))","v":""},{"$f":"IF(T11=\"\",\"\",VLOOKUP(T11,LIVRE!$A$8:$AC$315,7))","v":""},{"$f":"IF(T11=\"\",\"\",VLOOKUP(T11,LIVRE!$A$8:$AC$315,10))","v":""},{"$f":"IF(T11=\"\",\"\",V11+W11)","v":""},{"$f":"IF(T11=\"\",\"\",VLOOKUP(T11,LIVRE!$A$8:$AC$315,8))","v":""},{"$f":"IF(T11=\"\",\"\",VLOOKUP(T11,LIVRE!$A$8:$AC$315,11))","v":""},{"$f":"IF(T11=\"\",\"\",Y11+Z11)","v":""},null,null,{"$f":"IF(AC11=\"\",\"\",VLOOKUP(AC11,LIVRE!$A$8:$AC$315,4))","v":""},{"$f":"IF(AC11=\"\",\"\",VLOOKUP(AC11,LIVRE!$A$8:$AC$315,7))","v":""},{"$f":"IF(AC11=\"\",\"\",VLOOKUP(AC11,LIVRE!$A$8:$AC$315,10))","v":""},{"$f":"IF(AC11=\"\",\"\",AE11+AF11)","v":""},{"$f":"IF(AC11=\"\",\"\",VLOOKUP(AC11,LIVRE!$A$8:$AC$315,8))","v":""},{"$f":"IF(AC11=\"\",\"\",VLOOKUP(AC11,LIVRE!$A$8:$AC$315,11))","v":""},{"$f":"IF(AC11=\"\",\"\",AH11+AI11)","v":""}]
[null,null,{"$f":"IF(B12=\"\",\"\",VLOOKUP(B12,LIVRE!$A$8:$AC$315,4))","v":""},{"$f":"IF(B12=\"\",\"\",VLOOKUP(B12,LIVRE!$A$8:$AC$315,7))","v":""},{"$f":"IF(B12=\"\",\"\",VLOOKUP(B12,LIVRE!$A$8:$AC$315,10))","v":""},{"$f":"IF(B12=\"\",\"\",D12+E12)","v":""},{"$f":"IF(B12=\"\",\"\",VLOOKUP(B12,LIVRE!$A$8:$AC$315,8))","v":""},{"$f":"IF(B12=\"\",\"\",VLOOKUP(B12,LIVRE!$A$8:$AC$315,11))","v":""},{"$f":"IF(B12=\"\",\"\",G12+H12)","v":""},null,null,{"$f":"IF(K12=\"\",\"\",VLOOKUP(K12,LIVRE!$A$8:$AC$315,4))","v":""},{"$f":"IF(K12=\"\",\"\",VLOOKUP(K12,LIVRE!$A$8:$AC$315,7))","v":""},{"$f":"IF(K12=\"\",\"\",VLOOKUP(K12,LIVRE!$A$8:$AC$315,10))","v":""},{"$f":"IF(K12=\"\",\"\",M12+N12)","v":""},{"$f":"IF(K12=\"\",\"\",VLOOKUP(K12,LIVRE!$A$8:$AC$315,8))","v":""},{"$f":"IF(K12=\"\",\"\",VLOOKUP(K12,LIVRE!$A$8:$AC$315,11))","v":""},{"$f":"IF(K12=\"\",\"\",P12+Q12)","v":""},null,null,{"$f":"IF(T12=\"\",\"\",VLOOKUP(T12,LIVRE!$A$8:$AC$315,4))","v":""},{"$f":"IF(T12=\"\",\"\",VLOOKUP(T12,LIVRE!$A$8:$AC$315,7))","v":""},{"$f":"IF(T12=\"\",\"\",VLOOKUP(T12,LIVRE!$A$8:$AC$315,10))","v":""},{"$f":"IF(T12=\"\",\"\",V12+W12)","v":""},{"$f":"IF(T12=\"\",\"\",VLOOKUP(T12,LIVRE!$A$8:$AC$315,8))","v":""},{"$f":"IF(T12=\"\",\"\",VLOOKUP(T12,LIVRE!$A$8:$AC$315,11))","v":""},{"$f":"IF(T12=\"\",\"\",Y12+Z12)","v":""},null,null,{"$f":"IF(AC12=\"\",\"\",VLOOKUP(AC12,LIVRE!$A$8:$AC$315,4))","v":""},{"$f":"IF(AC12=\"\",\"\",VLOOKUP(AC12,LIVRE!$A$8:$AC$315,7))","v":""},{"$f":"IF(AC12=\"\",\"\",VLOOKUP(AC12,LIVRE!$A$8:$AC$315,10))","v":""},{"$f":"IF(AC12=\"\",\"\",AE12+AF12)","v":""},{"$f":"IF(AC12=\"\",\"\",VLOOKUP(AC12,LIVRE!$A$8:$AC$315,8))","v":""},{"$f":"IF(AC12=\"\",\"\",VLOOKUP(AC12,LIVRE!$A$8:$AC$315,11))","v":""},{"$f":"IF(AC12=\"\",\"\",AH12+AI12)","v":""}]
[null,null,{"$f":"IF(B13=\"\",\"\",VLOOKUP(B13,LIVRE!$A$8:$AC$315,4))","v":""},{"$f":"IF(B13=\"\",\"\",VLOOKUP(B13,LIVRE!$A$8:$AC$315,7))","v":""},{"$f":"IF(B13=\"\",\"\",VLOOKUP(B13,LIVRE!$A$8:$AC$315,10))","v":""},{"$f":"IF(B13=\"\",\"\",D13+E13)","v":""},{"$f":"IF(B13=\"\",\"\",VLOOKUP(B13,LIVRE!$A$8:$AC$315,8))","v":""},{"$f":"IF(B13=\"\",\"\",VLOOKUP(B13,LIVRE!$A$8:$AC$315,11))","v":""},{"$f":"IF(B13=\"\",\"\",G13+H13)","v":""},null,null,{"$f":"IF(K13=\"\",\"\",VLOOKUP(K13,LIVRE!$A$8:$AC$315,4))","v":""},{"$f":"IF(K13=\"\",\"\",VLOOKUP(K13,LIVRE!$A$8:$AC$315,7))","v":""},{"$f":"IF(K13=\"\",\"\",VLOOKUP(K13,LIVRE!$A$8:$AC$315,10))","v":""},{"$f":"IF(K13=\"\",\"\",M13+N13)","v":""},{"$f":"IF(K13=\"\",\"\",VLOOKUP(K13,LIVRE!$A$8:$AC$315,8))","v":""},{"$f":"IF(K13=\"\",\"\",VLOOKUP(K13,LIVRE!$A$8:$AC$315,11))","v":""},{"$f":"IF(K13=\"\",\"\",P13+Q13)","v":""},null,null,{"$f":"IF(T13=\"\",\"\",VLOOKUP(T13,LIVRE!$A$8:$AC$315,4))","v":""},{"$f":"IF(T13=\"\",\"\",VLOOKUP(T13,LIVRE!$A$8:$AC$315,7))","v":""},{"$f":"IF(T13=\"\",\"\",VLOOKUP(T13,LIVRE!$A$8:$AC$315,10))","v":""},{"$f":"IF(T13=\"\",\"\",V13+W13)","v":""},{"$f":"IF(T13=\"\",\"\",VLOOKUP(T13,LIVRE!$A$8:$AC$315,8))","v":""},{"$f":"IF(T13=\"\",\"\",VLOOKUP(T13,LIVRE!$A$8:$AC$315,11))","v":""},{"$f":"IF(T13=\"\",\"\",Y13+Z13)","v":""},null,null,{"$f":"IF(AC13=\"\",\"\",VLOOKUP(AC13,LIVRE!$A$8:$AC$315,4))","v":""},{"$f":"IF(AC13=\"\",\"\",VLOOKUP(AC13,LIVRE!$A$8:$AC$315,7))","v":""},{"$f":"IF(AC13=\"\",\"\",VLOOKUP(AC13,LIVRE!$A$8:$AC$315,10))","v":""},{"$f":"IF(AC13=\"\",\"\",AE13+AF13)","v":""},{"$f":"IF(AC13=\"\",\"\",VLOOKUP(AC13,LIVRE!$A$8:$AC$315,8))","v":""},{"$f":"IF(AC13=\"\",\"\",VLOOKUP(AC13,LIVRE!$A$8:$AC$315,11))","v":""},{"$f":"IF(AC13=\"\",\"\",AH13+AI13)","v":""}]
[null,null,{"$f":"IF(B14=\"\",\"\",VLOOKUP(B14,LIVRE!$A$8:$AC$315,4))","v":""},{"$f":"IF(B14=\"\",\"\",VLOOKUP(B14,LIVRE!$A$8:$AC$315,7))","v":""},{"$f":"IF(B14=\"\",\"\",VLOOKUP(B14,LIVRE!$A$8:$AC$315,10))","v":""},{"$f":"IF(B14=\"\",\"\",D14+E14)","v":""},{"$f":"IF(B14=\"\",\"\",VLOOKUP(B14,LIVRE!$A$8:$AC$315,8))","v":""},{"$f":"IF(B14=\"\",\"\",VLOOKUP(B14,LIVRE!$A$8:$AC$315,11))","v":""},{"$f":"IF(B14=\"\",\"\",G14+H14)","v":""},null,null,{"$f":"IF(K14=\"\",\"\",VLOOKUP(K14,LIVRE!$A$8:$AC$315,4))","v":""},{"$f":"IF(K14=\"\",\"\",VLOOKUP(K14,LIVRE!$A$8:$AC$315,7))","v":""},{"$f":"IF(K14=\"\",\"\",VLOOKUP(K14,LIVRE!$A$8:$AC$315,10))","v":""},{"$f":"IF(K14=\"\",\"\",M14+N14)","v":""},{"$f":"IF(K14=\"\",\"\",VLOOKUP(K14,LIVRE!$A$8:$AC$315,8))","v":""},{"$f":"IF(K14=\"\",\"\",VLOOKUP(K14,LIVRE!$A$8:$AC$315,11))","v":""},{"$f":"IF(K14=\"\",\"\",P14+Q14)","v":""},null,null,{"$f":"IF(T14=\"\",\"\",VLOOKUP(T14,LIVRE!$A$8:$AC$315,4))","v":""},{"$f":"IF(T14=\"\",\"\",VLOOKUP(T14,LIVRE!$A$8:$AC$315,7))","v":""},{"$f":"IF(T14=\"\",\"\",VLOOKUP(T14,LIVRE!$A$8:$AC$315,10))","v":""},{"$f":"IF(T14=\"\",\"\",V14+W14)","v":""},{"$f":"IF(T14=\"\",\"\",VLOOKUP(T14,LIVRE!$A$8:$AC$315,8))","v":""},{"$f":"IF(T14=\"\",\"\",VLOOKUP(T14,LIVRE!$A$8:$AC$315,11))","v":""},{"$f":"IF(T14=\"\",\"\",Y14+Z14)","v":""},null,null,{"$f":"IF(AC14=\"\",\"\",VLOOKUP(AC14,LIVRE!$A$8:$AC$315,4))","v":""},{"$f":"IF(AC14=\"\",\"\",VLOOKUP(AC14,LIVRE!$A$8:$AC$315,7))","v":""},{"$f":"IF(AC14=\"\",\"\",VLOOKUP(AC14,LIVRE!$A$8:$AC$315,10))","v":""},{"$f":"IF(AC14=\"\",\"\",AE14+AF14)","v":""},{"$f":"IF(AC14=\"\",\"\",VLOOKUP(AC14,LIVRE!$A$8:$AC$315,8))","v":""},{"$f":"IF(AC14=\"\",\"\",VLOOKUP(AC14,LIVRE!$A$8:$AC$315,11))","v":""},{"$f":"IF(AC14=\"\",\"\",AH14+AI14)","v":""}]
[null,null,{"$f":"IF(B15=\"\",\"\",VLOOKUP(B15,LIVRE!$A$8:$AC$315,4))","v":""},{"$f":"IF(B15=\"\",\"\",VLOOKUP(B15,LIVRE!$A$8:$AC$315,7))","v":""},{"$f":"IF(B15=\"\",\"\",VLOOKUP(B15,LIVRE!$A$8:$AC$315,10))","v":""},{"$f":"IF(B15=\"\",\"\",D15+E15)","v":""},{"$f":"IF(B15=\"\",\"\",VLOOKUP(B15,LIVRE!$A$8:$AC$315,8))","v":""},{"$f":"IF(B15=\"\",\"\",VLOOKUP(B15,LIVRE!$A$8:$AC$315,11))","v":""},{"$f":"IF(B15=\"\",\"\",G15+H15)","v":""},null,null,{"$f":"IF(K15=\"\",\"\",VLOOKUP(K15,LIVRE!$A$8:$AC$315,4))","v":""},{"$f":"IF(K15=\"\",\"\",VLOOKUP(K15,LIVRE!$A$8:$AC$315,7))","v":""},{"$f":"IF(K15=\"\",\"\",VLOOKUP(K15,LIVRE!$A$8:$AC$315,10))","v":""},{"$f":"IF(K15=\"\",\"\",M15+N15)","v":""},{"$f":"IF(K15=\"\",\"\",VLOOKUP(K15,LIVRE!$A$8:$AC$315,8))","v":""},{"$f":"IF(K15=\"\",\"\",VLOOKUP(K15,LIVRE!$A$8:$AC$315,11))","v":""},{"$f":"IF(K15=\"\",\"\",P15+Q15)","v":""},null,null,{"$f":"IF(T15=\"\",\"\",VLOOKUP(T15,LIVRE!$A$8:$AC$315,4))","v":""},{"$f":"IF(T15=\"\",\"\",VLOOKUP(T15,LIVRE!$A$8:$AC$315,7))","v":""},{"$f":"IF(T15=\"\",\"\",VLOOKUP(T15,LIVRE!$A$8:$AC$315,10))","v":""},{"$f":"IF(T15=\"\",\"\",V15+W15)","v":""},{"$f":"IF(T15=\"\",\"\",VLOOKUP(T15,LIVRE!$A$8:$AC$315,8))","v":""},{"$f":"IF(T15=\"\",\"\",VLOOKUP(T15,LIVRE!$A$8:$AC$315,11))","v":""},{"$f":"IF(T15=\"\",\"\",Y15+Z15)","v":""},null,null,{"$f":"IF(AC15=\"\",\"\",VLOOKUP(AC15,LIVRE!$A$8:$AC$315,4))","v":""},{"$f":"IF(AC15=\"\",\"\",VLOOKUP(AC15,LIVRE!$A$8:$AC$315,7))","v":""},{"$f":"IF(AC15=\"\",\"\",VLOOKUP(AC15,LIVRE!$A$8:$AC$315,10))","v":""},{"$f":"IF(AC15=\"\",\"\",AE15+AF15)","v":""},{"$f":"IF(AC15=\"\",\"\",VLOOKUP(AC15,LIVRE!$A$8:$AC$315,8))","v":""},{"$f":"IF(AC15=\"\",\"\",VLOOKUP(AC15,LIVRE!$A$8:$AC$315,11))","v":""},{"$f":"IF(AC15=\"\",\"\",AH15+AI15)","v":""}]
[null,null,{"$f":"IF(B16=\"\",\"\",VLOOKUP(B16,LIVRE!$A$8:$AC$315,4))","v":""},{"$f":"IF(B16=\"\",\"\",VLOOKUP(B16,LIVRE!$A$8:$AC$315,7))","v":""},{"$f":"IF(B16=\"\",\"\",VLOOKUP(B16,LIVRE!$A$8:$AC$315,10))","v":""},{"$f":"IF(B16=\"\",\"\",D16+E16)","v":""},{"$f":"IF(B16=\"\",\"\",VLOOKUP(B16,LIVRE!$A$8:$AC$315,8))","v":""},{"$f":"IF(B16=\"\",\"\",VLOOKUP(B16,LIVRE!$A$8:$AC$315,11))","v":""},{"$f":"IF(B16=\"\",\"\",G16+H16)","v":""},null,null,{"$f":"IF(K16=\"\",\"\",VLOOKUP(K16,LIVRE!$A$8:$AC$315,4))","v":""},{"$f":"IF(K16=\"\",\"\",VLOOKUP(K16,LIVRE!$A$8:$AC$315,7))","v":""},{"$f":"IF(K16=\"\",\"\",VLOOKUP(K16,LIVRE!$A$8:$AC$315,10))","v":""},{"$f":"IF(K16=\"\",\"\",M16+N16)","v":""},{"$f":"IF(K16=\"\",\"\",VLOOKUP(K16,LIVRE!$A$8:$AC$315,8))","v":""},{"$f":"IF(K16=\"\",\"\",VLOOKUP(K16,LIVRE!$A$8:$AC$315,11))","v":""},{"$f":"IF(K16=\"\",\"\",P16+Q16)","v":""},null,null,{"$f":"IF(T16=\"\",\"\",VLOOKUP(T16,LIVRE!$A$8:$AC$315,4))","v":""},{"$f":"IF(T16=\"\",\"\",VLOOKUP(T16,LIVRE!$A$8:$AC$315,7))","v":""},{"$f":"IF(T16=\"\",\"\",VLOOKUP(T16,LIVRE!$A$8:$AC$315,10))","v":""},{"$f":"IF(T16=\"\",\"\",V16+W16)","v":""},{"$f":"IF(T16=\"\",\"\",VLOOKUP(T16,LIVRE!$A$8:$AC$315,8))","v":""},{"$f":"IF(T16=\"\",\"\",VLOOKUP(T16,LIVRE!$A$8:$AC$315,11))","v":""},{"$f":"IF(T16=\"\",\"\",Y16+Z16)","v":""},null,null,{"$f":"IF(AC16=\"\",\"\",VLOOKUP(AC16,LIVRE!$A$8:$AC$315,4))","v":""},{"$f":"IF(AC16=\"\",\"\",VLOOKUP(AC16,LIVRE!$A$8:$AC$315,7))","v":""},{"$f":"IF(AC16=\"\",\"\",VLOOKUP(AC16,LIVRE!$A$8:$AC$315,10))","v":""},{"$f":"IF(AC16=\"\",\"\",AE16+AF16)","v":""},{"$f":"IF(AC16=\"\",\"\",VLOOKUP(AC16,LIVRE!$A$8:$AC$315,8))","v":""},{"$f":"IF(AC16=\"\",\"\",VLOOKUP(AC16,LIVRE!$A$8:$AC$315,11))","v":""},{"$f":"IF(AC16=\"\",\"\",AH16+AI16)","v":""}]
[null,null,{"$f":"IF(B17=\"\",\"\",VLOOKUP(B17,LIVRE!$A$8:$AC$315,4))","v":""},{"$f":"IF(B17=\"\",\"\",VLOOKUP(B17,LIVRE!$A$8:$AC$315,7))","v":""},{"$f":"IF(B17=\"\",\"\",VLOOKUP(B17,LIVRE!$A$8:$AC$315,10))","v":""},{"$f":"IF(B17=\"\",\"\",D17+E17)","v":""},{"$f":"IF(B17=\"\",\"\",VLOOKUP(B17,LIVRE!$A$8:$AC$315,8))","v":""},{"$f":"IF(B17=\"\",\"\",VLOOKUP(B17,LIVRE!$A$8:$AC$315,11))","v":""},{"$f":"IF(B17=\"\",\"\",G17+H17)","v":""},null,null,{"$f":"IF(K17=\"\",\"\",VLOOKUP(K17,LIVRE!$A$8:$AC$315,4))","v":""},{"$f":"IF(K17=\"\",\"\",VLOOKUP(K17,LIVRE!$A$8:$AC$315,7))","v":""},{"$f":"IF(K17=\"\",\"\",VLOOKUP(K17,LIVRE!$A$8:$AC$315,10))","v":""},{"$f":"IF(K17=\"\",\"\",M17+N17)","v":""},{"$f":"IF(K17=\"\",\"\",VLOOKUP(K17,LIVRE!$A$8:$AC$315,8))","v":""},{"$f":"IF(K17=\"\",\"\",VLOOKUP(K17,LIVRE!$A$8:$AC$315,11))","v":""},{"$f":"IF(K17=\"\",\"\",P17+Q17)","v":""},null,null,{"$f":"IF(T17=\"\",\"\",VLOOKUP(T17,LIVRE!$A$8:$AC$315,4))","v":""},{"$f":"IF(T17=\"\",\"\",VLOOKUP(T17,LIVRE!$A$8:$AC$315,7))","v":""},{"$f":"IF(T17=\"\",\"\",VLOOKUP(T17,LIVRE!$A$8:$AC$315,10))","v":""},{"$f":"IF(T17=\"\",\"\",V17+W17)","v":""},{"$f":"IF(T17=\"\",\"\",VLOOKUP(T17,LIVRE!$A$8:$AC$315,8))","v":""},{"$f":"IF(T17=\"\",\"\",VLOOKUP(T17,LIVRE!$A$8:$AC$315,11))","v":""},{"$f":"IF(T17=\"\",\"\",Y17+Z17)","v":""},null,null,{"$f":"IF(AC17=\"\",\"\",VLOOKUP(AC17,LIVRE!$A$8:$AC$315,4))","v":""},{"$f":"IF(AC17=\"\",\"\",VLOOKUP(AC17,LIVRE!$A$8:$AC$315,7))","v":""},{"$f":"IF(AC17=\"\",\"\",VLOOKUP(AC17,LIVRE!$A$8:$AC$315,10))","v":""},{"$f":"IF(AC17=\"\",\"\",AE17+AF17)","v":""},{"$f":"IF(AC17=\"\",\"\",VLOOKUP(AC17,LIVRE!$A$8:$AC$315,8))","v":""},{"$f":"IF(AC17=\"\",\"\",VLOOKUP(AC17,LIVRE!$A$8:$AC$315,11))","v":""},{"$f":"IF(AC17=\"\",\"\",AH17+AI17)","v":""}]
[null,null,{"$f":"IF(B18=\"\",\"\",VLOOKUP(B18,LIVRE!$A$8:$AC$315,4))","v":""},{"$f":"IF(B18=\"\",\"\",VLOOKUP(B18,LIVRE!$A$8:$AC$315,7))","v":""},{"$f":"IF(B18=\"\",\"\",VLOOKUP(B18,LIVRE!$A$8:$AC$315,10))","v":""},{"$f":"IF(B18=\"\",\"\",D18+E18)","v":""},{"$f":"IF(B18=\"\",\"\",VLOOKUP(B18,LIVRE!$A$8:$AC$315,8))","v":""},{"$f":"IF(B18=\"\",\"\",VLOOKUP(B18,LIVRE!$A$8:$AC$315,11))","v":""},{"$f":"IF(B18=\"\",\"\",G18+H18)","v":""},null,null,{"$f":"IF(K18=\"\",\"\",VLOOKUP(K18,LIVRE!$A$8:$AC$315,4))","v":""},{"$f":"IF(K18=\"\",\"\",VLOOKUP(K18,LIVRE!$A$8:$AC$315,7))","v":""},{"$f":"IF(K18=\"\",\"\",VLOOKUP(K18,LIVRE!$A$8:$AC$315,10))","v":""},{"$f":"IF(K18=\"\",\"\",M18+N18)","v":""},{"$f":"IF(K18=\"\",\"\",VLOOKUP(K18,LIVRE!$A$8:$AC$315,8))","v":""},{"$f":"IF(K18=\"\",\"\",VLOOKUP(K18,LIVRE!$A$8:$AC$315,11))","v":""},{"$f":"IF(K18=\"\",\"\",P18+Q18)","v":""},null,null,{"$f":"IF(T18=\"\",\"\",VLOOKUP(T18,LIVRE!$A$8:$AC$315,4))","v":""},{"$f":"IF(T18=\"\",\"\",VLOOKUP(T18,LIVRE!$A$8:$AC$315,7))","v":""},{"$f":"IF(T18=\"\",\"\",VLOOKUP(T18,LIVRE!$A$8:$AC$315,10))","v":""},{"$f":"IF(T18=\"\",\"\",V18+W18)","v":""},{"$f":"IF(T18=\"\",\"\",VLOOKUP(T18,LIVRE!$A$8:$AC$315,8))","v":""},{"$f":"IF(T18=\"\",\"\",VLOOKUP(T18,LIVRE!$A$8:$AC$315,11))","v":""},{"$f":"IF(T18=\"\",\"\",Y18+Z18)","v":""},null,null,{"$f":"IF(AC18=\"\",\"\",VLOOKUP(AC18,LIVRE!$A$8:$AC$315,4))","v":""},{"$f":"IF(AC18=\"\",\"\",VLOOKUP(AC18,LIVRE!$A$8:$AC$315,7))","v":""},{"$f":"IF(AC18=\"\",\"\",VLOOKUP(AC18,LIVRE!$A$8:$AC$315,10))","v":""},{"$f":"IF(AC18=\"\",\"\",AE18+AF18)","v":""},{"$f":"IF(AC18=\"\",\"\",VLOOKUP(AC18,LIVRE!$A$8:$AC$315,8))","v":""},{"$f":"IF(AC18=\"\",\"\",VLOOKUP(AC18,LIVRE!$A$8:$AC$315,11))","v":""},{"$f":"IF(AC18=\"\",\"\",AH18+AI18)","v":""}]
[null,null,{"$f":"IF(B19=\"\",\"\",VLOOKUP(B19,LIVRE!$A$8:$AC$315,4))","v":""},{"$f":"IF(B19=\"\",\"\",VLOOKUP(B19,LIVRE!$A$8:$AC$315,7))","v":""},{"$f":"IF(B19=\"\",\"\",VLOOKUP(B19,LIVRE!$A$8:$AC$315,10))","v":""},{"$f":"IF(B19=\"\",\"\",D19+E19)","v":""},{"$f":"IF(B19=\"\",\"\",VLOOKUP(B19,LIVRE!$A$8:$AC$315,8))","v":""},{"$f":"IF(B19=\"\",\"\",VLOOKUP(B19,LIVRE!$A$8:$AC$315,11))","v":""},{"$f":"IF(B19=\"\",\"\",G19+H19)","v":""},null,null,{"$f":"IF(K19=\"\",\"\",VLOOKUP(K19,LIVRE!$A$8:$AC$315,4))","v":""},{"$f":"IF(K19=\"\",\"\",VLOOKUP(K19,LIVRE!$A$8:$AC$315,7))","v":""},{"$f":"IF(K19=\"\",\"\",VLOOKUP(K19,LIVRE!$A$8:$AC$315,10))","v":""},{"$f":"IF(K19=\"\",\"\",M19+N19)","v":""},{"$f":"IF(K19=\"\",\"\",VLOOKUP(K19,LIVRE!$A$8:$AC$315,8))","v":""},{"$f":"IF(K19=\"\",\"\",VLOOKUP(K19,LIVRE!$A$8:$AC$315,11))","v":""},{"$f":"IF(K19=\"\",\"\",P19+Q19)","v":""},null,null,{"$f":"IF(T19=\"\",\"\",VLOOKUP(T19,LIVRE!$A$8:$AC$315,4))","v":""},{"$f":"IF(T19=\"\",\"\",VLOOKUP(T19,LIVRE!$A$8:$AC$315,7))","v":""},{"$f":"IF(T19=\"\",\"\",VLOOKUP(T19,LIVRE!$A$8:$AC$315,10))","v":""},{"$f":"IF(T19=\"\",\"\",V19+W19)","v":""},{"$f":"IF(T19=\"\",\"\",VLOOKUP(T19,LIVRE!$A$8:$AC$315,8))","v":""},{"$f":"IF(T19=\"\",\"\",VLOOKUP(T19,LIVRE!$A$8:$AC$315,11))","v":""},{"$f":"IF(T19=\"\",\"\",Y19+Z19)","v":""},null,null,{"$f":"IF(AC19=\"\",\"\",VLOOKUP(AC19,LIVRE!$A$8:$AC$315,4))","v":""},{"$f":"IF(AC19=\"\",\"\",VLOOKUP(AC19,LIVRE!$A$8:$AC$315,7))","v":""},{"$f":"IF(AC19=\"\",\"\",VLOOKUP(AC19,LIVRE!$A$8:$AC$315,10))","v":""},{"$f":"IF(AC19=\"\",\"\",AE19+AF19)","v":""},{"$f":"IF(AC19=\"\",\"\",VLOOKUP(AC19,LIVRE!$A$8:$AC$315,8))","v":""},{"$f":"IF(AC19=\"\",\"\",VLOOKUP(AC19,LIVRE!$A$8:$AC$315,11))","v":""},{"$f":"IF(AC19=\"\",\"\",AH19+AI19)","v":""}]
[null,null,{"$f":"IF(B20=\"\",\"\",VLOOKUP(B20,LIVRE!$A$8:$AC$315,4))","v":""},{"$f":"IF(B20=\"\",\"\",VLOOKUP(B20,LIVRE!$A$8:$AC$315,7))","v":""},{"$f":"IF(B20=\"\",\"\",VLOOKUP(B20,LIVRE!$A$8:$AC$315,10))","v":""},{"$f":"IF(B20=\"\",\"\",D20+E20)","v":""},{"$f":"IF(B20=\"\",\"\",VLOOKUP(B20,LIVRE!$A$8:$AC$315,8))","v":""},{"$f":"IF(B20=\"\",\"\",VLOOKUP(B20,LIVRE!$A$8:$AC$315,11))","v":""},{"$f":"IF(B20=\"\",\"\",G20+H20)","v":""},null,null,{"$f":"IF(K20=\"\",\"\",VLOOKUP(K20,LIVRE!$A$8:$AC$315,4))","v":""},{"$f":"IF(K20=\"\",\"\",VLOOKUP(K20,LIVRE!$A$8:$AC$315,7))","v":""},{"$f":"IF(K20=\"\",\"\",VLOOKUP(K20,LIVRE!$A$8:$AC$315,10))","v":""},{"$f":"IF(K20=\"\",\"\",M20+N20)","v":""},{"$f":"IF(K20=\"\",\"\",VLOOKUP(K20,LIVRE!$A$8:$AC$315,8))","v":""},{"$f":"IF(K20=\"\",\"\",VLOOKUP(K20,LIVRE!$A$8:$AC$315,11))","v":""},{"$f":"IF(K20=\"\",\"\",P20+Q20)","v":""},null,null,{"$f":"IF(T20=\"\",\"\",VLOOKUP(T20,LIVRE!$A$8:$AC$315,4))","v":""},{"$f":"IF(T20=\"\",\"\",VLOOKUP(T20,LIVRE!$A$8:$AC$315,7))","v":""},{"$f":"IF(T20=\"\",\"\",VLOOKUP(T20,LIVRE!$A$8:$AC$315,10))","v":""},{"$f":"IF(T20=\"\",\"\",V20+W20)","v":""},{"$f":"IF(T20=\"\",\"\",VLOOKUP(T20,LIVRE!$A$8:$AC$315,8))","v":""},{"$f":"IF(T20=\"\",\"\",VLOOKUP(T20,LIVRE!$A$8:$AC$315,11))","v":""},{"$f":"IF(T20=\"\",\"\",Y20+Z20)","v":""},null,null,{"$f":"IF(AC20=\"\",\"\",VLOOKUP(AC20,LIVRE!$A$8:$AC$315,4))","v":""},{"$f":"IF(AC20=\"\",\"\",VLOOKUP(AC20,LIVRE!$A$8:$AC$315,7))","v":""},{"$f":"IF(AC20=\"\",\"\",VLOOKUP(AC20,LIVRE!$A$8:$AC$315,10))","v":""},{"$f":"IF(AC20=\"\",\"\",AE20+AF20)","v":""},{"$f":"IF(AC20=\"\",\"\",VLOOKUP(AC20,LIVRE!$A$8:$AC$315,8))","v":""},{"$f":"IF(AC20=\"\",\"\",VLOOKUP(AC20,LIVRE!$A$8:$AC$315,11))","v":""},{"$f":"IF(AC20=\"\",\"\",AH20+AI20)","v":""}]
[null,null,{"$f":"IF(B21=\"\",\"\",VLOOKUP(B21,LIVRE!$A$8:$AC$315,4))","v":""},{"$f":"IF(B21=\"\",\"\",VLOOKUP(B21,LIVRE!$A$8:$AC$315,7))","v":""},{"$f":"IF(B21=\"\",\"\",VLOOKUP(B21,LIVRE!$A$8:$AC$315,10))","v":""},{"$f":"IF(B21=\"\",\"\",D21+E21)","v":""},{"$f":"IF(B21=\"\",\"\",VLOOKUP(B21,LIVRE!$A$8:$AC$315,8))","v":""},{"$f":"IF(B21=\"\",\"\",VLOOKUP(B21,LIVRE!$A$8:$AC$315,11))","v":""},{"$f":"IF(B21=\"\",\"\",G21+H21)","v":""},null,null,{"$f":"IF(K21=\"\",\"\",VLOOKUP(K21,LIVRE!$A$8:$AC$315,4))","v":""},{"$f":"IF(K21=\"\",\"\",VLOOKUP(K21,LIVRE!$A$8:$AC$315,7))","v":""},{"$f":"IF(K21=\"\",\"\",VLOOKUP(K21,LIVRE!$A$8:$AC$315,10))","v":""},{"$f":"IF(K21=\"\",\"\",M21+N21)","v":""},{"$f":"IF(K21=\"\",\"\",VLOOKUP(K21,LIVRE!$A$8:$AC$315,8))","v":""},{"$f":"IF(K21=\"\",\"\",VLOOKUP(K21,LIVRE!$A$8:$AC$315,11))","v":""},{"$f":"IF(K21=\"\",\"\",P21+Q21)","v":""},null,null,{"$f":"IF(T21=\"\",\"\",VLOOKUP(T21,LIVRE!$A$8:$AC$315,4))","v":""},{"$f":"IF(T21=\"\",\"\",VLOOKUP(T21,LIVRE!$A$8:$AC$315,7))","v":""},{"$f":"IF(T21=\"\",\"\",VLOOKUP(T21,LIVRE!$A$8:$AC$315,10))","v":""},{"$f":"IF(T21=\"\",\"\",V21+W21)","v":""},{"$f":"IF(T21=\"\",\"\",VLOOKUP(T21,LIVRE!$A$8:$AC$315,8))","v":""},{"$f":"IF(T21=\"\",\"\",VLOOKUP(T21,LIVRE!$A$8:$AC$315,11))","v":""},{"$f":"IF(T21=\"\",\"\",Y21+Z21)","v":""},null,null,{"$f":"IF(AC21=\"\",\"\",VLOOKUP(AC21,LIVRE!$A$8:$AC$315,4))","v":""},{"$f":"IF(AC21=\"\",\"\",VLOOKUP(AC21,LIVRE!$A$8:$AC$315,7))","v":""},{"$f":"IF(AC21=\"\",\"\",VLOOKUP(AC21,LIVRE!$A$8:$AC$315,10))","v":""},{"$f":"IF(AC21=\"\",\"\",AE21+AF21)","v":""},{"$f":"IF(AC21=\"\",\"\",VLOOKUP(AC21,LIVRE!$A$8:$AC$315,8))","v":""},{"$f":"IF(AC21=\"\",\"\",VLOOKUP(AC21,LIVRE!$A$8:$AC$315,11))","v":""},{"$f":"IF(AC21=\"\",\"\",AH21+AI21)","v":""}]
[null,null,{"$f":"IF(B22=\"\",\"\",VLOOKUP(B22,LIVRE!$A$8:$AC$315,4))","v":""},{"$f":"IF(B22=\"\",\"\",VLOOKUP(B22,LIVRE!$A$8:$AC$315,7))","v":""},{"$f":"IF(B22=\"\",\"\",VLOOKUP(B22,LIVRE!$A$8:$AC$315,10))","v":""},{"$f":"IF(B22=\"\",\"\",D22+E22)","v":""},{"$f":"IF(B22=\"\",\"\",VLOOKUP(B22,LIVRE!$A$8:$AC$315,8))","v":""},{"$f":"IF(B22=\"\",\"\",VLOOKUP(B22,LIVRE!$A$8:$AC$315,11))","v":""},{"$f":"IF(B22=\"\",\"\",G22+H22)","v":""},null,null,{"$f":"IF(K22=\"\",\"\",VLOOKUP(K22,LIVRE!$A$8:$AC$315,4))","v":""},{"$f":"IF(K22=\"\",\"\",VLOOKUP(K22,LIVRE!$A$8:$AC$315,7))","v":""},{"$f":"IF(K22=\"\",\"\",VLOOKUP(K22,LIVRE!$A$8:$AC$315,10))","v":""},{"$f":"IF(K22=\"\",\"\",M22+N22)","v":""},{"$f":"IF(K22=\"\",\"\",VLOOKUP(K22,LIVRE!$A$8:$AC$315,8))","v":""},{"$f":"IF(K22=\"\",\"\",VLOOKUP(K22,LIVRE!$A$8:$AC$315,11))","v":""},{"$f":"IF(K22=\"\",\"\",P22+Q22)","v":""},null,null,{"$f":"IF(T22=\"\",\"\",VLOOKUP(T22,LIVRE!$A$8:$AC$315,4))","v":""},{"$f":"IF(T22=\"\",\"\",VLOOKUP(T22,LIVRE!$A$8:$AC$315,7))","v":""},{"$f":"IF(T22=\"\",\"\",VLOOKUP(T22,LIVRE!$A$8:$AC$315,10))","v":""},{"$f":"IF(T22=\"\",\"\",V22+W22)","v":""},{"$f":"IF(T22=\"\",\"\",VLOOKUP(T22,LIVRE!$A$8:$AC$315,8))","v":""},{"$f":"IF(T22=\"\",\"\",VLOOKUP(T22,LIVRE!$A$8:$AC$315,11))","v":""},{"$f":"IF(T22=\"\",\"\",Y22+Z22)","v":""},null,null,{"$f":"IF(AC22=\"\",\"\",VLOOKUP(AC22,LIVRE!$A$8:$AC$315,4))","v":""},{"$f":"IF(AC22=\"\",\"\",VLOOKUP(AC22,LIVRE!$A$8:$AC$315,7))","v":""},{"$f":"IF(AC22=\"\",\"\",VLOOKUP(AC22,LIVRE!$A$8:$AC$315,10))","v":""},{"$f":"IF(AC22=\"\",\"\",AE22+AF22)","v":""},{"$f":"IF(AC22=\"\",\"\",VLOOKUP(AC22,LIVRE!$A$8:$AC$315,8))","v":""},{"$f":"IF(AC22=\"\",\"\",VLOOKUP(AC22,LIVRE!$A$8:$AC$315,11))","v":""},{"$f":"IF(AC22=\"\",\"\",AH22+AI22)","v":""}]
[null,null,{"$f":"IF(B23=\"\",\"\",VLOOKUP(B23,LIVRE!$A$8:$AC$315,4))","v":""},{"$f":"IF(B23=\"\",\"\",VLOOKUP(B23,LIVRE!$A$8:$AC$315,7))","v":""},{"$f":"IF(B23=\"\",\"\",VLOOKUP(B23,LIVRE!$A$8:$AC$315,10))","v":""},{"$f":"IF(B23=\"\",\"\",D23+E23)","v":""},{"$f":"IF(B23=\"\",\"\",VLOOKUP(B23,LIVRE!$A$8:$AC$315,8))","v":""},{"$f":"IF(B23=\"\",\"\",VLOOKUP(B23,LIVRE!$A$8:$AC$315,11))","v":""},{"$f":"IF(B23=\"\",\"\",G23+H23)","v":""},null,null,{"$f":"IF(K23=\"\",\"\",VLOOKUP(K23,LIVRE!$A$8:$AC$315,4))","v":""},{"$f":"IF(K23=\"\",\"\",VLOOKUP(K23,LIVRE!$A$8:$AC$315,7))","v":""},{"$f":"IF(K23=\"\",\"\",VLOOKUP(K23,LIVRE!$A$8:$AC$315,10))","v":""},{"$f":"IF(K23=\"\",\"\",M23+N23)","v":""},{"$f":"IF(K23=\"\",\"\",VLOOKUP(K23,LIVRE!$A$8:$AC$315,8))","v":""},{"$f":"IF(K23=\"\",\"\",VLOOKUP(K23,LIVRE!$A$8:$AC$315,11))","v":""},{"$f":"IF(K23=\"\",\"\",P23+Q23)","v":""},null,null,{"$f":"IF(T23=\"\",\"\",VLOOKUP(T23,LIVRE!$A$8:$AC$315,4))","v":""},{"$f":"IF(T23=\"\",\"\",VLOOKUP(T23,LIVRE!$A$8:$AC$315,7))","v":""},{"$f":"IF(T23=\"\",\"\",VLOOKUP(T23,LIVRE!$A$8:$AC$315,10))","v":""},{"$f":"IF(T23=\"\",\"\",V23+W23)","v":""},{"$f":"IF(T23=\"\",\"\",VLOOKUP(T23,LIVRE!$A$8:$AC$315,8))","v":""},{"$f":"IF(T23=\"\",\"\",VLOOKUP(T23,LIVRE!$A$8:$AC$315,11))","v":""},{"$f":"IF(T23=\"\",\"\",Y23+Z23)","v":""},null,null,{"$f":"IF(AC23=\"\",\"\",VLOOKUP(AC23,LIVRE!$A$8:$AC$315,4))","v":""},{"$f":"IF(AC23=\"\",\"\",VLOOKUP(AC23,LIVRE!$A$8:$AC$315,7))","v":""},{"$f":"IF(AC23=\"\",\"\",VLOOKUP(AC23,LIVRE!$A$8:$AC$315,10))","v":""},{"$f":"IF(AC23=\"\",\"\",AE23+AF23)","v":""},{"$f":"IF(AC23=\"\",\"\",VLOOKUP(AC23,LIVRE!$A$8:$AC$315,8))","v":""},{"$f":"IF(AC23=\"\",\"\",VLOOKUP(AC23,LIVRE!$A$8:$AC$315,11))","v":""},{"$f":"IF(AC23=\"\",\"\",AH23+AI23)","v":""}]
[null,null,{"$f":"IF(B24=\"\",\"\",VLOOKUP(B24,LIVRE!$A$8:$AC$315,4))","v":""},{"$f":"IF(B24=\"\",\"\",VLOOKUP(B24,LIVRE!$A$8:$AC$315,7))","v":""},{"$f":"IF(B24=\"\",\"\",VLOOKUP(B24,LIVRE!$A$8:$AC$315,10))","v":""},{"$f":"IF(B24=\"\",\"\",D24+E24)","v":""},{"$f":"IF(B24=\"\",\"\",VLOOKUP(B24,LIVRE!$A$8:$AC$315,8))","v":""},{"$f":"IF(B24=\"\",\"\",VLOOKUP(B24,LIVRE!$A$8:$AC$315,11))","v":""},{"$f":"IF(B24=\"\",\"\",G24+H24)","v":""},null,null,{"$f":"IF(K24=\"\",\"\",VLOOKUP(K24,LIVRE!$A$8:$AC$315,4))","v":""},{"$f":"IF(K24=\"\",\"\",VLOOKUP(K24,LIVRE!$A$8:$AC$315,7))","v":""},{"$f":"IF(K24=\"\",\"\",VLOOKUP(K24,LIVRE!$A$8:$AC$315,10))","v":""},{"$f":"IF(K24=\"\",\"\",M24+N24)","v":""},{"$f":"IF(K24=\"\",\"\",VLOOKUP(K24,LIVRE!$A$8:$AC$315,8))","v":""},{"$f":"IF(K24=\"\",\"\",VLOOKUP(K24,LIVRE!$A$8:$AC$315,11))","v":""},{"$f":"IF(K24=\"\",\"\",P24+Q24)","v":""},null,null,{"$f":"IF(T24=\"\",\"\",VLOOKUP(T24,LIVRE!$A$8:$AC$315,4))","v":""},{"$f":"IF(T24=\"\",\"\",VLOOKUP(T24,LIVRE!$A$8:$AC$315,7))","v":""},{"$f":"IF(T24=\"\",\"\",VLOOKUP(T24,LIVRE!$A$8:$AC$315,10))","v":""},{"$f":"IF(T24=\"\",\"\",V24+W24)","v":""},{"$f":"IF(T24=\"\",\"\",VLOOKUP(T24,LIVRE!$A$8:$AC$315,8))","v":""},{"$f":"IF(T24=\"\",\"\",VLOOKUP(T24,LIVRE!$A$8:$AC$315,11))","v":""},{"$f":"IF(T24=\"\",\"\",Y24+Z24)","v":""},null,null,{"$f":"IF(AC24=\"\",\"\",VLOOKUP(AC24,LIVRE!$A$8:$AC$315,4))","v":""},{"$f":"IF(AC24=\"\",\"\",VLOOKUP(AC24,LIVRE!$A$8:$AC$315,7))","v":""},{"$f":"IF(AC24=\"\",\"\",VLOOKUP(AC24,LIVRE!$A$8:$AC$315,10))","v":""},{"$f":"IF(AC24=\"\",\"\",AE24+AF24)","v":""},{"$f":"IF(AC24=\"\",\"\",VLOOKUP(AC24,LIVRE!$A$8:$AC$315,8))","v":""},{"$f":"IF(AC24=\"\",\"\",VLOOKUP(AC24,LIVRE!$A$8:$AC$315,11))","v":""},{"$f":"IF(AC24=\"\",\"\",AH24+AI24)","v":""}]
[null,null,{"$f":"IF(B25=\"\",\"\",VLOOKUP(B25,LIVRE!$A$8:$AC$315,4))","v":""},{"$f":"IF(B25=\"\",\"\",VLOOKUP(B25,LIVRE!$A$8:$AC$315,7))","v":""},{"$f":"IF(B25=\"\",\"\",VLOOKUP(B25,LIVRE!$A$8:$AC$315,10))","v":""},{"$f":"IF(B25=\"\",\"\",D25+E25)","v":""},{"$f":"IF(B25=\"\",\"\",VLOOKUP(B25,LIVRE!$A$8:$AC$315,8))","v":""},{"$f":"IF(B25=\"\",\"\",VLOOKUP(B25,LIVRE!$A$8:$AC$315,11))","v":""},{"$f":"IF(B25=\"\",\"\",G25+H25)","v":""},null,null,{"$f":"IF(K25=\"\",\"\",VLOOKUP(K25,LIVRE!$A$8:$AC$315,4))","v":""},{"$f":"IF(K25=\"\",\"\",VLOOKUP(K25,LIVRE!$A$8:$AC$315,7))","v":""},{"$f":"IF(K25=\"\",\"\",VLOOKUP(K25,LIVRE!$A$8:$AC$315,10))","v":""},{"$f":"IF(K25=\"\",\"\",M25+N25)","v":""},{"$f":"IF(K25=\"\",\"\",VLOOKUP(K25,LIVRE!$A$8:$AC$315,8))","v":""},{"$f":"IF(K25=\"\",\"\",VLOOKUP(K25,LIVRE!$A$8:$AC$315,11))","v":""},{"$f":"IF(K25=\"\",\"\",P25+Q25)","v":""},null,null,{"$f":"IF(T25=\"\",\"\",VLOOKUP(T25,LIVRE!$A$8:$AC$315,4))","v":""},{"$f":"IF(T25=\"\",\"\",VLOOKUP(T25,LIVRE!$A$8:$AC$315,7))","v":""},{"$f":"IF(T25=\"\",\"\",VLOOKUP(T25,LIVRE!$A$8:$AC$315,10))","v":""},{"$f":"IF(T25=\"\",\"\",V25+W25)","v":""},{"$f":"IF(T25=\"\",\"\",VLOOKUP(T25,LIVRE!$A$8:$AC$315,8))","v":""},{"$f":"IF(T25=\"\",\"\",VLOOKUP(T25,LIVRE!$A$8:$AC$315,11))","v":""},{"$f":"IF(T25=\"\",\"\",Y25+Z25)","v":""},null,null,{"$f":"IF(AC25=\"\",\"\",VLOOKUP(AC25,LIVRE!$A$8:$AC$315,4))","v":""},{"$f":"IF(AC25=\"\",\"\",VLOOKUP(AC25,LIVRE!$A$8:$AC$315,7))","v":""},{"$f":"IF(AC25=\"\",\"\",VLOOKUP(AC25,LIVRE!$A$8:$AC$315,10))","v":""},{"$f":"IF(AC25=\"\",\"\",AE25+AF25)","v":""},{"$f":"IF(AC25=\"\",\"\",VLOOKUP(AC25,LIVRE!$A$8:$AC$315,8))","v":""},{"$f":"IF(AC25=\"\",\"\",VLOOKUP(AC25,LIVRE!$A$8:$AC$315,11))","v":""},{"$f":"IF(AC25=\"\",\"\",AH25+AI25)","v":""}]
[null,null,{"$f":"IF(B26=\"\",\"\",VLOOKUP(B26,LIVRE!$A$8:$AC$315,4))","v":""},{"$f":"IF(B26=\"\",\"\",VLOOKUP(B26,LIVRE!$A$8:$AC$315,7))","v":""},{"$f":"IF(B26=\"\",\"\",VLOOKUP(B26,LIVRE!$A$8:$AC$315,10))","v":""},{"$f":"IF(B26=\"\",\"\",D26+E26)","v":""},{"$f":"IF(B26=\"\",\"\",VLOOKUP(B26,LIVRE!$A$8:$AC$315,8))","v":""},{"$f":"IF(B26=\"\",\"\",VLOOKUP(B26,LIVRE!$A$8:$AC$315,11))","v":""},{"$f":"IF(B26=\"\",\"\",G26+H26)","v":""},null,null,{"$f":"IF(K26=\"\",\"\",VLOOKUP(K26,LIVRE!$A$8:$AC$315,4))","v":""},{"$f":"IF(K26=\"\",\"\",VLOOKUP(K26,LIVRE!$A$8:$AC$315,7))","v":""},{"$f":"IF(K26=\"\",\"\",VLOOKUP(K26,LIVRE!$A$8:$AC$315,10))","v":""},{"$f":"IF(K26=\"\",\"\",M26+N26)","v":""},{"$f":"IF(K26=\"\",\"\",VLOOKUP(K26,LIVRE!$A$8:$AC$315,8))","v":""},{"$f":"IF(K26=\"\",\"\",VLOOKUP(K26,LIVRE!$A$8:$AC$315,11))","v":""},{"$f":"IF(K26=\"\",\"\",P26+Q26)","v":""},null,null,{"$f":"IF(T26=\"\",\"\",VLOOKUP(T26,LIVRE!$A$8:$AC$315,4))","v":""},{"$f":"IF(T26=\"\",\"\",VLOOKUP(T26,LIVRE!$A$8:$AC$315,7))","v":""},{"$f":"IF(T26=\"\",\"\",VLOOKUP(T26,LIVRE!$A$8:$AC$315,10))","v":""},{"$f":"IF(T26=\"\",\"\",V26+W26)","v":""},{"$f":"IF(T26=\"\",\"\",VLOOKUP(T26,LIVRE!$A$8:$AC$315,8))","v":""},{"$f":"IF(T26=\"\",\"\",VLOOKUP(T26,LIVRE!$A$8:$AC$315,11))","v":""},{"$f":"IF(T26=\"\",\"\",Y26+Z26)","v":""},null,null,{"$f":"IF(AC26=\"\",\"\",VLOOKUP(AC26,LIVRE!$A$8:$AC$315,4))","v":""},{"$f":"IF(AC26=\"\",\"\",VLOOKUP(AC26,LIVRE!$A$8:$AC$315,7))","v":""},{"$f":"IF(AC26=\"\",\"\",VLOOKUP(AC26,LIVRE!$A$8:$AC$315,10))","v":""},{"$f":"IF(AC26=\"\",\"\",AE26+AF26)","v":""},{"$f":"IF(AC26=\"\",\"\",VLOOKUP(AC26,LIVRE!$A$8:$AC$315,8))","v":""},{"$f":"IF(AC26=\"\",\"\",VLOOKUP(AC26,LIVRE!$A$8:$AC$315,11))","v":""},{"$f":"IF(AC26=\"\",\"\",AH26+AI26)","v":""}]
[null,null,{"$f":"IF(B27=\"\",\"\",VLOOKUP(B27,LIVRE!$A$8:$AC$315,4))","v":""},{"$f":"IF(B27=\"\",\"\",VLOOKUP(B27,LIVRE!$A$8:$AC$315,7))","v":""},{"$f":"IF(B27=\"\",\"\",VLOOKUP(B27,LIVRE!$A$8:$AC$315,10))","v":""},{"$f":"IF(B27=\"\",\"\",D27+E27)","v":""},{"$f":"IF(B27=\"\",\"\",VLOOKUP(B27,LIVRE!$A$8:$AC$315,8))","v":""},{"$f":"IF(B27=\"\",\"\",VLOOKUP(B27,LIVRE!$A$8:$AC$315,11))","v":""},{"$f":"IF(B27=\"\",\"\",G27+H27)","v":""},null,null,{"$f":"IF(K27=\"\",\"\",VLOOKUP(K27,LIVRE!$A$8:$AC$315,4))","v":""},{"$f":"IF(K27=\"\",\"\",VLOOKUP(K27,LIVRE!$A$8:$AC$315,7))","v":""},{"$f":"IF(K27=\"\",\"\",VLOOKUP(K27,LIVRE!$A$8:$AC$315,10))","v":""},{"$f":"IF(K27=\"\",\"\",M27+N27)","v":""},{"$f":"IF(K27=\"\",\"\",VLOOKUP(K27,LIVRE!$A$8:$AC$315,8))","v":""},{"$f":"IF(K27=\"\",\"\",VLOOKUP(K27,LIVRE!$A$8:$AC$315,11))","v":""},{"$f":"IF(K27=\"\",\"\",P27+Q27)","v":""},null,null,{"$f":"IF(T27=\"\",\"\",VLOOKUP(T27,LIVRE!$A$8:$AC$315,4))","v":""},{"$f":"IF(T27=\"\",\"\",VLOOKUP(T27,LIVRE!$A$8:$AC$315,7))","v":""},{"$f":"IF(T27=\"\",\"\",VLOOKUP(T27,LIVRE!$A$8:$AC$315,10))","v":""},{"$f":"IF(T27=\"\",\"\",V27+W27)","v":""},{"$f":"IF(T27=\"\",\"\",VLOOKUP(T27,LIVRE!$A$8:$AC$315,8))","v":""},{"$f":"IF(T27=\"\",\"\",VLOOKUP(T27,LIVRE!$A$8:$AC$315,11))","v":""},{"$f":"IF(T27=\"\",\"\",Y27+Z27)","v":""},null,null,{"$f":"IF(AC27=\"\",\"\",VLOOKUP(AC27,LIVRE!$A$8:$AC$315,4))","v":""},{"$f":"IF(AC27=\"\",\"\",VLOOKUP(AC27,LIVRE!$A$8:$AC$315,7))","v":""},{"$f":"IF(AC27=\"\",\"\",VLOOKUP(AC27,LIVRE!$A$8:$AC$315,10))","v":""},{"$f":"IF(AC27=\"\",\"\",AE27+AF27)","v":""},{"$f":"IF(AC27=\"\",\"\",VLOOKUP(AC27,LIVRE!$A$8:$AC$315,8))","v":""},{"$f":"IF(AC27=\"\",\"\",VLOOKUP(AC27,LIVRE!$A$8:$AC$315,11))","v":""},{"$f":"IF(AC27=\"\",\"\",AH27+AI27)","v":""}]
[null,null,{"$f":"IF(B28=\"\",\"\",VLOOKUP(B28,LIVRE!$A$8:$AC$315,4))","v":""},{"$f":"IF(B28=\"\",\"\",VLOOKUP(B28,LIVRE!$A$8:$AC$315,7))","v":""},{"$f":"IF(B28=\"\",\"\",VLOOKUP(B28,LIVRE!$A$8:$AC$315,10))","v":""},{"$f":"IF(B28=\"\",\"\",D28+E28)","v":""},{"$f":"IF(B28=\"\",\"\",VLOOKUP(B28,LIVRE!$A$8:$AC$315,8))","v":""},{"$f":"IF(B28=\"\",\"\",VLOOKUP(B28,LIVRE!$A$8:$AC$315,11))","v":""},{"$f":"IF(B28=\"\",\"\",G28+H28)","v":""},null,null,{"$f":"IF(K28=\"\",\"\",VLOOKUP(K28,LIVRE!$A$8:$AC$315,4))","v":""},{"$f":"IF(K28=\"\",\"\",VLOOKUP(K28,LIVRE!$A$8:$AC$315,7))","v":""},{"$f":"IF(K28=\"\",\"\",VLOOKUP(K28,LIVRE!$A$8:$AC$315,10))","v":""},{"$f":"IF(K28=\"\",\"\",M28+N28)","v":""},{"$f":"IF(K28=\"\",\"\",VLOOKUP(K28,LIVRE!$A$8:$AC$315,8))","v":""},{"$f":"IF(K28=\"\",\"\",VLOOKUP(K28,LIVRE!$A$8:$AC$315,11))","v":""},{"$f":"IF(K28=\"\",\"\",P28+Q28)","v":""},null,null,{"$f":"IF(T28=\"\",\"\",VLOOKUP(T28,LIVRE!$A$8:$AC$315,4))","v":""},{"$f":"IF(T28=\"\",\"\",VLOOKUP(T28,LIVRE!$A$8:$AC$315,7))","v":""},{"$f":"IF(T28=\"\",\"\",VLOOKUP(T28,LIVRE!$A$8:$AC$315,10))","v":""},{"$f":"IF(T28=\"\",\"\",V28+W28)","v":""},{"$f":"IF(T28=\"\",\"\",VLOOKUP(T28,LIVRE!$A$8:$AC$315,8))","v":""},{"$f":"IF(T28=\"\",\"\",VLOOKUP(T28,LIVRE!$A$8:$AC$315,11))","v":""},{"$f":"IF(T28=\"\",\"\",Y28+Z28)","v":""},null,null,{"$f":"IF(AC28=\"\",\"\",VLOOKUP(AC28,LIVRE!$A$8:$AC$315,4))","v":""},{"$f":"IF(AC28=\"\",\"\",VLOOKUP(AC28,LIVRE!$A$8:$AC$315,7))","v":""},{"$f":"IF(AC28=\"\",\"\",VLOOKUP(AC28,LIVRE!$A$8:$AC$315,10))","v":""},{"$f":"IF(AC28=\"\",\"\",AE28+AF28)","v":""},{"$f":"IF(AC28=\"\",\"\",VLOOKUP(AC28,LIVRE!$A$8:$AC$315,8))","v":""},{"$f":"IF(AC28=\"\",\"\",VLOOKUP(AC28,LIVRE!$A$8:$AC$315,11))","v":""},{"$f":"IF(AC28=\"\",\"\",AH28+AI28)","v":""}]
[null,null,{"$f":"IF(B29=\"\",\"\",VLOOKUP(B29,LIVRE!$A$8:$AC$315,4))","v":""},{"$f":"IF(B29=\"\",\"\",VLOOKUP(B29,LIVRE!$A$8:$AC$315,7))","v":""},{"$f":"IF(B29=\"\",\"\",VLOOKUP(B29,LIVRE!$A$8:$AC$315,10))","v":""},{"$f":"IF(B29=\"\",\"\",D29+E29)","v":""},{"$f":"IF(B29=\"\",\"\",VLOOKUP(B29,LIVRE!$A$8:$AC$315,8))","v":""},{"$f":"IF(B29=\"\",\"\",VLOOKUP(B29,LIVRE!$A$8:$AC$315,11))","v":""},{"$f":"IF(B29=\"\",\"\",G29+H29)","v":""},null,null,{"$f":"IF(K29=\"\",\"\",VLOOKUP(K29,LIVRE!$A$8:$AC$315,4))","v":""},{"$f":"IF(K29=\"\",\"\",VLOOKUP(K29,LIVRE!$A$8:$AC$315,7))","v":""},{"$f":"IF(K29=\"\",\"\",VLOOKUP(K29,LIVRE!$A$8:$AC$315,10))","v":""},{"$f":"IF(K29=\"\",\"\",M29+N29)","v":""},{"$f":"IF(K29=\"\",\"\",VLOOKUP(K29,LIVRE!$A$8:$AC$315,8))","v":""},{"$f":"IF(K29=\"\",\"\",VLOOKUP(K29,LIVRE!$A$8:$AC$315,11))","v":""},{"$f":"IF(K29=\"\",\"\",P29+Q29)","v":""},null,null,{"$f":"IF(T29=\"\",\"\",VLOOKUP(T29,LIVRE!$A$8:$AC$315,4))","v":""},{"$f":"IF(T29=\"\",\"\",VLOOKUP(T29,LIVRE!$A$8:$AC$315,7))","v":""},{"$f":"IF(T29=\"\",\"\",VLOOKUP(T29,LIVRE!$A$8:$AC$315,10))","v":""},{"$f":"IF(T29=\"\",\"\",V29+W29)","v":""},{"$f":"IF(T29=\"\",\"\",VLOOKUP(T29,LIVRE!$A$8:$AC$315,8))","v":""},{"$f":"IF(T29=\"\",\"\",VLOOKUP(T29,LIVRE!$A$8:$AC$315,11))","v":""},{"$f":"IF(T29=\"\",\"\",Y29+Z29)","v":""},null,null,{"$f":"IF(AC29=\"\",\"\",VLOOKUP(AC29,LIVRE!$A$8:$AC$315,4))","v":""},{"$f":"IF(AC29=\"\",\"\",VLOOKUP(AC29,LIVRE!$A$8:$AC$315,7))","v":""},{"$f":"IF(AC29=\"\",\"\",VLOOKUP(AC29,LIVRE!$A$8:$AC$315,10))","v":""},{"$f":"IF(AC29=\"\",\"\",AE29+AF29)","v":""},{"$f":"IF(AC29=\"\",\"\",VLOOKUP(AC29,LIVRE!$A$8:$AC$315,8))","v":""},{"$f":"IF(AC29=\"\",\"\",VLOOKUP(AC29,LIVRE!$A$8:$AC$315,11))","v":""},{"$f":"IF(AC29=\"\",\"\",AH29+AI29)","v":""}]
[null,null,{"$f":"IF(B30=\"\",\"\",VLOOKUP(B30,LIVRE!$A$8:$AC$315,4))","v":""},{"$f":"IF(B30=\"\",\"\",VLOOKUP(B30,LIVRE!$A$8:$AC$315,7))","v":""},{"$f":"IF(B30=\"\",\"\",VLOOKUP(B30,LIVRE!$A$8:$AC$315,10))","v":""},{"$f":"IF(B30=\"\",\"\",D30+E30)","v":""},{"$f":"IF(B30=\"\",\"\",VLOOKUP(B30,LIVRE!$A$8:$AC$315,8))","v":""},{"$f":"IF(B30=\"\",\"\",VLOOKUP(B30,LIVRE!$A$8:$AC$315,11))","v":""},{"$f":"IF(B30=\"\",\"\",G30+H30)","v":""},null,null,{"$f":"IF(K30=\"\",\"\",VLOOKUP(K30,LIVRE!$A$8:$AC$315,4))","v":""},{"$f":"IF(K30=\"\",\"\",VLOOKUP(K30,LIVRE!$A$8:$AC$315,7))","v":""},{"$f":"IF(K30=\"\",\"\",VLOOKUP(K30,LIVRE!$A$8:$AC$315,10))","v":""},{"$f":"IF(K30=\"\",\"\",M30+N30)","v":""},{"$f":"IF(K30=\"\",\"\",VLOOKUP(K30,LIVRE!$A$8:$AC$315,8))","v":""},{"$f":"IF(K30=\"\",\"\",VLOOKUP(K30,LIVRE!$A$8:$AC$315,11))","v":""},{"$f":"IF(K30=\"\",\"\",P30+Q30)","v":""},null,null,{"$f":"IF(T30=\"\",\"\",VLOOKUP(T30,LIVRE!$A$8:$AC$315,4))","v":""},{"$f":"IF(T30=\"\",\"\",VLOOKUP(T30,LIVRE!$A$8:$AC$315,7))","v":""},{"$f":"IF(T30=\"\",\"\",VLOOKUP(T30,LIVRE!$A$8:$AC$315,10))","v":""},{"$f":"IF(T30=\"\",\"\",V30+W30)","v":""},{"$f":"IF(T30=\"\",\"\",VLOOKUP(T30,LIVRE!$A$8:$AC$315,8))","v":""},{"$f":"IF(T30=\"\",\"\",VLOOKUP(T30,LIVRE!$A$8:$AC$315,11))","v":""},{"$f":"IF(T30=\"\",\"\",Y30+Z30)","v":""},null,null,{"$f":"IF(AC30=\"\",\"\",VLOOKUP(AC30,LIVRE!$A$8:$AC$315,4))","v":""},{"$f":"IF(AC30=\"\",\"\",VLOOKUP(AC30,LIVRE!$A$8:$AC$315,7))","v":""},{"$f":"IF(AC30=\"\",\"\",VLOOKUP(AC30,LIVRE!$A$8:$AC$315,10))","v":""},{"$f":"IF(AC30=\"\",\"\",AE30+AF30)","v":""},{"$f":"IF(AC30=\"\",\"\",VLOOKUP(AC30,LIVRE!$A$8:$AC$315,8))","v":""},{"$f":"IF(AC30=\"\",\"\",VLOOKUP(AC30,LIVRE!$A$8:$AC$315,11))","v":""},{"$f":"IF(AC30=\"\",\"\",AH30+AI30)","v":""}]
[null,null,{"$f":"IF(B31=\"\",\"\",VLOOKUP(B31,LIVRE!$A$8:$AC$315,4))","v":""},{"$f":"IF(B31=\"\",\"\",VLOOKUP(B31,LIVRE!$A$8:$AC$315,7))","v":""},{"$f":"IF(B31=\"\",\"\",VLOOKUP(B31,LIVRE!$A$8:$AC$315,10))","v":""},{"$f":"IF(B31=\"\",\"\",D31+E31)","v":""},{"$f":"IF(B31=\"\",\"\",VLOOKUP(B31,LIVRE!$A$8:$AC$315,8))","v":""},{"$f":"IF(B31=\"\",\"\",VLOOKUP(B31,LIVRE!$A$8:$AC$315,11))","v":""},{"$f":"IF(B31=\"\",\"\",G31+H31)","v":""},null,null,{"$f":"IF(K31=\"\",\"\",VLOOKUP(K31,LIVRE!$A$8:$AC$315,4))","v":""},{"$f":"IF(K31=\"\",\"\",VLOOKUP(K31,LIVRE!$A$8:$AC$315,7))","v":""},{"$f":"IF(K31=\"\",\"\",VLOOKUP(K31,LIVRE!$A$8:$AC$315,10))","v":""},{"$f":"IF(K31=\"\",\"\",M31+N31)","v":""},{"$f":"IF(K31=\"\",\"\",VLOOKUP(K31,LIVRE!$A$8:$AC$315,8))","v":""},{"$f":"IF(K31=\"\",\"\",VLOOKUP(K31,LIVRE!$A$8:$AC$315,11))","v":""},{"$f":"IF(K31=\"\",\"\",P31+Q31)","v":""},null,null,{"$f":"IF(T31=\"\",\"\",VLOOKUP(T31,LIVRE!$A$8:$AC$315,4))","v":""},{"$f":"IF(T31=\"\",\"\",VLOOKUP(T31,LIVRE!$A$8:$AC$315,7))","v":""},{"$f":"IF(T31=\"\",\"\",VLOOKUP(T31,LIVRE!$A$8:$AC$315,10))","v":""},{"$f":"IF(T31=\"\",\"\",V31+W31)","v":""},{"$f":"IF(T31=\"\",\"\",VLOOKUP(T31,LIVRE!$A$8:$AC$315,8))","v":""},{"$f":"IF(T31=\"\",\"\",VLOOKUP(T31,LIVRE!$A$8:$AC$315,11))","v":""},{"$f":"IF(T31=\"\",\"\",Y31+Z31)","v":""},null,null,{"$f":"IF(AC31=\"\",\"\",VLOOKUP(AC31,LIVRE!$A$8:$AC$315,4))","v":""},{"$f":"IF(AC31=\"\",\"\",VLOOKUP(AC31,LIVRE!$A$8:$AC$315,7))","v":""},{"$f":"IF(AC31=\"\",\"\",VLOOKUP(AC31,LIVRE!$A$8:$AC$315,10))","v":""},{"$f":"IF(AC31=\"\",\"\",AE31+AF31)","v":""},{"$f":"IF(AC31=\"\",\"\",VLOOKUP(AC31,LIVRE!$A$8:$AC$315,8))","v":""},{"$f":"IF(AC31=\"\",\"\",VLOOKUP(AC31,LIVRE!$A$8:$AC$315,11))","v":""},{"$f":"IF(AC31=\"\",\"\",AH31+AI31)","v":""}]
[null,null,{"$f":"IF(B32=\"\",\"\",VLOOKUP(B32,LIVRE!$A$8:$AC$315,4))","v":""},{"$f":"IF(B32=\"\",\"\",VLOOKUP(B32,LIVRE!$A$8:$AC$315,7))","v":""},{"$f":"IF(B32=\"\",\"\",VLOOKUP(B32,LIVRE!$A$8:$AC$315,10))","v":""},{"$f":"IF(B32=\"\",\"\",D32+E32)","v":""},{"$f":"IF(B32=\"\",\"\",VLOOKUP(B32,LIVRE!$A$8:$AC$315,8))","v":""},{"$f":"IF(B32=\"\",\"\",VLOOKUP(B32,LIVRE!$A$8:$AC$315,11))","v":""},{"$f":"IF(B32=\"\",\"\",G32+H32)","v":""},null,null,{"$f":"IF(K32=\"\",\"\",VLOOKUP(K32,LIVRE!$A$8:$AC$315,4))","v":""},{"$f":"IF(K32=\"\",\"\",VLOOKUP(K32,LIVRE!$A$8:$AC$315,7))","v":""},{"$f":"IF(K32=\"\",\"\",VLOOKUP(K32,LIVRE!$A$8:$AC$315,10))","v":""},{"$f":"IF(K32=\"\",\"\",M32+N32)","v":""},{"$f":"IF(K32=\"\",\"\",VLOOKUP(K32,LIVRE!$A$8:$AC$315,8))","v":""},{"$f":"IF(K32=\"\",\"\",VLOOKUP(K32,LIVRE!$A$8:$AC$315,11))","v":""},{"$f":"IF(K32=\"\",\"\",P32+Q32)","v":""},null,null,{"$f":"IF(T32=\"\",\"\",VLOOKUP(T32,LIVRE!$A$8:$AC$315,4))","v":""},{"$f":"IF(T32=\"\",\"\",VLOOKUP(T32,LIVRE!$A$8:$AC$315,7))","v":""},{"$f":"IF(T32=\"\",\"\",VLOOKUP(T32,LIVRE!$A$8:$AC$315,10))","v":""},{"$f":"IF(T32=\"\",\"\",V32+W32)","v":""},{"$f":"IF(T32=\"\",\"\",VLOOKUP(T32,LIVRE!$A$8:$AC$315,8))","v":""},{"$f":"IF(T32=\"\",\"\",VLOOKUP(T32,LIVRE!$A$8:$AC$315,11))","v":""},{"$f":"IF(T32=\"\",\"\",Y32+Z32)","v":""},null,null,{"$f":"IF(AC32=\"\",\"\",VLOOKUP(AC32,LIVRE!$A$8:$AC$315,4))","v":""},{"$f":"IF(AC32=\"\",\"\",VLOOKUP(AC32,LIVRE!$A$8:$AC$315,7))","v":""},{"$f":"IF(AC32=\"\",\"\",VLOOKUP(AC32,LIVRE!$A$8:$AC$315,10))","v":""},{"$f":"IF(AC32=\"\",\"\",AE32+AF32)","v":""},{"$f":"IF(AC32=\"\",\"\",VLOOKUP(AC32,LIVRE!$A$8:$AC$315,8))","v":""},{"$f":"IF(AC32=\"\",\"\",VLOOKUP(AC32,LIVRE!$A$8:$AC$315,11))","v":""},{"$f":"IF(AC32=\"\",\"\",AH32+AI32)","v":""}]
[null,null,{"$f":"IF(B33=\"\",\"\",VLOOKUP(B33,LIVRE!$A$8:$AC$315,4))","v":""},{"$f":"IF(B33=\"\",\"\",VLOOKUP(B33,LIVRE!$A$8:$AC$315,7))","v":""},{"$f":"IF(B33=\"\",\"\",VLOOKUP(B33,LIVRE!$A$8:$AC$315,10))","v":""},{"$f":"IF(B33=\"\",\"\",D33+E33)","v":""},{"$f":"IF(B33=\"\",\"\",VLOOKUP(B33,LIVRE!$A$8:$AC$315,8))","v":""},{"$f":"IF(B33=\"\",\"\",VLOOKUP(B33,LIVRE!$A$8:$AC$315,11))","v":""},{"$f":"IF(B33=\"\",\"\",G33+H33)","v":""},null,null,{"$f":"IF(K33=\"\",\"\",VLOOKUP(K33,LIVRE!$A$8:$AC$315,4))","v":""},{"$f":"IF(K33=\"\",\"\",VLOOKUP(K33,LIVRE!$A$8:$AC$315,7))","v":""},{"$f":"IF(K33=\"\",\"\",VLOOKUP(K33,LIVRE!$A$8:$AC$315,10))","v":""},{"$f":"IF(K33=\"\",\"\",M33+N33)","v":""},{"$f":"IF(K33=\"\",\"\",VLOOKUP(K33,LIVRE!$A$8:$AC$315,8))","v":""},{"$f":"IF(K33=\"\",\"\",VLOOKUP(K33,LIVRE!$A$8:$AC$315,11))","v":""},{"$f":"IF(K33=\"\",\"\",P33+Q33)","v":""},null,null,{"$f":"IF(T33=\"\",\"\",VLOOKUP(T33,LIVRE!$A$8:$AC$315,4))","v":""},{"$f":"IF(T33=\"\",\"\",VLOOKUP(T33,LIVRE!$A$8:$AC$315,7))","v":""},{"$f":"IF(T33=\"\",\"\",VLOOKUP(T33,LIVRE!$A$8:$AC$315,10))","v":""},{"$f":"IF(T33=\"\",\"\",V33+W33)","v":""},{"$f":"IF(T33=\"\",\"\",VLOOKUP(T33,LIVRE!$A$8:$AC$315,8))","v":""},{"$f":"IF(T33=\"\",\"\",VLOOKUP(T33,LIVRE!$A$8:$AC$315,11))","v":""},{"$f":"IF(T33=\"\",\"\",Y33+Z33)","v":""},null,null,{"$f":"IF(AC33=\"\",\"\",VLOOKUP(AC33,LIVRE!$A$8:$AC$315,4))","v":""},{"$f":"IF(AC33=\"\",\"\",VLOOKUP(AC33,LIVRE!$A$8:$AC$315,7))","v":""},{"$f":"IF(AC33=\"\",\"\",VLOOKUP(AC33,LIVRE!$A$8:$AC$315,10))","v":""},{"$f":"IF(AC33=\"\",\"\",AE33+AF33)","v":""},{"$f":"IF(AC33=\"\",\"\",VLOOKUP(AC33,LIVRE!$A$8:$AC$315,8))","v":""},{"$f":"IF(AC33=\"\",\"\",VLOOKUP(AC33,LIVRE!$A$8:$AC$315,11))","v":""},{"$f":"IF(AC33=\"\",\"\",AH33+AI33)","v":""}]
[null,null,{"$f":"IF(B34=\"\",\"\",VLOOKUP(B34,LIVRE!$A$8:$AC$315,4))","v":""},{"$f":"IF(B34=\"\",\"\",VLOOKUP(B34,LIVRE!$A$8:$AC$315,7))","v":""},{"$f":"IF(B34=\"\",\"\",VLOOKUP(B34,LIVRE!$A$8:$AC$315,10))","v":""},{"$f":"IF(B34=\"\",\"\",D34+E34)","v":""},{"$f":"IF(B34=\"\",\"\",VLOOKUP(B34,LIVRE!$A$8:$AC$315,8))","v":""},{"$f":"IF(B34=\"\",\"\",VLOOKUP(B34,LIVRE!$A$8:$AC$315,11))","v":""},{"$f":"IF(B34=\"\",\"\",G34+H34)","v":""},null,null,{"$f":"IF(K34=\"\",\"\",VLOOKUP(K34,LIVRE!$A$8:$AC$315,4))","v":""},{"$f":"IF(K34=\"\",\"\",VLOOKUP(K34,LIVRE!$A$8:$AC$315,7))","v":""},{"$f":"IF(K34=\"\",\"\",VLOOKUP(K34,LIVRE!$A$8:$AC$315,10))","v":""},{"$f":"IF(K34=\"\",\"\",M34+N34)","v":""},{"$f":"IF(K34=\"\",\"\",VLOOKUP(K34,LIVRE!$A$8:$AC$315,8))","v":""},{"$f":"IF(K34=\"\",\"\",VLOOKUP(K34,LIVRE!$A$8:$AC$315,11))","v":""},{"$f":"IF(K34=\"\",\"\",P34+Q34)","v":""},null,null,{"$f":"IF(T34=\"\",\"\",VLOOKUP(T34,LIVRE!$A$8:$AC$315,4))","v":""},{"$f":"IF(T34=\"\",\"\",VLOOKUP(T34,LIVRE!$A$8:$AC$315,7))","v":""},{"$f":"IF(T34=\"\",\"\",VLOOKUP(T34,LIVRE!$A$8:$AC$315,10))","v":""},{"$f":"IF(T34=\"\",\"\",V34+W34)","v":""},{"$f":"IF(T34=\"\",\"\",VLOOKUP(T34,LIVRE!$A$8:$AC$315,8))","v":""},{"$f":"IF(T34=\"\",\"\",VLOOKUP(T34,LIVRE!$A$8:$AC$315,11))","v":""},{"$f":"IF(T34=\"\",\"\",Y34+Z34)","v":""},null,null,{"$f":"IF(AC34=\"\",\"\",VLOOKUP(AC34,LIVRE!$A$8:$AC$315,4))","v":""},{"$f":"IF(AC34=\"\",\"\",VLOOKUP(AC34,LIVRE!$A$8:$AC$315,7))","v":""},{"$f":"IF(AC34=\"\",\"\",VLOOKUP(AC34,LIVRE!$A$8:$AC$315,10))","v":""},{"$f":"IF(AC34=\"\",\"\",AE34+AF34)","v":""},{"$f":"IF(AC34=\"\",\"\",VLOOKUP(AC34,LIVRE!$A$8:$AC$315,8))","v":""},{"$f":"IF(AC34=\"\",\"\",VLOOKUP(AC34,LIVRE!$A$8:$AC$315,11))","v":""},{"$f":"IF(AC34=\"\",\"\",AH34+AI34)","v":""}]
[null,null,{"$f":"IF(B35=\"\",\"\",VLOOKUP(B35,LIVRE!$A$8:$AC$315,4))","v":""},{"$f":"IF(B35=\"\",\"\",VLOOKUP(B35,LIVRE!$A$8:$AC$315,7))","v":""},{"$f":"IF(B35=\"\",\"\",VLOOKUP(B35,LIVRE!$A$8:$AC$315,10))","v":""},{"$f":"IF(B35=\"\",\"\",D35+E35)","v":""},{"$f":"IF(B35=\"\",\"\",VLOOKUP(B35,LIVRE!$A$8:$AC$315,8))","v":""},{"$f":"IF(B35=\"\",\"\",VLOOKUP(B35,LIVRE!$A$8:$AC$315,11))","v":""},{"$f":"IF(B35=\"\",\"\",G35+H35)","v":""},null,null,{"$f":"IF(K35=\"\",\"\",VLOOKUP(K35,LIVRE!$A$8:$AC$315,4))","v":""},{"$f":"IF(K35=\"\",\"\",VLOOKUP(K35,LIVRE!$A$8:$AC$315,7))","v":""},{"$f":"IF(K35=\"\",\"\",VLOOKUP(K35,LIVRE!$A$8:$AC$315,10))","v":""},{"$f":"IF(K35=\"\",\"\",M35+N35)","v":""},{"$f":"IF(K35=\"\",\"\",VLOOKUP(K35,LIVRE!$A$8:$AC$315,8))","v":""},{"$f":"IF(K35=\"\",\"\",VLOOKUP(K35,LIVRE!$A$8:$AC$315,11))","v":""},{"$f":"IF(K35=\"\",\"\",P35+Q35)","v":""},null,null,{"$f":"IF(T35=\"\",\"\",VLOOKUP(T35,LIVRE!$A$8:$AC$315,4))","v":""},{"$f":"IF(T35=\"\",\"\",VLOOKUP(T35,LIVRE!$A$8:$AC$315,7))","v":""},{"$f":"IF(T35=\"\",\"\",VLOOKUP(T35,LIVRE!$A$8:$AC$315,10))","v":""},{"$f":"IF(T35=\"\",\"\",V35+W35)","v":""},{"$f":"IF(T35=\"\",\"\",VLOOKUP(T35,LIVRE!$A$8:$AC$315,8))","v":""},{"$f":"IF(T35=\"\",\"\",VLOOKUP(T35,LIVRE!$A$8:$AC$315,11))","v":""},{"$f":"IF(T35=\"\",\"\",Y35+Z35)","v":""},null,null,{"$f":"IF(AC35=\"\",\"\",VLOOKUP(AC35,LIVRE!$A$8:$AC$315,4))","v":""},{"$f":"IF(AC35=\"\",\"\",VLOOKUP(AC35,LIVRE!$A$8:$AC$315,7))","v":""},{"$f":"IF(AC35=\"\",\"\",VLOOKUP(AC35,LIVRE!$A$8:$AC$315,10))","v":""},{"$f":"IF(AC35=\"\",\"\",AE35+AF35)","v":""},{"$f":"IF(AC35=\"\",\"\",VLOOKUP(AC35,LIVRE!$A$8:$AC$315,8))","v":""},{"$f":"IF(AC35=\"\",\"\",VLOOKUP(AC35,LIVRE!$A$8:$AC$315,11))","v":""},{"$f":"IF(AC35=\"\",\"\",AH35+AI35)","v":""}]
[null,null,{"$f":"IF(B36=\"\",\"\",VLOOKUP(B36,LIVRE!$A$8:$AC$315,4))","v":""},{"$f":"IF(B36=\"\",\"\",VLOOKUP(B36,LIVRE!$A$8:$AC$315,7))","v":""},{"$f":"IF(B36=\"\",\"\",VLOOKUP(B36,LIVRE!$A$8:$AC$315,10))","v":""},{"$f":"IF(B36=\"\",\"\",D36+E36)","v":""},{"$f":"IF(B36=\"\",\"\",VLOOKUP(B36,LIVRE!$A$8:$AC$315,8))","v":""},{"$f":"IF(B36=\"\",\"\",VLOOKUP(B36,LIVRE!$A$8:$AC$315,11))","v":""},{"$f":"IF(B36=\"\",\"\",G36+H36)","v":""},null,null,{"$f":"IF(K36=\"\",\"\",VLOOKUP(K36,LIVRE!$A$8:$AC$315,4))","v":""},{"$f":"IF(K36=\"\",\"\",VLOOKUP(K36,LIVRE!$A$8:$AC$315,7))","v":""},{"$f":"IF(K36=\"\",\"\",VLOOKUP(K36,LIVRE!$A$8:$AC$315,10))","v":""},{"$f":"IF(K36=\"\",\"\",M36+N36)","v":""},{"$f":"IF(K36=\"\",\"\",VLOOKUP(K36,LIVRE!$A$8:$AC$315,8))","v":""},{"$f":"IF(K36=\"\",\"\",VLOOKUP(K36,LIVRE!$A$8:$AC$315,11))","v":""},{"$f":"IF(K36=\"\",\"\",P36+Q36)","v":""},null,null,{"$f":"IF(T36=\"\",\"\",VLOOKUP(T36,LIVRE!$A$8:$AC$315,4))","v":""},{"$f":"IF(T36=\"\",\"\",VLOOKUP(T36,LIVRE!$A$8:$AC$315,7))","v":""},{"$f":"IF(T36=\"\",\"\",VLOOKUP(T36,LIVRE!$A$8:$AC$315,10))","v":""},{"$f":"IF(T36=\"\",\"\",V36+W36)","v":""},{"$f":"IF(T36=\"\",\"\",VLOOKUP(T36,LIVRE!$A$8:$AC$315,8))","v":""},{"$f":"IF(T36=\"\",\"\",VLOOKUP(T36,LIVRE!$A$8:$AC$315,11))","v":""},{"$f":"IF(T36=\"\",\"\",Y36+Z36)","v":""},null,null,{"$f":"IF(AC36=\"\",\"\",VLOOKUP(AC36,LIVRE!$A$8:$AC$315,4))","v":""},{"$f":"IF(AC36=\"\",\"\",VLOOKUP(AC36,LIVRE!$A$8:$AC$315,7))","v":""},{"$f":"IF(AC36=\"\",\"\",VLOOKUP(AC36,LIVRE!$A$8:$AC$315,10))","v":""},{"$f":"IF(AC36=\"\",\"\",AE36+AF36)","v":""},{"$f":"IF(AC36=\"\",\"\",VLOOKUP(AC36,LIVRE!$A$8:$AC$315,8))","v":""},{"$f":"IF(AC36=\"\",\"\",VLOOKUP(AC36,LIVRE!$A$8:$AC$315,11))","v":""},{"$f":"IF(AC36=\"\",\"\",AH36+AI36)","v":""}]
[null,null,{"$f":"IF(B37=\"\",\"\",VLOOKUP(B37,LIVRE!$A$8:$AC$315,4))","v":""},{"$f":"IF(B37=\"\",\"\",VLOOKUP(B37,LIVRE!$A$8:$AC$315,7))","v":""},{"$f":"IF(B37=\"\",\"\",VLOOKUP(B37,LIVRE!$A$8:$AC$315,10))","v":""},{"$f":"IF(B37=\"\",\"\",D37+E37)","v":""},{"$f":"IF(B37=\"\",\"\",VLOOKUP(B37,LIVRE!$A$8:$AC$315,8))","v":""},{"$f":"IF(B37=\"\",\"\",VLOOKUP(B37,LIVRE!$A$8:$AC$315,11))","v":""},{"$f":"IF(B37=\"\",\"\",G37+H37)","v":""},null,null,{"$f":"IF(K37=\"\",\"\",VLOOKUP(K37,LIVRE!$A$8:$AC$315,4))","v":""},{"$f":"IF(K37=\"\",\"\",VLOOKUP(K37,LIVRE!$A$8:$AC$315,7))","v":""},{"$f":"IF(K37=\"\",\"\",VLOOKUP(K37,LIVRE!$A$8:$AC$315,10))","v":""},{"$f":"IF(K37=\"\",\"\",M37+N37)","v":""},{"$f":"IF(K37=\"\",\"\",VLOOKUP(K37,LIVRE!$A$8:$AC$315,8))","v":""},{"$f":"IF(K37=\"\",\"\",VLOOKUP(K37,LIVRE!$A$8:$AC$315,11))","v":""},{"$f":"IF(K37=\"\",\"\",P37+Q37)","v":""},null,null,{"$f":"IF(T37=\"\",\"\",VLOOKUP(T37,LIVRE!$A$8:$AC$315,4))","v":""},{"$f":"IF(T37=\"\",\"\",VLOOKUP(T37,LIVRE!$A$8:$AC$315,7))","v":""},{"$f":"IF(T37=\"\",\"\",VLOOKUP(T37,LIVRE!$A$8:$AC$315,10))","v":""},{"$f":"IF(T37=\"\",\"\",V37+W37)","v":""},{"$f":"IF(T37=\"\",\"\",VLOOKUP(T37,LIVRE!$A$8:$AC$315,8))","v":""},{"$f":"IF(T37=\"\",\"\",VLOOKUP(T37,LIVRE!$A$8:$AC$315,11))","v":""},{"$f":"IF(T37=\"\",\"\",Y37+Z37)","v":""},null,null,{"$f":"IF(AC37=\"\",\"\",VLOOKUP(AC37,LIVRE!$A$8:$AC$315,4))","v":""},{"$f":"IF(AC37=\"\",\"\",VLOOKUP(AC37,LIVRE!$A$8:$AC$315,7))","v":""},{"$f":"IF(AC37=\"\",\"\",VLOOKUP(AC37,LIVRE!$A$8:$AC$315,10))","v":""},{"$f":"IF(AC37=\"\",\"\",AE37+AF37)","v":""},{"$f":"IF(AC37=\"\",\"\",VLOOKUP(AC37,LIVRE!$A$8:$AC$315,8))","v":""},{"$f":"IF(AC37=\"\",\"\",VLOOKUP(AC37,LIVRE!$A$8:$AC$315,11))","v":""},{"$f":"IF(AC37=\"\",\"\",AH37+AI37)","v":""}]
[null,null,{"$f":"IF(B38=\"\",\"\",VLOOKUP(B38,LIVRE!$A$8:$AC$315,4))","v":""},{"$f":"IF(B38=\"\",\"\",VLOOKUP(B38,LIVRE!$A$8:$AC$315,7))","v":""},{"$f":"IF(B38=\"\",\"\",VLOOKUP(B38,LIVRE!$A$8:$AC$315,10))","v":""},{"$f":"IF(B38=\"\",\"\",D38+E38)","v":""},{"$f":"IF(B38=\"\",\"\",VLOOKUP(B38,LIVRE!$A$8:$AC$315,8))","v":""},{"$f":"IF(B38=\"\",\"\",VLOOKUP(B38,LIVRE!$A$8:$AC$315,11))","v":""},{"$f":"IF(B38=\"\",\"\",G38+H38)","v":""},null,null,{"$f":"IF(K38=\"\",\"\",VLOOKUP(K38,LIVRE!$A$8:$AC$315,4))","v":""},{"$f":"IF(K38=\"\",\"\",VLOOKUP(K38,LIVRE!$A$8:$AC$315,7))","v":""},{"$f":"IF(K38=\"\",\"\",VLOOKUP(K38,LIVRE!$A$8:$AC$315,10))","v":""},{"$f":"IF(K38=\"\",\"\",M38+N38)","v":""},{"$f":"IF(K38=\"\",\"\",VLOOKUP(K38,LIVRE!$A$8:$AC$315,8))","v":""},{"$f":"IF(K38=\"\",\"\",VLOOKUP(K38,LIVRE!$A$8:$AC$315,11))","v":""},{"$f":"IF(K38=\"\",\"\",P38+Q38)","v":""},null,null,{"$f":"IF(T38=\"\",\"\",VLOOKUP(T38,LIVRE!$A$8:$AC$315,4))","v":""},{"$f":"IF(T38=\"\",\"\",VLOOKUP(T38,LIVRE!$A$8:$AC$315,7))","v":""},{"$f":"IF(T38=\"\",\"\",VLOOKUP(T38,LIVRE!$A$8:$AC$315,10))","v":""},{"$f":"IF(T38=\"\",\"\",V38+W38)","v":""},{"$f":"IF(T38=\"\",\"\",VLOOKUP(T38,LIVRE!$A$8:$AC$315,8))","v":""},{"$f":"IF(T38=\"\",\"\",VLOOKUP(T38,LIVRE!$A$8:$AC$315,11))","v":""},{"$f":"IF(T38=\"\",\"\",Y38+Z38)","v":""},null,null,{"$f":"IF(AC38=\"\",\"\",VLOOKUP(AC38,LIVRE!$A$8:$AC$315,4))","v":""},{"$f":"IF(AC38=\"\",\"\",VLOOKUP(AC38,LIVRE!$A$8:$AC$315,7))","v":""},{"$f":"IF(AC38=\"\",\"\",VLOOKUP(AC38,LIVRE!$A$8:$AC$315,10))","v":""},{"$f":"IF(AC38=\"\",\"\",AE38+AF38)","v":""},{"$f":"IF(AC38=\"\",\"\",VLOOKUP(AC38,LIVRE!$A$8:$AC$315,8))","v":""},{"$f":"IF(AC38=\"\",\"\",VLOOKUP(AC38,LIVRE!$A$8:$AC$315,11))","v":""},{"$f":"IF(AC38=\"\",\"\",AH38+AI38)","v":""}]
[null,null,{"$f":"IF(B39=\"\",\"\",VLOOKUP(B39,LIVRE!$A$8:$AC$315,4))","v":""},{"$f":"IF(B39=\"\",\"\",VLOOKUP(B39,LIVRE!$A$8:$AC$315,7))","v":""},{"$f":"IF(B39=\"\",\"\",VLOOKUP(B39,LIVRE!$A$8:$AC$315,10))","v":""},{"$f":"IF(B39=\"\",\"\",D39+E39)","v":""},{"$f":"IF(B39=\"\",\"\",VLOOKUP(B39,LIVRE!$A$8:$AC$315,8))","v":""},{"$f":"IF(B39=\"\",\"\",VLOOKUP(B39,LIVRE!$A$8:$AC$315,11))","v":""},{"$f":"IF(B39=\"\",\"\",G39+H39)","v":""},null,null,{"$f":"IF(K39=\"\",\"\",VLOOKUP(K39,LIVRE!$A$8:$AC$315,4))","v":""},{"$f":"IF(K39=\"\",\"\",VLOOKUP(K39,LIVRE!$A$8:$AC$315,7))","v":""},{"$f":"IF(K39=\"\",\"\",VLOOKUP(K39,LIVRE!$A$8:$AC$315,10))","v":""},{"$f":"IF(K39=\"\",\"\",M39+N39)","v":""},{"$f":"IF(K39=\"\",\"\",VLOOKUP(K39,LIVRE!$A$8:$AC$315,8))","v":""},{"$f":"IF(K39=\"\",\"\",VLOOKUP(K39,LIVRE!$A$8:$AC$315,11))","v":""},{"$f":"IF(K39=\"\",\"\",P39+Q39)","v":""},null,null,{"$f":"IF(T39=\"\",\"\",VLOOKUP(T39,LIVRE!$A$8:$AC$315,4))","v":""},{"$f":"IF(T39=\"\",\"\",VLOOKUP(T39,LIVRE!$A$8:$AC$315,7))","v":""},{"$f":"IF(T39=\"\",\"\",VLOOKUP(T39,LIVRE!$A$8:$AC$315,10))","v":""},{"$f":"IF(T39=\"\",\"\",V39+W39)","v":""},{"$f":"IF(T39=\"\",\"\",VLOOKUP(T39,LIVRE!$A$8:$AC$315,8))","v":""},{"$f":"IF(T39=\"\",\"\",VLOOKUP(T39,LIVRE!$A$8:$AC$315,11))","v":""},{"$f":"IF(T39=\"\",\"\",Y39+Z39)","v":""},null,null,{"$f":"IF(AC39=\"\",\"\",VLOOKUP(AC39,LIVRE!$A$8:$AC$315,4))","v":""},{"$f":"IF(AC39=\"\",\"\",VLOOKUP(AC39,LIVRE!$A$8:$AC$315,7))","v":""},{"$f":"IF(AC39=\"\",\"\",VLOOKUP(AC39,LIVRE!$A$8:$AC$315,10))","v":""},{"$f":"IF(AC39=\"\",\"\",AE39+AF39)","v":""},{"$f":"IF(AC39=\"\",\"\",VLOOKUP(AC39,LIVRE!$A$8:$AC$315,8))","v":""},{"$f":"IF(AC39=\"\",\"\",VLOOKUP(AC39,LIVRE!$A$8:$AC$315,11))","v":""},{"$f":"IF(AC39=\"\",\"\",AH39+AI39)","v":""}]
[null,null,{"$f":"IF(B40=\"\",\"\",VLOOKUP(B40,LIVRE!$A$8:$AC$315,4))","v":""},{"$f":"IF(B40=\"\",\"\",VLOOKUP(B40,LIVRE!$A$8:$AC$315,7))","v":""},{"$f":"IF(B40=\"\",\"\",VLOOKUP(B40,LIVRE!$A$8:$AC$315,10))","v":""},{"$f":"IF(B40=\"\",\"\",D40+E40)","v":""},{"$f":"IF(B40=\"\",\"\",VLOOKUP(B40,LIVRE!$A$8:$AC$315,8))","v":""},{"$f":"IF(B40=\"\",\"\",VLOOKUP(B40,LIVRE!$A$8:$AC$315,11))","v":""},{"$f":"IF(B40=\"\",\"\",G40+H40)","v":""},null,null,{"$f":"IF(K40=\"\",\"\",VLOOKUP(K40,LIVRE!$A$8:$AC$315,4))","v":""},{"$f":"IF(K40=\"\",\"\",VLOOKUP(K40,LIVRE!$A$8:$AC$315,7))","v":""},{"$f":"IF(K40=\"\",\"\",VLOOKUP(K40,LIVRE!$A$8:$AC$315,10))","v":""},{"$f":"IF(K40=\"\",\"\",M40+N40)","v":""},{"$f":"IF(K40=\"\",\"\",VLOOKUP(K40,LIVRE!$A$8:$AC$315,8))","v":""},{"$f":"IF(K40=\"\",\"\",VLOOKUP(K40,LIVRE!$A$8:$AC$315,11))","v":""},{"$f":"IF(K40=\"\",\"\",P40+Q40)","v":""},null,null,{"$f":"IF(T40=\"\",\"\",VLOOKUP(T40,LIVRE!$A$8:$AC$315,4))","v":""},{"$f":"IF(T40=\"\",\"\",VLOOKUP(T40,LIVRE!$A$8:$AC$315,7))","v":""},{"$f":"IF(T40=\"\",\"\",VLOOKUP(T40,LIVRE!$A$8:$AC$315,10))","v":""},{"$f":"IF(T40=\"\",\"\",V40+W40)","v":""},{"$f":"IF(T40=\"\",\"\",VLOOKUP(T40,LIVRE!$A$8:$AC$315,8))","v":""},{"$f":"IF(T40=\"\",\"\",VLOOKUP(T40,LIVRE!$A$8:$AC$315,11))","v":""},{"$f":"IF(T40=\"\",\"\",Y40+Z40)","v":""},null,null,{"$f":"IF(AC40=\"\",\"\",VLOOKUP(AC40,LIVRE!$A$8:$AC$315,4))","v":""},{"$f":"IF(AC40=\"\",\"\",VLOOKUP(AC40,LIVRE!$A$8:$AC$315,7))","v":""},{"$f":"IF(AC40=\"\",\"\",VLOOKUP(AC40,LIVRE!$A$8:$AC$315,10))","v":""},{"$f":"IF(AC40=\"\",\"\",AE40+AF40)","v":""},{"$f":"IF(AC40=\"\",\"\",VLOOKUP(AC40,LIVRE!$A$8:$AC$315,8))","v":""},{"$f":"IF(AC40=\"\",\"\",VLOOKUP(AC40,LIVRE!$A$8:$AC$315,11))","v":""},{"$f":"IF(AC40=\"\",\"\",AH40+AI40)","v":""}]
[null,null,{"$f":"IF(B41=\"\",\"\",VLOOKUP(B41,LIVRE!$A$8:$AC$315,4))","v":""},{"$f":"IF(B41=\"\",\"\",VLOOKUP(B41,LIVRE!$A$8:$AC$315,7))","v":""},{"$f":"IF(B41=\"\",\"\",VLOOKUP(B41,LIVRE!$A$8:$AC$315,10))","v":""},{"$f":"IF(B41=\"\",\"\",D41+E41)","v":""},{"$f":"IF(B41=\"\",\"\",VLOOKUP(B41,LIVRE!$A$8:$AC$315,8))","v":""},{"$f":"IF(B41=\"\",\"\",VLOOKUP(B41,LIVRE!$A$8:$AC$315,11))","v":""},{"$f":"IF(B41=\"\",\"\",G41+H41)","v":""},null,null,{"$f":"IF(K41=\"\",\"\",VLOOKUP(K41,LIVRE!$A$8:$AC$315,4))","v":""},{"$f":"IF(K41=\"\",\"\",VLOOKUP(K41,LIVRE!$A$8:$AC$315,7))","v":""},{"$f":"IF(K41=\"\",\"\",VLOOKUP(K41,LIVRE!$A$8:$AC$315,10))","v":""},{"$f":"IF(K41=\"\",\"\",M41+N41)","v":""},{"$f":"IF(K41=\"\",\"\",VLOOKUP(K41,LIVRE!$A$8:$AC$315,8))","v":""},{"$f":"IF(K41=\"\",\"\",VLOOKUP(K41,LIVRE!$A$8:$AC$315,11))","v":""},{"$f":"IF(K41=\"\",\"\",P41+Q41)","v":""},null,null,{"$f":"IF(T41=\"\",\"\",VLOOKUP(T41,LIVRE!$A$8:$AC$315,4))","v":""},{"$f":"IF(T41=\"\",\"\",VLOOKUP(T41,LIVRE!$A$8:$AC$315,7))","v":""},{"$f":"IF(T41=\"\",\"\",VLOOKUP(T41,LIVRE!$A$8:$AC$315,10))","v":""},{"$f":"IF(T41=\"\",\"\",V41+W41)","v":""},{"$f":"IF(T41=\"\",\"\",VLOOKUP(T41,LIVRE!$A$8:$AC$315,8))","v":""},{"$f":"IF(T41=\"\",\"\",VLOOKUP(T41,LIVRE!$A$8:$AC$315,11))","v":""},{"$f":"IF(T41=\"\",\"\",Y41+Z41)","v":""},null,null,{"$f":"IF(AC41=\"\",\"\",VLOOKUP(AC41,LIVRE!$A$8:$AC$315,4))","v":""},{"$f":"IF(AC41=\"\",\"\",VLOOKUP(AC41,LIVRE!$A$8:$AC$315,7))","v":""},{"$f":"IF(AC41=\"\",\"\",VLOOKUP(AC41,LIVRE!$A$8:$AC$315,10))","v":""},{"$f":"IF(AC41=\"\",\"\",AE41+AF41)","v":""},{"$f":"IF(AC41=\"\",\"\",VLOOKUP(AC41,LIVRE!$A$8:$AC$315,8))","v":""},{"$f":"IF(AC41=\"\",\"\",VLOOKUP(AC41,LIVRE!$A$8:$AC$315,11))","v":""},{"$f":"IF(AC41=\"\",\"\",AH41+AI41)","v":""}]
[null,null,{"$f":"IF(B42=\"\",\"\",VLOOKUP(B42,LIVRE!$A$8:$AC$315,4))","v":""},{"$f":"IF(B42=\"\",\"\",VLOOKUP(B42,LIVRE!$A$8:$AC$315,7))","v":""},{"$f":"IF(B42=\"\",\"\",VLOOKUP(B42,LIVRE!$A$8:$AC$315,10))","v":""},{"$f":"IF(B42=\"\",\"\",D42+E42)","v":""},{"$f":"IF(B42=\"\",\"\",VLOOKUP(B42,LIVRE!$A$8:$AC$315,8))","v":""},{"$f":"IF(B42=\"\",\"\",VLOOKUP(B42,LIVRE!$A$8:$AC$315,11))","v":""},{"$f":"IF(B42=\"\",\"\",G42+H42)","v":""},null,null,{"$f":"IF(K42=\"\",\"\",VLOOKUP(K42,LIVRE!$A$8:$AC$315,4))","v":""},{"$f":"IF(K42=\"\",\"\",VLOOKUP(K42,LIVRE!$A$8:$AC$315,7))","v":""},{"$f":"IF(K42=\"\",\"\",VLOOKUP(K42,LIVRE!$A$8:$AC$315,10))","v":""},{"$f":"IF(K42=\"\",\"\",M42+N42)","v":""},{"$f":"IF(K42=\"\",\"\",VLOOKUP(K42,LIVRE!$A$8:$AC$315,8))","v":""},{"$f":"IF(K42=\"\",\"\",VLOOKUP(K42,LIVRE!$A$8:$AC$315,11))","v":""},{"$f":"IF(K42=\"\",\"\",P42+Q42)","v":""},null,null,{"$f":"IF(T42=\"\",\"\",VLOOKUP(T42,LIVRE!$A$8:$AC$315,4))","v":""},{"$f":"IF(T42=\"\",\"\",VLOOKUP(T42,LIVRE!$A$8:$AC$315,7))","v":""},{"$f":"IF(T42=\"\",\"\",VLOOKUP(T42,LIVRE!$A$8:$AC$315,10))","v":""},{"$f":"IF(T42=\"\",\"\",V42+W42)","v":""},{"$f":"IF(T42=\"\",\"\",VLOOKUP(T42,LIVRE!$A$8:$AC$315,8))","v":""},{"$f":"IF(T42=\"\",\"\",VLOOKUP(T42,LIVRE!$A$8:$AC$315,11))","v":""},{"$f":"IF(T42=\"\",\"\",Y42+Z42)","v":""},null,null,{"$f":"IF(AC42=\"\",\"\",VLOOKUP(AC42,LIVRE!$A$8:$AC$315,4))","v":""},{"$f":"IF(AC42=\"\",\"\",VLOOKUP(AC42,LIVRE!$A$8:$AC$315,7))","v":""},{"$f":"IF(AC42=\"\",\"\",VLOOKUP(AC42,LIVRE!$A$8:$AC$315,10))","v":""},{"$f":"IF(AC42=\"\",\"\",AE42+AF42)","v":""},{"$f":"IF(AC42=\"\",\"\",VLOOKUP(AC42,LIVRE!$A$8:$AC$315,8))","v":""},{"$f":"IF(AC42=\"\",\"\",VLOOKUP(AC42,LIVRE!$A$8:$AC$315,11))","v":""},{"$f":"IF(AC42=\"\",\"\",AH42+AI42)","v":""}]
[null,null,{"$f":"IF(B43=\"\",\"\",VLOOKUP(B43,LIVRE!$A$8:$AC$315,4))","v":""},{"$f":"IF(B43=\"\",\"\",VLOOKUP(B43,LIVRE!$A$8:$AC$315,7))","v":""},{"$f":"IF(B43=\"\",\"\",VLOOKUP(B43,LIVRE!$A$8:$AC$315,10))","v":""},{"$f":"IF(B43=\"\",\"\",D43+E43)","v":""},{"$f":"IF(B43=\"\",\"\",VLOOKUP(B43,LIVRE!$A$8:$AC$315,8))","v":""},{"$f":"IF(B43=\"\",\"\",VLOOKUP(B43,LIVRE!$A$8:$AC$315,11))","v":""},{"$f":"IF(B43=\"\",\"\",G43+H43)","v":""},null,null,{"$f":"IF(K43=\"\",\"\",VLOOKUP(K43,LIVRE!$A$8:$AC$315,4))","v":""},{"$f":"IF(K43=\"\",\"\",VLOOKUP(K43,LIVRE!$A$8:$AC$315,7))","v":""},{"$f":"IF(K43=\"\",\"\",VLOOKUP(K43,LIVRE!$A$8:$AC$315,10))","v":""},{"$f":"IF(K43=\"\",\"\",M43+N43)","v":""},{"$f":"IF(K43=\"\",\"\",VLOOKUP(K43,LIVRE!$A$8:$AC$315,8))","v":""},{"$f":"IF(K43=\"\",\"\",VLOOKUP(K43,LIVRE!$A$8:$AC$315,11))","v":""},{"$f":"IF(K43=\"\",\"\",P43+Q43)","v":""},null,null,{"$f":"IF(T43=\"\",\"\",VLOOKUP(T43,LIVRE!$A$8:$AC$315,4))","v":""},{"$f":"IF(T43=\"\",\"\",VLOOKUP(T43,LIVRE!$A$8:$AC$315,7))","v":""},{"$f":"IF(T43=\"\",\"\",VLOOKUP(T43,LIVRE!$A$8:$AC$315,10))","v":""},{"$f":"IF(T43=\"\",\"\",V43+W43)","v":""},{"$f":"IF(T43=\"\",\"\",VLOOKUP(T43,LIVRE!$A$8:$AC$315,8))","v":""},{"$f":"IF(T43=\"\",\"\",VLOOKUP(T43,LIVRE!$A$8:$AC$315,11))","v":""},{"$f":"IF(T43=\"\",\"\",Y43+Z43)","v":""},null,null,{"$f":"IF(AC43=\"\",\"\",VLOOKUP(AC43,LIVRE!$A$8:$AC$315,4))","v":""},{"$f":"IF(AC43=\"\",\"\",VLOOKUP(AC43,LIVRE!$A$8:$AC$315,7))","v":""},{"$f":"IF(AC43=\"\",\"\",VLOOKUP(AC43,LIVRE!$A$8:$AC$315,10))","v":""},{"$f":"IF(AC43=\"\",\"\",AE43+AF43)","v":""},{"$f":"IF(AC43=\"\",\"\",VLOOKUP(AC43,LIVRE!$A$8:$AC$315,8))","v":""},{"$f":"IF(AC43=\"\",\"\",VLOOKUP(AC43,LIVRE!$A$8:$AC$315,11))","v":""},{"$f":"IF(AC43=\"\",\"\",AH43+AI43)","v":""}]
[null,null,{"$f":"IF(B44=\"\",\"\",VLOOKUP(B44,LIVRE!$A$8:$AC$315,4))","v":""},{"$f":"IF(B44=\"\",\"\",VLOOKUP(B44,LIVRE!$A$8:$AC$315,7))","v":""},{"$f":"IF(B44=\"\",\"\",VLOOKUP(B44,LIVRE!$A$8:$AC$315,10))","v":""},{"$f":"IF(B44=\"\",\"\",D44+E44)","v":""},{"$f":"IF(B44=\"\",\"\",VLOOKUP(B44,LIVRE!$A$8:$AC$315,8))","v":""},{"$f":"IF(B44=\"\",\"\",VLOOKUP(B44,LIVRE!$A$8:$AC$315,11))","v":""},{"$f":"IF(B44=\"\",\"\",G44+H44)","v":""},null,null,{"$f":"IF(K44=\"\",\"\",VLOOKUP(K44,LIVRE!$A$8:$AC$315,4))","v":""},{"$f":"IF(K44=\"\",\"\",VLOOKUP(K44,LIVRE!$A$8:$AC$315,7))","v":""},{"$f":"IF(K44=\"\",\"\",VLOOKUP(K44,LIVRE!$A$8:$AC$315,10))","v":""},{"$f":"IF(K44=\"\",\"\",M44+N44)","v":""},{"$f":"IF(K44=\"\",\"\",VLOOKUP(K44,LIVRE!$A$8:$AC$315,8))","v":""},{"$f":"IF(K44=\"\",\"\",VLOOKUP(K44,LIVRE!$A$8:$AC$315,11))","v":""},{"$f":"IF(K44=\"\",\"\",P44+Q44)","v":""},null,null,{"$f":"IF(T44=\"\",\"\",VLOOKUP(T44,LIVRE!$A$8:$AC$315,4))","v":""},{"$f":"IF(T44=\"\",\"\",VLOOKUP(T44,LIVRE!$A$8:$AC$315,7))","v":""},{"$f":"IF(T44=\"\",\"\",VLOOKUP(T44,LIVRE!$A$8:$AC$315,10))","v":""},{"$f":"IF(T44=\"\",\"\",V44+W44)","v":""},{"$f":"IF(T44=\"\",\"\",VLOOKUP(T44,LIVRE!$A$8:$AC$315,8))","v":""},{"$f":"IF(T44=\"\",\"\",VLOOKUP(T44,LIVRE!$A$8:$AC$315,11))","v":""},{"$f":"IF(T44=\"\",\"\",Y44+Z44)","v":""},null,null,{"$f":"IF(AC44=\"\",\"\",VLOOKUP(AC44,LIVRE!$A$8:$AC$315,4))","v":""},{"$f":"IF(AC44=\"\",\"\",VLOOKUP(AC44,LIVRE!$A$8:$AC$315,7))","v":""},{"$f":"IF(AC44=\"\",\"\",VLOOKUP(AC44,LIVRE!$A$8:$AC$315,10))","v":""},{"$f":"IF(AC44=\"\",\"\",AE44+AF44)","v":""},{"$f":"IF(AC44=\"\",\"\",VLOOKUP(AC44,LIVRE!$A$8:$AC$315,8))","v":""},{"$f":"IF(AC44=\"\",\"\",VLOOKUP(AC44,LIVRE!$A$8:$AC$315,11))","v":""},{"$f":"IF(AC44=\"\",\"\",AH44+AI44)","v":""}]
[null,null,{"$f":"IF(B45=\"\",\"\",VLOOKUP(B45,LIVRE!$A$8:$AC$315,4))","v":""},{"$f":"IF(B45=\"\",\"\",VLOOKUP(B45,LIVRE!$A$8:$AC$315,7))","v":""},{"$f":"IF(B45=\"\",\"\",VLOOKUP(B45,LIVRE!$A$8:$AC$315,10))","v":""},{"$f":"IF(B45=\"\",\"\",D45+E45)","v":""},{"$f":"IF(B45=\"\",\"\",VLOOKUP(B45,LIVRE!$A$8:$AC$315,8))","v":""},{"$f":"IF(B45=\"\",\"\",VLOOKUP(B45,LIVRE!$A$8:$AC$315,11))","v":""},{"$f":"IF(B45=\"\",\"\",G45+H45)","v":""},null,null,{"$f":"IF(K45=\"\",\"\",VLOOKUP(K45,LIVRE!$A$8:$AC$315,4))","v":""},{"$f":"IF(K45=\"\",\"\",VLOOKUP(K45,LIVRE!$A$8:$AC$315,7))","v":""},{"$f":"IF(K45=\"\",\"\",VLOOKUP(K45,LIVRE!$A$8:$AC$315,10))","v":""},{"$f":"IF(K45=\"\",\"\",M45+N45)","v":""},{"$f":"IF(K45=\"\",\"\",VLOOKUP(K45,LIVRE!$A$8:$AC$315,8))","v":""},{"$f":"IF(K45=\"\",\"\",VLOOKUP(K45,LIVRE!$A$8:$AC$315,11))","v":""},{"$f":"IF(K45=\"\",\"\",P45+Q45)","v":""},null,null,{"$f":"IF(T45=\"\",\"\",VLOOKUP(T45,LIVRE!$A$8:$AC$315,4))","v":""},{"$f":"IF(T45=\"\",\"\",VLOOKUP(T45,LIVRE!$A$8:$AC$315,7))","v":""},{"$f":"IF(T45=\"\",\"\",VLOOKUP(T45,LIVRE!$A$8:$AC$315,10))","v":""},{"$f":"IF(T45=\"\",\"\",V45+W45)","v":""},{"$f":"IF(T45=\"\",\"\",VLOOKUP(T45,LIVRE!$A$8:$AC$315,8))","v":""},{"$f":"IF(T45=\"\",\"\",VLOOKUP(T45,LIVRE!$A$8:$AC$315,11))","v":""},{"$f":"IF(T45=\"\",\"\",Y45+Z45)","v":""},null,null,{"$f":"IF(AC45=\"\",\"\",VLOOKUP(AC45,LIVRE!$A$8:$AC$315,4))","v":""},{"$f":"IF(AC45=\"\",\"\",VLOOKUP(AC45,LIVRE!$A$8:$AC$315,7))","v":""},{"$f":"IF(AC45=\"\",\"\",VLOOKUP(AC45,LIVRE!$A$8:$AC$315,10))","v":""},{"$f":"IF(AC45=\"\",\"\",AE45+AF45)","v":""},{"$f":"IF(AC45=\"\",\"\",VLOOKUP(AC45,LIVRE!$A$8:$AC$315,8))","v":""},{"$f":"IF(AC45=\"\",\"\",VLOOKUP(AC45,LIVRE!$A$8:$AC$315,11))","v":""},{"$f":"IF(AC45=\"\",\"\",AH45+AI45)","v":""}]
[null,null,{"$f":"IF(B46=\"\",\"\",VLOOKUP(B46,LIVRE!$A$8:$AC$315,4))","v":""},{"$f":"IF(B46=\"\",\"\",VLOOKUP(B46,LIVRE!$A$8:$AC$315,7))","v":""},{"$f":"IF(B46=\"\",\"\",VLOOKUP(B46,LIVRE!$A$8:$AC$315,10))","v":""},{"$f":"IF(B46=\"\",\"\",D46+E46)","v":""},{"$f":"IF(B46=\"\",\"\",VLOOKUP(B46,LIVRE!$A$8:$AC$315,8))","v":""},{"$f":"IF(B46=\"\",\"\",VLOOKUP(B46,LIVRE!$A$8:$AC$315,11))","v":""},{"$f":"IF(B46=\"\",\"\",G46+H46)","v":""},null,null,{"$f":"IF(K46=\"\",\"\",VLOOKUP(K46,LIVRE!$A$8:$AC$315,4))","v":""},{"$f":"IF(K46=\"\",\"\",VLOOKUP(K46,LIVRE!$A$8:$AC$315,7))","v":""},{"$f":"IF(K46=\"\",\"\",VLOOKUP(K46,LIVRE!$A$8:$AC$315,10))","v":""},{"$f":"IF(K46=\"\",\"\",M46+N46)","v":""},{"$f":"IF(K46=\"\",\"\",VLOOKUP(K46,LIVRE!$A$8:$AC$315,8))","v":""},{"$f":"IF(K46=\"\",\"\",VLOOKUP(K46,LIVRE!$A$8:$AC$315,11))","v":""},{"$f":"IF(K46=\"\",\"\",P46+Q46)","v":""},null,null,{"$f":"IF(T46=\"\",\"\",VLOOKUP(T46,LIVRE!$A$8:$AC$315,4))","v":""},{"$f":"IF(T46=\"\",\"\",VLOOKUP(T46,LIVRE!$A$8:$AC$315,7))","v":""},{"$f":"IF(T46=\"\",\"\",VLOOKUP(T46,LIVRE!$A$8:$AC$315,10))","v":""},{"$f":"IF(T46=\"\",\"\",V46+W46)","v":""},{"$f":"IF(T46=\"\",\"\",VLOOKUP(T46,LIVRE!$A$8:$AC$315,8))","v":""},{"$f":"IF(T46=\"\",\"\",VLOOKUP(T46,LIVRE!$A$8:$AC$315,11))","v":""},{"$f":"IF(T46=\"\",\"\",Y46+Z46)","v":""},null,null,{"$f":"IF(AC46=\"\",\"\",VLOOKUP(AC46,LIVRE!$A$8:$AC$315,4))","v":""},{"$f":"IF(AC46=\"\",\"\",VLOOKUP(AC46,LIVRE!$A$8:$AC$315,7))","v":""},{"$f":"IF(AC46=\"\",\"\",VLOOKUP(AC46,LIVRE!$A$8:$AC$315,10))","v":""},{"$f":"IF(AC46=\"\",\"\",AE46+AF46)","v":""},{"$f":"IF(AC46=\"\",\"\",VLOOKUP(AC46,LIVRE!$A$8:$AC$315,8))","v":""},{"$f":"IF(AC46=\"\",\"\",VLOOKUP(AC46,LIVRE!$A$8:$AC$315,11))","v":""},{"$f":"IF(AC46=\"\",\"\",AH46+AI46)","v":""}]
[null,null,{"$f":"IF(B47=\"\",\"\",VLOOKUP(B47,LIVRE!$A$8:$AC$315,4))","v":""},{"$f":"IF(B47=\"\",\"\",VLOOKUP(B47,LIVRE!$A$8:$AC$315,7))","v":""},{"$f":"IF(B47=\"\",\"\",VLOOKUP(B47,LIVRE!$A$8:$AC$315,10))","v":""},{"$f":"IF(B47=\"\",\"\",D47+E47)","v":""},{"$f":"IF(B47=\"\",\"\",VLOOKUP(B47,LIVRE!$A$8:$AC$315,8))","v":""},{"$f":"IF(B47=\"\",\"\",VLOOKUP(B47,LIVRE!$A$8:$AC$315,11))","v":""},{"$f":"IF(B47=\"\",\"\",G47+H47)","v":""},null,null,{"$f":"IF(K47=\"\",\"\",VLOOKUP(K47,LIVRE!$A$8:$AC$315,4))","v":""},{"$f":"IF(K47=\"\",\"\",VLOOKUP(K47,LIVRE!$A$8:$AC$315,7))","v":""},{"$f":"IF(K47=\"\",\"\",VLOOKUP(K47,LIVRE!$A$8:$AC$315,10))","v":""},{"$f":"IF(K47=\"\",\"\",M47+N47)","v":""},{"$f":"IF(K47=\"\",\"\",VLOOKUP(K47,LIVRE!$A$8:$AC$315,8))","v":""},{"$f":"IF(K47=\"\",\"\",VLOOKUP(K47,LIVRE!$A$8:$AC$315,11))","v":""},{"$f":"IF(K47=\"\",\"\",P47+Q47)","v":""},null,null,{"$f":"IF(T47=\"\",\"\",VLOOKUP(T47,LIVRE!$A$8:$AC$315,4))","v":""},{"$f":"IF(T47=\"\",\"\",VLOOKUP(T47,LIVRE!$A$8:$AC$315,7))","v":""},{"$f":"IF(T47=\"\",\"\",VLOOKUP(T47,LIVRE!$A$8:$AC$315,10))","v":""},{"$f":"IF(T47=\"\",\"\",V47+W47)","v":""},{"$f":"IF(T47=\"\",\"\",VLOOKUP(T47,LIVRE!$A$8:$AC$315,8))","v":""},{"$f":"IF(T47=\"\",\"\",VLOOKUP(T47,LIVRE!$A$8:$AC$315,11))","v":""},{"$f":"IF(T47=\"\",\"\",Y47+Z47)","v":""},null,null,{"$f":"IF(AC47=\"\",\"\",VLOOKUP(AC47,LIVRE!$A$8:$AC$315,4))","v":""},{"$f":"IF(AC47=\"\",\"\",VLOOKUP(AC47,LIVRE!$A$8:$AC$315,7))","v":""},{"$f":"IF(AC47=\"\",\"\",VLOOKUP(AC47,LIVRE!$A$8:$AC$315,10))","v":""},{"$f":"IF(AC47=\"\",\"\",AE47+AF47)","v":""},{"$f":"IF(AC47=\"\",\"\",VLOOKUP(AC47,LIVRE!$A$8:$AC$315,8))","v":""},{"$f":"IF(AC47=\"\",\"\",VLOOKUP(AC47,LIVRE!$A$8:$AC$315,11))","v":""},{"$f":"IF(AC47=\"\",\"\",AH47+AI47)","v":""}]
[null,null,{"$f":"IF(B48=\"\",\"\",VLOOKUP(B48,LIVRE!$A$8:$AC$315,4))","v":""},{"$f":"IF(B48=\"\",\"\",VLOOKUP(B48,LIVRE!$A$8:$AC$315,7))","v":""},{"$f":"IF(B48=\"\",\"\",VLOOKUP(B48,LIVRE!$A$8:$AC$315,10))","v":""},{"$f":"IF(B48=\"\",\"\",D48+E48)","v":""},{"$f":"IF(B48=\"\",\"\",VLOOKUP(B48,LIVRE!$A$8:$AC$315,8))","v":""},{"$f":"IF(B48=\"\",\"\",VLOOKUP(B48,LIVRE!$A$8:$AC$315,11))","v":""},{"$f":"IF(B48=\"\",\"\",G48+H48)","v":""},null,null,{"$f":"IF(K48=\"\",\"\",VLOOKUP(K48,LIVRE!$A$8:$AC$315,4))","v":""},{"$f":"IF(K48=\"\",\"\",VLOOKUP(K48,LIVRE!$A$8:$AC$315,7))","v":""},{"$f":"IF(K48=\"\",\"\",VLOOKUP(K48,LIVRE!$A$8:$AC$315,10))","v":""},{"$f":"IF(K48=\"\",\"\",M48+N48)","v":""},{"$f":"IF(K48=\"\",\"\",VLOOKUP(K48,LIVRE!$A$8:$AC$315,8))","v":""},{"$f":"IF(K48=\"\",\"\",VLOOKUP(K48,LIVRE!$A$8:$AC$315,11))","v":""},{"$f":"IF(K48=\"\",\"\",P48+Q48)","v":""},null,null,{"$f":"IF(T48=\"\",\"\",VLOOKUP(T48,LIVRE!$A$8:$AC$315,4))","v":""},{"$f":"IF(T48=\"\",\"\",VLOOKUP(T48,LIVRE!$A$8:$AC$315,7))","v":""},{"$f":"IF(T48=\"\",\"\",VLOOKUP(T48,LIVRE!$A$8:$AC$315,10))","v":""},{"$f":"IF(T48=\"\",\"\",V48+W48)","v":""},{"$f":"IF(T48=\"\",\"\",VLOOKUP(T48,LIVRE!$A$8:$AC$315,8))","v":""},{"$f":"IF(T48=\"\",\"\",VLOOKUP(T48,LIVRE!$A$8:$AC$315,11))","v":""},{"$f":"IF(T48=\"\",\"\",Y48+Z48)","v":""},null,null,{"$f":"IF(AC48=\"\",\"\",VLOOKUP(AC48,LIVRE!$A$8:$AC$315,4))","v":""},{"$f":"IF(AC48=\"\",\"\",VLOOKUP(AC48,LIVRE!$A$8:$AC$315,7))","v":""},{"$f":"IF(AC48=\"\",\"\",VLOOKUP(AC48,LIVRE!$A$8:$AC$315,10))","v":""},{"$f":"IF(AC48=\"\",\"\",AE48+AF48)","v":""},{"$f":"IF(AC48=\"\",\"\",VLOOKUP(AC48,LIVRE!$A$8:$AC$315,8))","v":""},{"$f":"IF(AC48=\"\",\"\",VLOOKUP(AC48,LIVRE!$A$8:$AC$315,11))","v":""},{"$f":"IF(AC48=\"\",\"\",AH48+AI48)","v":""}]
[null,null,{"$f":"IF(B49=\"\",\"\",VLOOKUP(B49,LIVRE!$A$8:$AC$315,4))","v":""},{"$f":"IF(B49=\"\",\"\",VLOOKUP(B49,LIVRE!$A$8:$AC$315,7))","v":""},{"$f":"IF(B49=\"\",\"\",VLOOKUP(B49,LIVRE!$A$8:$AC$315,10))","v":""},{"$f":"IF(B49=\"\",\"\",D49+E49)","v":""},{"$f":"IF(B49=\"\",\"\",VLOOKUP(B49,LIVRE!$A$8:$AC$315,8))","v":""},{"$f":"IF(B49=\"\",\"\",VLOOKUP(B49,LIVRE!$A$8:$AC$315,11))","v":""},{"$f":"IF(B49=\"\",\"\",G49+H49)","v":""},null,null,{"$f":"IF(K49=\"\",\"\",VLOOKUP(K49,LIVRE!$A$8:$AC$315,4))","v":""},{"$f":"IF(K49=\"\",\"\",VLOOKUP(K49,LIVRE!$A$8:$AC$315,7))","v":""},{"$f":"IF(K49=\"\",\"\",VLOOKUP(K49,LIVRE!$A$8:$AC$315,10))","v":""},{"$f":"IF(K49=\"\",\"\",M49+N49)","v":""},{"$f":"IF(K49=\"\",\"\",VLOOKUP(K49,LIVRE!$A$8:$AC$315,8))","v":""},{"$f":"IF(K49=\"\",\"\",VLOOKUP(K49,LIVRE!$A$8:$AC$315,11))","v":""},{"$f":"IF(K49=\"\",\"\",P49+Q49)","v":""},null,null,{"$f":"IF(T49=\"\",\"\",VLOOKUP(T49,LIVRE!$A$8:$AC$315,4))","v":""},{"$f":"IF(T49=\"\",\"\",VLOOKUP(T49,LIVRE!$A$8:$AC$315,7))","v":""},{"$f":"IF(T49=\"\",\"\",VLOOKUP(T49,LIVRE!$A$8:$AC$315,10))","v":""},{"$f":"IF(T49=\"\",\"\",V49+W49)","v":""},{"$f":"IF(T49=\"\",\"\",VLOOKUP(T49,LIVRE!$A$8:$AC$315,8))","v":""},{"$f":"IF(T49=\"\",\"\",VLOOKUP(T49,LIVRE!$A$8:$AC$315,11))","v":""},{"$f":"IF(T49=\"\",\"\",Y49+Z49)","v":""},null,null,{"$f":"IF(AC49=\"\",\"\",VLOOKUP(AC49,LIVRE!$A$8:$AC$315,4))","v":""},{"$f":"IF(AC49=\"\",\"\",VLOOKUP(AC49,LIVRE!$A$8:$AC$315,7))","v":""},{"$f":"IF(AC49=\"\",\"\",VLOOKUP(AC49,LIVRE!$A$8:$AC$315,10))","v":""},{"$f":"IF(AC49=\"\",\"\",AE49+AF49)","v":""},{"$f":"IF(AC49=\"\",\"\",VLOOKUP(AC49,LIVRE!$A$8:$AC$315,8))","v":""},{"$f":"IF(AC49=\"\",\"\",VLOOKUP(AC49,LIVRE!$A$8:$AC$315,11))","v":""},{"$f":"IF(AC49=\"\",\"\",AH49+AI49)","v":""}]
[null,null,{"$f":"IF(B50=\"\",\"\",VLOOKUP(B50,LIVRE!$A$8:$AC$315,4))","v":""},{"$f":"IF(B50=\"\",\"\",VLOOKUP(B50,LIVRE!$A$8:$AC$315,7))","v":""},{"$f":"IF(B50=\"\",\"\",VLOOKUP(B50,LIVRE!$A$8:$AC$315,10))","v":""},{"$f":"IF(B50=\"\",\"\",D50+E50)","v":""},{"$f":"IF(B50=\"\",\"\",VLOOKUP(B50,LIVRE!$A$8:$AC$315,8))","v":""},{"$f":"IF(B50=\"\",\"\",VLOOKUP(B50,LIVRE!$A$8:$AC$315,11))","v":""},{"$f":"IF(B50=\"\",\"\",G50+H50)","v":""},null,null,{"$f":"IF(K50=\"\",\"\",VLOOKUP(K50,LIVRE!$A$8:$AC$315,4))","v":""},{"$f":"IF(K50=\"\",\"\",VLOOKUP(K50,LIVRE!$A$8:$AC$315,7))","v":""},{"$f":"IF(K50=\"\",\"\",VLOOKUP(K50,LIVRE!$A$8:$AC$315,10))","v":""},{"$f":"IF(K50=\"\",\"\",M50+N50)","v":""},{"$f":"IF(K50=\"\",\"\",VLOOKUP(K50,LIVRE!$A$8:$AC$315,8))","v":""},{"$f":"IF(K50=\"\",\"\",VLOOKUP(K50,LIVRE!$A$8:$AC$315,11))","v":""},{"$f":"IF(K50=\"\",\"\",P50+Q50)","v":""},null,null,{"$f":"IF(T50=\"\",\"\",VLOOKUP(T50,LIVRE!$A$8:$AC$315,4))","v":""},{"$f":"IF(T50=\"\",\"\",VLOOKUP(T50,LIVRE!$A$8:$AC$315,7))","v":""},{"$f":"IF(T50=\"\",\"\",VLOOKUP(T50,LIVRE!$A$8:$AC$315,10))","v":""},{"$f":"IF(T50=\"\",\"\",V50+W50)","v":""},{"$f":"IF(T50=\"\",\"\",VLOOKUP(T50,LIVRE!$A$8:$AC$315,8))","v":""},{"$f":"IF(T50=\"\",\"\",VLOOKUP(T50,LIVRE!$A$8:$AC$315,11))","v":""},{"$f":"IF(T50=\"\",\"\",Y50+Z50)","v":""},null,null,{"$f":"IF(AC50=\"\",\"\",VLOOKUP(AC50,LIVRE!$A$8:$AC$315,4))","v":""},{"$f":"IF(AC50=\"\",\"\",VLOOKUP(AC50,LIVRE!$A$8:$AC$315,7))","v":""},{"$f":"IF(AC50=\"\",\"\",VLOOKUP(AC50,LIVRE!$A$8:$AC$315,10))","v":""},{"$f":"IF(AC50=\"\",\"\",AE50+AF50)","v":""},{"$f":"IF(AC50=\"\",\"\",VLOOKUP(AC50,LIVRE!$A$8:$AC$315,8))","v":""},{"$f":"IF(AC50=\"\",\"\",VLOOKUP(AC50,LIVRE!$A$8:$AC$315,11))","v":""},{"$f":"IF(AC50=\"\",\"\",AH50+AI50)","v":""}]
[null,null,{"$f":"IF(B51=\"\",\"\",VLOOKUP(B51,LIVRE!$A$8:$AC$315,4))","v":""},{"$f":"IF(B51=\"\",\"\",VLOOKUP(B51,LIVRE!$A$8:$AC$315,7))","v":""},{"$f":"IF(B51=\"\",\"\",VLOOKUP(B51,LIVRE!$A$8:$AC$315,10))","v":""},{"$f":"IF(B51=\"\",\"\",D51+E51)","v":""},{"$f":"IF(B51=\"\",\"\",VLOOKUP(B51,LIVRE!$A$8:$AC$315,8))","v":""},{"$f":"IF(B51=\"\",\"\",VLOOKUP(B51,LIVRE!$A$8:$AC$315,11))","v":""},{"$f":"IF(B51=\"\",\"\",G51+H51)","v":""},null,null,{"$f":"IF(K51=\"\",\"\",VLOOKUP(K51,LIVRE!$A$8:$AC$315,4))","v":""},{"$f":"IF(K51=\"\",\"\",VLOOKUP(K51,LIVRE!$A$8:$AC$315,7))","v":""},{"$f":"IF(K51=\"\",\"\",VLOOKUP(K51,LIVRE!$A$8:$AC$315,10))","v":""},{"$f":"IF(K51=\"\",\"\",M51+N51)","v":""},{"$f":"IF(K51=\"\",\"\",VLOOKUP(K51,LIVRE!$A$8:$AC$315,8))","v":""},{"$f":"IF(K51=\"\",\"\",VLOOKUP(K51,LIVRE!$A$8:$AC$315,11))","v":""},{"$f":"IF(K51=\"\",\"\",P51+Q51)","v":""},null,null,{"$f":"IF(T51=\"\",\"\",VLOOKUP(T51,LIVRE!$A$8:$AC$315,4))","v":""},{"$f":"IF(T51=\"\",\"\",VLOOKUP(T51,LIVRE!$A$8:$AC$315,7))","v":""},{"$f":"IF(T51=\"\",\"\",VLOOKUP(T51,LIVRE!$A$8:$AC$315,10))","v":""},{"$f":"IF(T51=\"\",\"\",V51+W51)","v":""},{"$f":"IF(T51=\"\",\"\",VLOOKUP(T51,LIVRE!$A$8:$AC$315,8))","v":""},{"$f":"IF(T51=\"\",\"\",VLOOKUP(T51,LIVRE!$A$8:$AC$315,11))","v":""},{"$f":"IF(T51=\"\",\"\",Y51+Z51)","v":""},null,null,{"$f":"IF(AC51=\"\",\"\",VLOOKUP(AC51,LIVRE!$A$8:$AC$315,4))","v":""},{"$f":"IF(AC51=\"\",\"\",VLOOKUP(AC51,LIVRE!$A$8:$AC$315,7))","v":""},{"$f":"IF(AC51=\"\",\"\",VLOOKUP(AC51,LIVRE!$A$8:$AC$315,10))","v":""},{"$f":"IF(AC51=\"\",\"\",AE51+AF51)","v":""},{"$f":"IF(AC51=\"\",\"\",VLOOKUP(AC51,LIVRE!$A$8:$AC$315,8))","v":""},{"$f":"IF(AC51=\"\",\"\",VLOOKUP(AC51,LIVRE!$A$8:$AC$315,11))","v":""},{"$f":"IF(AC51=\"\",\"\",AH51+AI51)","v":""}]
[null,null,{"$f":"IF(B52=\"\",\"\",VLOOKUP(B52,LIVRE!$A$8:$AC$315,4))","v":""},{"$f":"IF(B52=\"\",\"\",VLOOKUP(B52,LIVRE!$A$8:$AC$315,7))","v":""},{"$f":"IF(B52=\"\",\"\",VLOOKUP(B52,LIVRE!$A$8:$AC$315,10))","v":""},{"$f":"IF(B52=\"\",\"\",D52+E52)","v":""},{"$f":"IF(B52=\"\",\"\",VLOOKUP(B52,LIVRE!$A$8:$AC$315,8))","v":""},{"$f":"IF(B52=\"\",\"\",VLOOKUP(B52,LIVRE!$A$8:$AC$315,11))","v":""},{"$f":"IF(B52=\"\",\"\",G52+H52)","v":""},null,null,{"$f":"IF(K52=\"\",\"\",VLOOKUP(K52,LIVRE!$A$8:$AC$315,4))","v":""},{"$f":"IF(K52=\"\",\"\",VLOOKUP(K52,LIVRE!$A$8:$AC$315,7))","v":""},{"$f":"IF(K52=\"\",\"\",VLOOKUP(K52,LIVRE!$A$8:$AC$315,10))","v":""},{"$f":"IF(K52=\"\",\"\",M52+N52)","v":""},{"$f":"IF(K52=\"\",\"\",VLOOKUP(K52,LIVRE!$A$8:$AC$315,8))","v":""},{"$f":"IF(K52=\"\",\"\",VLOOKUP(K52,LIVRE!$A$8:$AC$315,11))","v":""},{"$f":"IF(K52=\"\",\"\",P52+Q52)","v":""},null,null,{"$f":"IF(T52=\"\",\"\",VLOOKUP(T52,LIVRE!$A$8:$AC$315,4))","v":""},{"$f":"IF(T52=\"\",\"\",VLOOKUP(T52,LIVRE!$A$8:$AC$315,7))","v":""},{"$f":"IF(T52=\"\",\"\",VLOOKUP(T52,LIVRE!$A$8:$AC$315,10))","v":""},{"$f":"IF(T52=\"\",\"\",V52+W52)","v":""},{"$f":"IF(T52=\"\",\"\",VLOOKUP(T52,LIVRE!$A$8:$AC$315,8))","v":""},{"$f":"IF(T52=\"\",\"\",VLOOKUP(T52,LIVRE!$A$8:$AC$315,11))","v":""},{"$f":"IF(T52=\"\",\"\",Y52+Z52)","v":""},null,null,{"$f":"IF(AC52=\"\",\"\",VLOOKUP(AC52,LIVRE!$A$8:$AC$315,4))","v":""},{"$f":"IF(AC52=\"\",\"\",VLOOKUP(AC52,LIVRE!$A$8:$AC$315,7))","v":""},{"$f":"IF(AC52=\"\",\"\",VLOOKUP(AC52,LIVRE!$A$8:$AC$315,10))","v":""},{"$f":"IF(AC52=\"\",\"\",AE52+AF52)","v":""},{"$f":"IF(AC52=\"\",\"\",VLOOKUP(AC52,LIVRE!$A$8:$AC$315,8))","v":""},{"$f":"IF(AC52=\"\",\"\",VLOOKUP(AC52,LIVRE!$A$8:$AC$315,11))","v":""},{"$f":"IF(AC52=\"\",\"\",AH52+AI52)","v":""}]
[null,null,{"$f":"IF(B53=\"\",\"\",VLOOKUP(B53,LIVRE!$A$8:$AC$315,4))","v":""},{"$f":"IF(B53=\"\",\"\",VLOOKUP(B53,LIVRE!$A$8:$AC$315,7))","v":""},{"$f":"IF(B53=\"\",\"\",VLOOKUP(B53,LIVRE!$A$8:$AC$315,10))","v":""},{"$f":"IF(B53=\"\",\"\",D53+E53)","v":""},{"$f":"IF(B53=\"\",\"\",VLOOKUP(B53,LIVRE!$A$8:$AC$315,8))","v":""},{"$f":"IF(B53=\"\",\"\",VLOOKUP(B53,LIVRE!$A$8:$AC$315,11))","v":""},{"$f":"IF(B53=\"\",\"\",G53+H53)","v":""},null,null,{"$f":"IF(K53=\"\",\"\",VLOOKUP(K53,LIVRE!$A$8:$AC$315,4))","v":""},{"$f":"IF(K53=\"\",\"\",VLOOKUP(K53,LIVRE!$A$8:$AC$315,7))","v":""},{"$f":"IF(K53=\"\",\"\",VLOOKUP(K53,LIVRE!$A$8:$AC$315,10))","v":""},{"$f":"IF(K53=\"\",\"\",M53+N53)","v":""},{"$f":"IF(K53=\"\",\"\",VLOOKUP(K53,LIVRE!$A$8:$AC$315,8))","v":""},{"$f":"IF(K53=\"\",\"\",VLOOKUP(K53,LIVRE!$A$8:$AC$315,11))","v":""},{"$f":"IF(K53=\"\",\"\",P53+Q53)","v":""},null,null,{"$f":"IF(T53=\"\",\"\",VLOOKUP(T53,LIVRE!$A$8:$AC$315,4))","v":""},{"$f":"IF(T53=\"\",\"\",VLOOKUP(T53,LIVRE!$A$8:$AC$315,7))","v":""},{"$f":"IF(T53=\"\",\"\",VLOOKUP(T53,LIVRE!$A$8:$AC$315,10))","v":""},{"$f":"IF(T53=\"\",\"\",V53+W53)","v":""},{"$f":"IF(T53=\"\",\"\",VLOOKUP(T53,LIVRE!$A$8:$AC$315,8))","v":""},{"$f":"IF(T53=\"\",\"\",VLOOKUP(T53,LIVRE!$A$8:$AC$315,11))","v":""},{"$f":"IF(T53=\"\",\"\",Y53+Z53)","v":""},null,null,{"$f":"IF(AC53=\"\",\"\",VLOOKUP(AC53,LIVRE!$A$8:$AC$315,4))","v":""},{"$f":"IF(AC53=\"\",\"\",VLOOKUP(AC53,LIVRE!$A$8:$AC$315,7))","v":""},{"$f":"IF(AC53=\"\",\"\",VLOOKUP(AC53,LIVRE!$A$8:$AC$315,10))","v":""},{"$f":"IF(AC53=\"\",\"\",AE53+AF53)","v":""},{"$f":"IF(AC53=\"\",\"\",VLOOKUP(AC53,LIVRE!$A$8:$AC$315,8))","v":""},{"$f":"IF(AC53=\"\",\"\",VLOOKUP(AC53,LIVRE!$A$8:$AC$315,11))","v":""},{"$f":"IF(AC53=\"\",\"\",AH53+AI53)","v":""}]
[null,null,{"$f":"IF(B54=\"\",\"\",VLOOKUP(B54,LIVRE!$A$8:$AC$315,4))","v":""},{"$f":"IF(B54=\"\",\"\",VLOOKUP(B54,LIVRE!$A$8:$AC$315,7))","v":""},{"$f":"IF(B54=\"\",\"\",VLOOKUP(B54,LIVRE!$A$8:$AC$315,10))","v":""},{"$f":"IF(B54=\"\",\"\",D54+E54)","v":""},{"$f":"IF(B54=\"\",\"\",VLOOKUP(B54,LIVRE!$A$8:$AC$315,8))","v":""},{"$f":"IF(B54=\"\",\"\",VLOOKUP(B54,LIVRE!$A$8:$AC$315,11))","v":""},{"$f":"IF(B54=\"\",\"\",G54+H54)","v":""},null,null,{"$f":"IF(K54=\"\",\"\",VLOOKUP(K54,LIVRE!$A$8:$AC$315,4))","v":""},{"$f":"IF(K54=\"\",\"\",VLOOKUP(K54,LIVRE!$A$8:$AC$315,7))","v":""},{"$f":"IF(K54=\"\",\"\",VLOOKUP(K54,LIVRE!$A$8:$AC$315,10))","v":""},{"$f":"IF(K54=\"\",\"\",M54+N54)","v":""},{"$f":"IF(K54=\"\",\"\",VLOOKUP(K54,LIVRE!$A$8:$AC$315,8))","v":""},{"$f":"IF(K54=\"\",\"\",VLOOKUP(K54,LIVRE!$A$8:$AC$315,11))","v":""},{"$f":"IF(K54=\"\",\"\",P54+Q54)","v":""},null,null,{"$f":"IF(T54=\"\",\"\",VLOOKUP(T54,LIVRE!$A$8:$AC$315,4))","v":""},{"$f":"IF(T54=\"\",\"\",VLOOKUP(T54,LIVRE!$A$8:$AC$315,7))","v":""},{"$f":"IF(T54=\"\",\"\",VLOOKUP(T54,LIVRE!$A$8:$AC$315,10))","v":""},{"$f":"IF(T54=\"\",\"\",V54+W54)","v":""},{"$f":"IF(T54=\"\",\"\",VLOOKUP(T54,LIVRE!$A$8:$AC$315,8))","v":""},{"$f":"IF(T54=\"\",\"\",VLOOKUP(T54,LIVRE!$A$8:$AC$315,11))","v":""},{"$f":"IF(T54=\"\",\"\",Y54+Z54)","v":""},null,null,{"$f":"IF(AC54=\"\",\"\",VLOOKUP(AC54,LIVRE!$A$8:$AC$315,4))","v":""},{"$f":"IF(AC54=\"\",\"\",VLOOKUP(AC54,LIVRE!$A$8:$AC$315,7))","v":""},{"$f":"IF(AC54=\"\",\"\",VLOOKUP(AC54,LIVRE!$A$8:$AC$315,10))","v":""},{"$f":"IF(AC54=\"\",\"\",AE54+AF54)","v":""},{"$f":"IF(AC54=\"\",\"\",VLOOKUP(AC54,LIVRE!$A$8:$AC$315,8))","v":""},{"$f":"IF(AC54=\"\",\"\",VLOOKUP(AC54,LIVRE!$A$8:$AC$315,11))","v":""},{"$f":"IF(AC54=\"\",\"\",AH54+AI54)","v":""}]
[null,null,{"$f":"IF(B55=\"\",\"\",VLOOKUP(B55,LIVRE!$A$8:$AC$315,4))","v":""},{"$f":"IF(B55=\"\",\"\",VLOOKUP(B55,LIVRE!$A$8:$AC$315,7))","v":""},{"$f":"IF(B55=\"\",\"\",VLOOKUP(B55,LIVRE!$A$8:$AC$315,10))","v":""},{"$f":"IF(B55=\"\",\"\",D55+E55)","v":""},{"$f":"IF(B55=\"\",\"\",VLOOKUP(B55,LIVRE!$A$8:$AC$315,8))","v":""},{"$f":"IF(B55=\"\",\"\",VLOOKUP(B55,LIVRE!$A$8:$AC$315,11))","v":""},{"$f":"IF(B55=\"\",\"\",G55+H55)","v":""},null,null,{"$f":"IF(K55=\"\",\"\",VLOOKUP(K55,LIVRE!$A$8:$AC$315,4))","v":""},{"$f":"IF(K55=\"\",\"\",VLOOKUP(K55,LIVRE!$A$8:$AC$315,7))","v":""},{"$f":"IF(K55=\"\",\"\",VLOOKUP(K55,LIVRE!$A$8:$AC$315,10))","v":""},{"$f":"IF(K55=\"\",\"\",M55+N55)","v":""},{"$f":"IF(K55=\"\",\"\",VLOOKUP(K55,LIVRE!$A$8:$AC$315,8))","v":""},{"$f":"IF(K55=\"\",\"\",VLOOKUP(K55,LIVRE!$A$8:$AC$315,11))","v":""},{"$f":"IF(K55=\"\",\"\",P55+Q55)","v":""},null,null,{"$f":"IF(T55=\"\",\"\",VLOOKUP(T55,LIVRE!$A$8:$AC$315,4))","v":""},{"$f":"IF(T55=\"\",\"\",VLOOKUP(T55,LIVRE!$A$8:$AC$315,7))","v":""},{"$f":"IF(T55=\"\",\"\",VLOOKUP(T55,LIVRE!$A$8:$AC$315,10))","v":""},{"$f":"IF(T55=\"\",\"\",V55+W55)","v":""},{"$f":"IF(T55=\"\",\"\",VLOOKUP(T55,LIVRE!$A$8:$AC$315,8))","v":""},{"$f":"IF(T55=\"\",\"\",VLOOKUP(T55,LIVRE!$A$8:$AC$315,11))","v":""},{"$f":"IF(T55=\"\",\"\",Y55+Z55)","v":""},null,null,{"$f":"IF(AC55=\"\",\"\",VLOOKUP(AC55,LIVRE!$A$8:$AC$315,4))","v":""},{"$f":"IF(AC55=\"\",\"\",VLOOKUP(AC55,LIVRE!$A$8:$AC$315,7))","v":""},{"$f":"IF(AC55=\"\",\"\",VLOOKUP(AC55,LIVRE!$A$8:$AC$315,10))","v":""},{"$f":"IF(AC55=\"\",\"\",AE55+AF55)","v":""},{"$f":"IF(AC55=\"\",\"\",VLOOKUP(AC55,LIVRE!$A$8:$AC$315,8))","v":""},{"$f":"IF(AC55=\"\",\"\",VLOOKUP(AC55,LIVRE!$A$8:$AC$315,11))","v":""},{"$f":"IF(AC55=\"\",\"\",AH55+AI55)","v":""}]
[null,null,{"$f":"IF(B56=\"\",\"\",VLOOKUP(B56,LIVRE!$A$8:$AC$315,4))","v":""},{"$f":"IF(B56=\"\",\"\",VLOOKUP(B56,LIVRE!$A$8:$AC$315,7))","v":""},{"$f":"IF(B56=\"\",\"\",VLOOKUP(B56,LIVRE!$A$8:$AC$315,10))","v":""},{"$f":"IF(B56=\"\",\"\",D56+E56)","v":""},{"$f":"IF(B56=\"\",\"\",VLOOKUP(B56,LIVRE!$A$8:$AC$315,8))","v":""},{"$f":"IF(B56=\"\",\"\",VLOOKUP(B56,LIVRE!$A$8:$AC$315,11))","v":""},{"$f":"IF(B56=\"\",\"\",G56+H56)","v":""},null,null,{"$f":"IF(K56=\"\",\"\",VLOOKUP(K56,LIVRE!$A$8:$AC$315,4))","v":""},{"$f":"IF(K56=\"\",\"\",VLOOKUP(K56,LIVRE!$A$8:$AC$315,7))","v":""},{"$f":"IF(K56=\"\",\"\",VLOOKUP(K56,LIVRE!$A$8:$AC$315,10))","v":""},{"$f":"IF(K56=\"\",\"\",M56+N56)","v":""},{"$f":"IF(K56=\"\",\"\",VLOOKUP(K56,LIVRE!$A$8:$AC$315,8))","v":""},{"$f":"IF(K56=\"\",\"\",VLOOKUP(K56,LIVRE!$A$8:$AC$315,11))","v":""},{"$f":"IF(K56=\"\",\"\",P56+Q56)","v":""},null,null,{"$f":"IF(T56=\"\",\"\",VLOOKUP(T56,LIVRE!$A$8:$AC$315,4))","v":""},{"$f":"IF(T56=\"\",\"\",VLOOKUP(T56,LIVRE!$A$8:$AC$315,7))","v":""},{"$f":"IF(T56=\"\",\"\",VLOOKUP(T56,LIVRE!$A$8:$AC$315,10))","v":""},{"$f":"IF(T56=\"\",\"\",V56+W56)","v":""},{"$f":"IF(T56=\"\",\"\",VLOOKUP(T56,LIVRE!$A$8:$AC$315,8))","v":""},{"$f":"IF(T56=\"\",\"\",VLOOKUP(T56,LIVRE!$A$8:$AC$315,11))","v":""},{"$f":"IF(T56=\"\",\"\",Y56+Z56)","v":""},null,null,{"$f":"IF(AC56=\"\",\"\",VLOOKUP(AC56,LIVRE!$A$8:$AC$315,4))","v":""},{"$f":"IF(AC56=\"\",\"\",VLOOKUP(AC56,LIVRE!$A$8:$AC$315,7))","v":""},{"$f":"IF(AC56=\"\",\"\",VLOOKUP(AC56,LIVRE!$A$8:$AC$315,10))","v":""},{"$f":"IF(AC56=\"\",\"\",AE56+AF56)","v":""},{"$f":"IF(AC56=\"\",\"\",VLOOKUP(AC56,LIVRE!$A$8:$AC$315,8))","v":""},{"$f":"IF(AC56=\"\",\"\",VLOOKUP(AC56,LIVRE!$A$8:$AC$315,11))","v":""},{"$f":"IF(AC56=\"\",\"\",AH56+AI56)","v":""}]
[null,null,{"$f":"IF(B57=\"\",\"\",VLOOKUP(B57,LIVRE!$A$8:$AC$315,4))","v":""},{"$f":"IF(B57=\"\",\"\",VLOOKUP(B57,LIVRE!$A$8:$AC$315,7))","v":""},{"$f":"IF(B57=\"\",\"\",VLOOKUP(B57,LIVRE!$A$8:$AC$315,10))","v":""},{"$f":"IF(B57=\"\",\"\",D57+E57)","v":""},{"$f":"IF(B57=\"\",\"\",VLOOKUP(B57,LIVRE!$A$8:$AC$315,8))","v":""},{"$f":"IF(B57=\"\",\"\",VLOOKUP(B57,LIVRE!$A$8:$AC$315,11))","v":""},{"$f":"IF(B57=\"\",\"\",G57+H57)","v":""},null,null,{"$f":"IF(K57=\"\",\"\",VLOOKUP(K57,LIVRE!$A$8:$AC$315,4))","v":""},{"$f":"IF(K57=\"\",\"\",VLOOKUP(K57,LIVRE!$A$8:$AC$315,7))","v":""},{"$f":"IF(K57=\"\",\"\",VLOOKUP(K57,LIVRE!$A$8:$AC$315,10))","v":""},{"$f":"IF(K57=\"\",\"\",M57+N57)","v":""},{"$f":"IF(K57=\"\",\"\",VLOOKUP(K57,LIVRE!$A$8:$AC$315,8))","v":""},{"$f":"IF(K57=\"\",\"\",VLOOKUP(K57,LIVRE!$A$8:$AC$315,11))","v":""},{"$f":"IF(K57=\"\",\"\",P57+Q57)","v":""},null,null,{"$f":"IF(T57=\"\",\"\",VLOOKUP(T57,LIVRE!$A$8:$AC$315,4))","v":""},{"$f":"IF(T57=\"\",\"\",VLOOKUP(T57,LIVRE!$A$8:$AC$315,7))","v":""},{"$f":"IF(T57=\"\",\"\",VLOOKUP(T57,LIVRE!$A$8:$AC$315,10))","v":""},{"$f":"IF(T57=\"\",\"\",V57+W57)","v":""},{"$f":"IF(T57=\"\",\"\",VLOOKUP(T57,LIVRE!$A$8:$AC$315,8))","v":""},{"$f":"IF(T57=\"\",\"\",VLOOKUP(T57,LIVRE!$A$8:$AC$315,11))","v":""},{"$f":"IF(T57=\"\",\"\",Y57+Z57)","v":""},null,null,{"$f":"IF(AC57=\"\",\"\",VLOOKUP(AC57,LIVRE!$A$8:$AC$315,4))","v":""},{"$f":"IF(AC57=\"\",\"\",VLOOKUP(AC57,LIVRE!$A$8:$AC$315,7))","v":""},{"$f":"IF(AC57=\"\",\"\",VLOOKUP(AC57,LIVRE!$A$8:$AC$315,10))","v":""},{"$f":"IF(AC57=\"\",\"\",AE57+AF57)","v":""},{"$f":"IF(AC57=\"\",\"\",VLOOKUP(AC57,LIVRE!$A$8:$AC$315,8))","v":""},{"$f":"IF(AC57=\"\",\"\",VLOOKUP(AC57,LIVRE!$A$8:$AC$315,11))","v":""},{"$f":"IF(AC57=\"\",\"\",AH57+AI57)","v":""}]
[null,null,{"$f":"IF(B58=\"\",\"\",VLOOKUP(B58,LIVRE!$A$8:$AC$315,4))","v":""},{"$f":"IF(B58=\"\",\"\",VLOOKUP(B58,LIVRE!$A$8:$AC$315,7))","v":""},{"$f":"IF(B58=\"\",\"\",VLOOKUP(B58,LIVRE!$A$8:$AC$315,10))","v":""},{"$f":"IF(B58=\"\",\"\",D58+E58)","v":""},{"$f":"IF(B58=\"\",\"\",VLOOKUP(B58,LIVRE!$A$8:$AC$315,8))","v":""},{"$f":"IF(B58=\"\",\"\",VLOOKUP(B58,LIVRE!$A$8:$AC$315,11))","v":""},{"$f":"IF(B58=\"\",\"\",G58+H58)","v":""},null,null,{"$f":"IF(K58=\"\",\"\",VLOOKUP(K58,LIVRE!$A$8:$AC$315,4))","v":""},{"$f":"IF(K58=\"\",\"\",VLOOKUP(K58,LIVRE!$A$8:$AC$315,7))","v":""},{"$f":"IF(K58=\"\",\"\",VLOOKUP(K58,LIVRE!$A$8:$AC$315,10))","v":""},{"$f":"IF(K58=\"\",\"\",M58+N58)","v":""},{"$f":"IF(K58=\"\",\"\",VLOOKUP(K58,LIVRE!$A$8:$AC$315,8))","v":""},{"$f":"IF(K58=\"\",\"\",VLOOKUP(K58,LIVRE!$A$8:$AC$315,11))","v":""},{"$f":"IF(K58=\"\",\"\",P58+Q58)","v":""},null,null,{"$f":"IF(T58=\"\",\"\",VLOOKUP(T58,LIVRE!$A$8:$AC$315,4))","v":""},{"$f":"IF(T58=\"\",\"\",VLOOKUP(T58,LIVRE!$A$8:$AC$315,7))","v":""},{"$f":"IF(T58=\"\",\"\",VLOOKUP(T58,LIVRE!$A$8:$AC$315,10))","v":""},{"$f":"IF(T58=\"\",\"\",V58+W58)","v":""},{"$f":"IF(T58=\"\",\"\",VLOOKUP(T58,LIVRE!$A$8:$AC$315,8))","v":""},{"$f":"IF(T58=\"\",\"\",VLOOKUP(T58,LIVRE!$A$8:$AC$315,11))","v":""},{"$f":"IF(T58=\"\",\"\",Y58+Z58)","v":""},null,null,{"$f":"IF(AC58=\"\",\"\",VLOOKUP(AC58,LIVRE!$A$8:$AC$315,4))","v":""},{"$f":"IF(AC58=\"\",\"\",VLOOKUP(AC58,LIVRE!$A$8:$AC$315,7))","v":""},{"$f":"IF(AC58=\"\",\"\",VLOOKUP(AC58,LIVRE!$A$8:$AC$315,10))","v":""},{"$f":"IF(AC58=\"\",\"\",AE58+AF58)","v":""},{"$f":"IF(AC58=\"\",\"\",VLOOKUP(AC58,LIVRE!$A$8:$AC$315,8))","v":""},{"$f":"IF(AC58=\"\",\"\",VLOOKUP(AC58,LIVRE!$A$8:$AC$315,11))","v":""},{"$f":"IF(AC58=\"\",\"\",AH58+AI58)","v":""}]
[null,null,{"$f":"IF(B59=\"\",\"\",VLOOKUP(B59,LIVRE!$A$8:$AC$315,4))","v":""},{"$f":"IF(B59=\"\",\"\",VLOOKUP(B59,LIVRE!$A$8:$AC$315,7))","v":""},{"$f":"IF(B59=\"\",\"\",VLOOKUP(B59,LIVRE!$A$8:$AC$315,10))","v":""},{"$f":"IF(B59=\"\",\"\",D59+E59)","v":""},{"$f":"IF(B59=\"\",\"\",VLOOKUP(B59,LIVRE!$A$8:$AC$315,8))","v":""},{"$f":"IF(B59=\"\",\"\",VLOOKUP(B59,LIVRE!$A$8:$AC$315,11))","v":""},{"$f":"IF(B59=\"\",\"\",G59+H59)","v":""},null,null,{"$f":"IF(K59=\"\",\"\",VLOOKUP(K59,LIVRE!$A$8:$AC$315,4))","v":""},{"$f":"IF(K59=\"\",\"\",VLOOKUP(K59,LIVRE!$A$8:$AC$315,7))","v":""},{"$f":"IF(K59=\"\",\"\",VLOOKUP(K59,LIVRE!$A$8:$AC$315,10))","v":""},{"$f":"IF(K59=\"\",\"\",M59+N59)","v":""},{"$f":"IF(K59=\"\",\"\",VLOOKUP(K59,LIVRE!$A$8:$AC$315,8))","v":""},{"$f":"IF(K59=\"\",\"\",VLOOKUP(K59,LIVRE!$A$8:$AC$315,11))","v":""},{"$f":"IF(K59=\"\",\"\",P59+Q59)","v":""},null,null,{"$f":"IF(T59=\"\",\"\",VLOOKUP(T59,LIVRE!$A$8:$AC$315,4))","v":""},{"$f":"IF(T59=\"\",\"\",VLOOKUP(T59,LIVRE!$A$8:$AC$315,7))","v":""},{"$f":"IF(T59=\"\",\"\",VLOOKUP(T59,LIVRE!$A$8:$AC$315,10))","v":""},{"$f":"IF(T59=\"\",\"\",V59+W59)","v":""},{"$f":"IF(T59=\"\",\"\",VLOOKUP(T59,LIVRE!$A$8:$AC$315,8))","v":""},{"$f":"IF(T59=\"\",\"\",VLOOKUP(T59,LIVRE!$A$8:$AC$315,11))","v":""},{"$f":"IF(T59=\"\",\"\",Y59+Z59)","v":""},null,null,{"$f":"IF(AC59=\"\",\"\",VLOOKUP(AC59,LIVRE!$A$8:$AC$315,4))","v":""},{"$f":"IF(AC59=\"\",\"\",VLOOKUP(AC59,LIVRE!$A$8:$AC$315,7))","v":""},{"$f":"IF(AC59=\"\",\"\",VLOOKUP(AC59,LIVRE!$A$8:$AC$315,10))","v":""},{"$f":"IF(AC59=\"\",\"\",AE59+AF59)","v":""},{"$f":"IF(AC59=\"\",\"\",VLOOKUP(AC59,LIVRE!$A$8:$AC$315,8))","v":""},{"$f":"IF(AC59=\"\",\"\",VLOOKUP(AC59,LIVRE!$A$8:$AC$315,11))","v":""},{"$f":"IF(AC59=\"\",\"\",AH59+AI59)","v":""}]
[null,null,{"$f":"IF(B60=\"\",\"\",VLOOKUP(B60,LIVRE!$A$8:$AC$315,4))","v":""},{"$f":"IF(B60=\"\",\"\",VLOOKUP(B60,LIVRE!$A$8:$AC$315,7))","v":""},{"$f":"IF(B60=\"\",\"\",VLOOKUP(B60,LIVRE!$A$8:$AC$315,10))","v":""},{"$f":"IF(B60=\"\",\"\",D60+E60)","v":""},{"$f":"IF(B60=\"\",\"\",VLOOKUP(B60,LIVRE!$A$8:$AC$315,8))","v":""},{"$f":"IF(B60=\"\",\"\",VLOOKUP(B60,LIVRE!$A$8:$AC$315,11))","v":""},{"$f":"IF(B60=\"\",\"\",G60+H60)","v":""},null,null,{"$f":"IF(K60=\"\",\"\",VLOOKUP(K60,LIVRE!$A$8:$AC$315,4))","v":""},{"$f":"IF(K60=\"\",\"\",VLOOKUP(K60,LIVRE!$A$8:$AC$315,7))","v":""},{"$f":"IF(K60=\"\",\"\",VLOOKUP(K60,LIVRE!$A$8:$AC$315,10))","v":""},{"$f":"IF(K60=\"\",\"\",M60+N60)","v":""},{"$f":"IF(K60=\"\",\"\",VLOOKUP(K60,LIVRE!$A$8:$AC$315,8))","v":""},{"$f":"IF(K60=\"\",\"\",VLOOKUP(K60,LIVRE!$A$8:$AC$315,11))","v":""},{"$f":"IF(K60=\"\",\"\",P60+Q60)","v":""},null,null,{"$f":"IF(T60=\"\",\"\",VLOOKUP(T60,LIVRE!$A$8:$AC$315,4))","v":""},{"$f":"IF(T60=\"\",\"\",VLOOKUP(T60,LIVRE!$A$8:$AC$315,7))","v":""},{"$f":"IF(T60=\"\",\"\",VLOOKUP(T60,LIVRE!$A$8:$AC$315,10))","v":""},{"$f":"IF(T60=\"\",\"\",V60+W60)","v":""},{"$f":"IF(T60=\"\",\"\",VLOOKUP(T60,LIVRE!$A$8:$AC$315,8))","v":""},{"$f":"IF(T60=\"\",\"\",VLOOKUP(T60,LIVRE!$A$8:$AC$315,11))","v":""},{"$f":"IF(T60=\"\",\"\",Y60+Z60)","v":""},null,null,{"$f":"IF(AC60=\"\",\"\",VLOOKUP(AC60,LIVRE!$A$8:$AC$315,4))","v":""},{"$f":"IF(AC60=\"\",\"\",VLOOKUP(AC60,LIVRE!$A$8:$AC$315,7))","v":""},{"$f":"IF(AC60=\"\",\"\",VLOOKUP(AC60,LIVRE!$A$8:$AC$315,10))","v":""},{"$f":"IF(AC60=\"\",\"\",AE60+AF60)","v":""},{"$f":"IF(AC60=\"\",\"\",VLOOKUP(AC60,LIVRE!$A$8:$AC$315,8))","v":""},{"$f":"IF(AC60=\"\",\"\",VLOOKUP(AC60,LIVRE!$A$8:$AC$315,11))","v":""},{"$f":"IF(AC60=\"\",\"\",AH60+AI60)","v":""}]
[null,null,{"$f":"IF(B61=\"\",\"\",VLOOKUP(B61,LIVRE!$A$8:$AC$315,4))","v":""},{"$f":"IF(B61=\"\",\"\",VLOOKUP(B61,LIVRE!$A$8:$AC$315,7))","v":""},{"$f":"IF(B61=\"\",\"\",VLOOKUP(B61,LIVRE!$A$8:$AC$315,10))","v":""},{"$f":"IF(B61=\"\",\"\",D61+E61)","v":""},{"$f":"IF(B61=\"\",\"\",VLOOKUP(B61,LIVRE!$A$8:$AC$315,8))","v":""},{"$f":"IF(B61=\"\",\"\",VLOOKUP(B61,LIVRE!$A$8:$AC$315,11))","v":""},{"$f":"IF(B61=\"\",\"\",G61+H61)","v":""},null,null,{"$f":"IF(K61=\"\",\"\",VLOOKUP(K61,LIVRE!$A$8:$AC$315,4))","v":""},{"$f":"IF(K61=\"\",\"\",VLOOKUP(K61,LIVRE!$A$8:$AC$315,7))","v":""},{"$f":"IF(K61=\"\",\"\",VLOOKUP(K61,LIVRE!$A$8:$AC$315,10))","v":""},{"$f":"IF(K61=\"\",\"\",M61+N61)","v":""},{"$f":"IF(K61=\"\",\"\",VLOOKUP(K61,LIVRE!$A$8:$AC$315,8))","v":""},{"$f":"IF(K61=\"\",\"\",VLOOKUP(K61,LIVRE!$A$8:$AC$315,11))","v":""},{"$f":"IF(K61=\"\",\"\",P61+Q61)","v":""},null,null,{"$f":"IF(T61=\"\",\"\",VLOOKUP(T61,LIVRE!$A$8:$AC$315,4))","v":""},{"$f":"IF(T61=\"\",\"\",VLOOKUP(T61,LIVRE!$A$8:$AC$315,7))","v":""},{"$f":"IF(T61=\"\",\"\",VLOOKUP(T61,LIVRE!$A$8:$AC$315,10))","v":""},{"$f":"IF(T61=\"\",\"\",V61+W61)","v":""},{"$f":"IF(T61=\"\",\"\",VLOOKUP(T61,LIVRE!$A$8:$AC$315,8))","v":""},{"$f":"IF(T61=\"\",\"\",VLOOKUP(T61,LIVRE!$A$8:$AC$315,11))","v":""},{"$f":"IF(T61=\"\",\"\",Y61+Z61)","v":""},null,null,{"$f":"IF(AC61=\"\",\"\",VLOOKUP(AC61,LIVRE!$A$8:$AC$315,4))","v":""},{"$f":"IF(AC61=\"\",\"\",VLOOKUP(AC61,LIVRE!$A$8:$AC$315,7))","v":""},{"$f":"IF(AC61=\"\",\"\",VLOOKUP(AC61,LIVRE!$A$8:$AC$315,10))","v":""},{"$f":"IF(AC61=\"\",\"\",AE61+AF61)","v":""},{"$f":"IF(AC61=\"\",\"\",VLOOKUP(AC61,LIVRE!$A$8:$AC$315,8))","v":""},{"$f":"IF(AC61=\"\",\"\",VLOOKUP(AC61,LIVRE!$A$8:$AC$315,11))","v":""},{"$f":"IF(AC61=\"\",\"\",AH61+AI61)","v":""}]
[null,null,{"$f":"IF(B62=\"\",\"\",VLOOKUP(B62,LIVRE!$A$8:$AC$315,4))","v":""},{"$f":"IF(B62=\"\",\"\",VLOOKUP(B62,LIVRE!$A$8:$AC$315,7))","v":""},{"$f":"IF(B62=\"\",\"\",VLOOKUP(B62,LIVRE!$A$8:$AC$315,10))","v":""},{"$f":"IF(B62=\"\",\"\",D62+E62)","v":""},{"$f":"IF(B62=\"\",\"\",VLOOKUP(B62,LIVRE!$A$8:$AC$315,8))","v":""},{"$f":"IF(B62=\"\",\"\",VLOOKUP(B62,LIVRE!$A$8:$AC$315,11))","v":""},{"$f":"IF(B62=\"\",\"\",G62+H62)","v":""},null,null,{"$f":"IF(K62=\"\",\"\",VLOOKUP(K62,LIVRE!$A$8:$AC$315,4))","v":""},{"$f":"IF(K62=\"\",\"\",VLOOKUP(K62,LIVRE!$A$8:$AC$315,7))","v":""},{"$f":"IF(K62=\"\",\"\",VLOOKUP(K62,LIVRE!$A$8:$AC$315,10))","v":""},{"$f":"IF(K62=\"\",\"\",M62+N62)","v":""},{"$f":"IF(K62=\"\",\"\",VLOOKUP(K62,LIVRE!$A$8:$AC$315,8))","v":""},{"$f":"IF(K62=\"\",\"\",VLOOKUP(K62,LIVRE!$A$8:$AC$315,11))","v":""},{"$f":"IF(K62=\"\",\"\",P62+Q62)","v":""},null,null,{"$f":"IF(T62=\"\",\"\",VLOOKUP(T62,LIVRE!$A$8:$AC$315,4))","v":""},{"$f":"IF(T62=\"\",\"\",VLOOKUP(T62,LIVRE!$A$8:$AC$315,7))","v":""},{"$f":"IF(T62=\"\",\"\",VLOOKUP(T62,LIVRE!$A$8:$AC$315,10))","v":""},{"$f":"IF(T62=\"\",\"\",V62+W62)","v":""},{"$f":"IF(T62=\"\",\"\",VLOOKUP(T62,LIVRE!$A$8:$AC$315,8))","v":""},{"$f":"IF(T62=\"\",\"\",VLOOKUP(T62,LIVRE!$A$8:$AC$315,11))","v":""},{"$f":"IF(T62=\"\",\"\",Y62+Z62)","v":""},null,null,{"$f":"IF(AC62=\"\",\"\",VLOOKUP(AC62,LIVRE!$A$8:$AC$315,4))","v":""},{"$f":"IF(AC62=\"\",\"\",VLOOKUP(AC62,LIVRE!$A$8:$AC$315,7))","v":""},{"$f":"IF(AC62=\"\",\"\",VLOOKUP(AC62,LIVRE!$A$8:$AC$315,10))","v":""},{"$f":"IF(AC62=\"\",\"\",AE62+AF62)","v":""},{"$f":"IF(AC62=\"\",\"\",VLOOKUP(AC62,LIVRE!$A$8:$AC$315,8))","v":""},{"$f":"IF(AC62=\"\",\"\",VLOOKUP(AC62,LIVRE!$A$8:$AC$315,11))","v":""},{"$f":"IF(AC62=\"\",\"\",AH62+AI62)","v":""}]
[null,null,{"$f":"IF(B63=\"\",\"\",VLOOKUP(B63,LIVRE!$A$8:$AC$315,4))","v":""},{"$f":"IF(B63=\"\",\"\",VLOOKUP(B63,LIVRE!$A$8:$AC$315,7))","v":""},{"$f":"IF(B63=\"\",\"\",VLOOKUP(B63,LIVRE!$A$8:$AC$315,10))","v":""},{"$f":"IF(B63=\"\",\"\",D63+E63)","v":""},{"$f":"IF(B63=\"\",\"\",VLOOKUP(B63,LIVRE!$A$8:$AC$315,8))","v":""},{"$f":"IF(B63=\"\",\"\",VLOOKUP(B63,LIVRE!$A$8:$AC$315,11))","v":""},{"$f":"IF(B63=\"\",\"\",G63+H63)","v":""},null,null,{"$f":"IF(K63=\"\",\"\",VLOOKUP(K63,LIVRE!$A$8:$AC$315,4))","v":""},{"$f":"IF(K63=\"\",\"\",VLOOKUP(K63,LIVRE!$A$8:$AC$315,7))","v":""},{"$f":"IF(K63=\"\",\"\",VLOOKUP(K63,LIVRE!$A$8:$AC$315,10))","v":""},{"$f":"IF(K63=\"\",\"\",M63+N63)","v":""},{"$f":"IF(K63=\"\",\"\",VLOOKUP(K63,LIVRE!$A$8:$AC$315,8))","v":""},{"$f":"IF(K63=\"\",\"\",VLOOKUP(K63,LIVRE!$A$8:$AC$315,11))","v":""},{"$f":"IF(K63=\"\",\"\",P63+Q63)","v":""},null,null,{"$f":"IF(T63=\"\",\"\",VLOOKUP(T63,LIVRE!$A$8:$AC$315,4))","v":""},{"$f":"IF(T63=\"\",\"\",VLOOKUP(T63,LIVRE!$A$8:$AC$315,7))","v":""},{"$f":"IF(T63=\"\",\"\",VLOOKUP(T63,LIVRE!$A$8:$AC$315,10))","v":""},{"$f":"IF(T63=\"\",\"\",V63+W63)","v":""},{"$f":"IF(T63=\"\",\"\",VLOOKUP(T63,LIVRE!$A$8:$AC$315,8))","v":""},{"$f":"IF(T63=\"\",\"\",VLOOKUP(T63,LIVRE!$A$8:$AC$315,11))","v":""},{"$f":"IF(T63=\"\",\"\",Y63+Z63)","v":""},null,null,{"$f":"IF(AC63=\"\",\"\",VLOOKUP(AC63,LIVRE!$A$8:$AC$315,4))","v":""},{"$f":"IF(AC63=\"\",\"\",VLOOKUP(AC63,LIVRE!$A$8:$AC$315,7))","v":""},{"$f":"IF(AC63=\"\",\"\",VLOOKUP(AC63,LIVRE!$A$8:$AC$315,10))","v":""},{"$f":"IF(AC63=\"\",\"\",AE63+AF63)","v":""},{"$f":"IF(AC63=\"\",\"\",VLOOKUP(AC63,LIVRE!$A$8:$AC$315,8))","v":""},{"$f":"IF(AC63=\"\",\"\",VLOOKUP(AC63,LIVRE!$A$8:$AC$315,11))","v":""},{"$f":"IF(AC63=\"\",\"\",AH63+AI63)","v":""}]
[null,null,"Total :",null,null,{"$f":"SUM(F9:F63)","v":0},null,null,{"$f":"SUM(I9:I63)","v":0},null,null,"Total :",null,null,{"$f":"SUM(O9:O63)","v":0},null,null,{"$f":"SUM(R9:R63)","v":0},null,null,"Total :",null,null,{"$f":"SUM(X9:X63)","v":0},null,null,{"$f":"SUM(AA9:AA63)","v":0},null,null,"Total :",null,null,{"$f":"SUM(AG9:AG63)","v":0},null,null,{"$f":"SUM(AJ9:AJ63)","v":0}]

{"sheet":"remise espèces","index":7,"n_rows":29,"n_cols":3,"rows_kept":29,"cut":false,"hidden":false,"merged":[[0,0,0,2],[1,0,1,2],[2,0,2,2],[3,0,3,2],[6,0,6,2]]}
[{"$f":"\"OCCE 50 Coopérative scolaire \"&Coordonnées!B6","v":"OCCE 50 Coopérative scolaire"}]
[{"$f":"Coordonnées!B2","v":0}]
[{"$f":"Coordonnées!B3","v":0}]
[{"$f":"Coordonnées!B4","v":0}]
[]
[]
[{"$f":"\"numéro de compte \"&Coordonnées!B7","v":"numéro de compte"}]
[]
["date",{"$f":"TODAY()","v":"2023-09-04"}]
["total remise",null,{"$f":"SUM(C13:C19,C22:C29)","v":0}]
[]
["billets","nombre","total"]
[500,null,{"$f":"B13*A13","v":0}]
[200,null,{"$f":"B14*A14","v":0}]
[100,null,{"$f":"B15*A15","v":0}]
[50,null,{"$f":"B16*A16","v":0}]
[20,null,{"$f":"B17*A17","v":0}]
[10,null,{"$f":"B18*A18","v":0}]
[5,null,{"$f":"B19*A19","v":0}]
[]
["pièces","nombre","total"]
[2,null,{"$f":"B22*A22","v":0}]
[1,null,{"$f":"B23*A23","v":0}]
[0.5,null,{"$f":"B24*A24","v":0}]
[0.2,null,{"$f":"B25*A25","v":0}]
[0.1,null,{"$f":"B26*A26","v":0}]
[0.05,null,{"$f":"B27*A27","v":0}]
[0.02,null,{"$f":"B28*A28","v":0}]
[0.01,null,{"$f":"B29*A29","v":0}]

{"sheet":"remise chèques","index":8,"n_rows":14,"n_cols":6,"rows_kept":14,"cut":false,"hidden":false,"merged":[[0,0,0,2],[1,0,1,2],[2,0,2,2],[3,0,3,2],[6,0,6,2],[12,0,12,2]]}
[{"$f":"\"OCCE 50 Coopérative scolaire \"&Coordonnées!B6","v":"OCCE 50 Coopérative scolaire"},null,null,null,null,"Banque populaire"]
[{"$f":"Coordonnées!B2","v":0},null,null,null,null,"BNP"]
[{"$f":"Coordonnées!B3","v":0},null,null,null,null,"Caisse d'épargne"]
[{"$f":"Coordonnées!B4","v":0},null,null,null,null,"CIC"]
[null,null,null,null,null,"Crédit Agricole"]
[null,null,null,null,null,"Crédit mutuel"]
[{"$f":"\"numéro de compte \"&Coordonnées!B7","v":"numéro de compte"},null,null,null,null,"LCL"]
[null,null,null,null,null,"Société générale"]
["date",{"$f":"TODAY()","v":"2023-09-04"}]
["total remise",null,{"$f":"SUM(C15:C200)","v":0}]
["Nombre de Chèques",null,{"$f":"COUNTA(C15:C200)","v":0}]
[]
["Détails chèques"]
["Banque","Nom de l'émetteur","montant"]

{"sheet":"pièces =","index":9,"n_rows":10,"n_cols":2,"rows_kept":10,"cut":false,"hidden":false,"merged":[[0,0,0,7],[1,0,1,7],[2,0,2,7],[4,1,4,7],[5,1,5,7],[6,1,6,7],[7,1,7,7],[9,1,9,7]]}
["L'Association Départementale OCCE"]
["vous propose des feuilles imprimables"]
["correspondant à des documents comptables vierges…"]
[]
[1,"Pièce comptable type"]
[2,"Pièce de régie d'avance"]
[3,"Bordereau de remise de chèques entre la classe et la coopérative centrale"]
[4,"Bordereau de remise d'éspèces entre la classe et la coopérative centrale"]
[5,"Fiche Navette Ecole -- Famille"]
[6,"Inventaire des biens acquis par la coopérative"]

{"sheet":"1","index":10,"n_rows":45,"n_cols":7,"rows_kept":45,"cut":false,"hidden":false,"merged":[[6,0,6,6],[8,0,8,6],[10,0,10,6],[12,0,12,6],[14,0,14,6],[16,0,16,6],[18,0,18,6],[20,0,20,6],[22,0,22,6],[24,0,24,6],[26,0,26,6],[28,0,28,6],[30,0,30,6],[32,0,32,6],[34,0,34,6],[36,0,36,6],[38,0,38,6],[43,3,43,5],[43,6,44,6],[44,3,44,5]]}
[null,null,null,null,null,"Pièce n°"]
[]
[]
[null,null,null,null,null,"    Date :","……/……/…………"]
[]
[]
["OBJET"]
[]
[]
[]
[]
[]
[]
[]
[]
[]
[]
[]
[]
[]
[]
[]
[]
[]
[]
[]
[]
[]
[]
[]
[]
[]
[]
[]
[]
[]
[]
[]
[]
["q Remise de chèques n° ……………………….."]
["q Remise d'espèces"]
["q Virement",null,null,null,null,null,"Total de la pièce :"]
["q Paiement en espèces"]
["q Paiement par chèque :",null,"Banque n°  ","……………………………..",null,null,"……………..,……. €"]
[null,null,"CCP n°  ","…………………………….."]

{"sheet":"2","index":11,"n_rows":35,"n_cols":7,"rows_kept":35,"cut":false,"hidden":false,"merged":[[5,0,5,6],[8,1,13,5],[16,0,16,6],[18,0,18,6],[22,0,22,6],[23,0,23,6],[24,0,24,6],[27,0,27,2],[27,3,27,6],[28,0,28,2],[28,3,28,6],[31,0,31,2],[31,3,31,6],[34,3,34,5],[34,6,35,6],[35,3,35,5]]}
[null,null,null,null,null,"Pièce n°"]
[]
[null,null,null,null,null,"    Date :","……/……/…………"]
[]
[]
["Régie d'avance pour la classe de :"]
[]
[]
[null,"Classe :"]
[]
[]
[]
[]
[]
[]
[]
["Versé la somme de :"]
[]
["……………………………………………………………………………………………………………………"]
[]
[]
[]
["è Le tuteur ou la tutrice s’engage à fournir la justification des dépenses\n (factures, tickets de caisse, ….)."]
["è Le solde non utilisé sera versé au mandataire de la coopérative après contrôle sur pièce de la régie."]
["è L’ensemble des documents sera remis au mandataire au plus tard le 30 Juin afin qu’il puisse intégrer ces opérations dans les comptes de la coopérative de l’école."]
[]
[]
["Mandataire :",null,null,"Tuteur/Tutrice de la classe :"]
["(Nom, Prénom et Signature)",null,null,"(Nom, Prénom et Signature)"]
[]
[]
["………………………...………………….",null,null,"……………………………………………………."]
[null,null,null,null,null,null,"Total de la pièce :"]
["q Paiement en espèces"]
["q Paiement par chèque :",null,"Banque n°  ","……………………………..",null,null,"……………..,……. €"]

{"sheet":"3","index":12,"n_rows":43,"n_cols":6,"rows_kept":43,"cut":false,"hidden":false,"merged":[[0,0,0,5],[2,0,2,5],[5,0,5,1],[5,2,5,3],[41,0,41,3],[42,0,42,3],[42,4,42,5]]}
["REMISES DE CHEQUES Classe à la Coopérative centrale"]
[{"$f":"IF(ISBLANK(Coordonnées!B6),\"\",\"Coopérative  scolaire OCCE 50 n° \"&Coordonnées!$B$6)&IF(ISBLANK(Coordonnées!$B$7),\"\",\" compte bancaire n° \"&Coordonnées!B7)","v":""}]
[]
[]
["Action : ",null,null,null,"  Date :  ……/……/…………"]
["Enseignant.e :",null,null,null,"  Classe :"]
[]
["Banque","Nom de l'émetteur du chèque",null,null,null,"Montant"]
[]
[]
[]
[]
[]
[]
[]
[]
[]
[]
[]
[]
[]
[]
[]
[]
[]
[]
[]
[]
[]
[]
[]
[]
[]
[]
[]
[]
[]
[]
[]
[]
[]
["Nombre de chèques : "]
["Total de la remise :   ",null,null,null,"…………………,..….. €"]

{"sheet":"4","index":13,"n_rows":41,"n_cols":9,"rows_kept":41,"cut":false,"hidden":false,"merged":[[0,0,0,8],[5,1,5,2],[40,3,40,4]]}
["REMISES D'ESPECES de la classe à la coopérative centrale"]
[{"$f":"IF(ISBLANK(Coordonnées!$B$6),\"\",\"Coopérative  scolaire OCCE 50 n° \"&Coordonnées!$B$6)&IF(ISBLANK(Coordonnées!$B$7),\"\",\" compte bancaire n° \"&Coordonnées!$B$7)","v":""}]
[]
[]
["Action : ",null,null,"  Date :  ……/……/…………"]
["Enseignant.e :",null,null,"  Classe :"]
[]
["Nom de l'élève",null,null,null,"Montant"]
[null,null,null,null,null,null,"billets","nombre","total"]
[null,null,null,null,null,null,500]
[null,null,null,null,null,null,200]
[null,null,null,null,null,null,100]
[null,null,null,null,null,null,50]
[null,null,null,null,null,null,20]
[null,null,null,null,null,null,10]
[null,null,null,null,null,null,5]
[null,null,null,null,null,null,null,"total billets"]
[]
[]
[]
[null,null,null,null,null,null,"pièces","nombre","total"]
[null,null,null,null,null,null,2]
[null,null,null,null,null,null,1]
[null,null,null,null,null,null,0.5]
[null,null,null,null,null,null,0.2]
[null,null,null,null,null,null,0.1]
[null,null,null,null,null,null,0.05]
[null,null,null,null,null,null,0.02]
[null,null,null,null,null,null,0.01]
[null,null,null,null,null,null,null,"total pièces"]
[]
[]
[]
[]
[]
[]
[]
[]
[]
[]
[null,"TOTAL",null,"…………………,..….. €"]

{"sheet":"5","index":14,"n_rows":14,"n_cols":5,"rows_kept":14,"cut":false,"hidden":false,"merged":[[0,0,0,4],[6,1,6,2],[6,3,6,4],[12,1,12,2],[12,3,12,4],[22,0,22,4],[23,0,23,4],[24,0,24,4],[25,0,25,4]]}
["FICHE NAVETTE - Parents -- Ecole"]
[]
[]
["NOM de l'élève :   ……………………………………",null,null,"  Année :","…………/…………"]
["Prénom :  ………………………………….",null,null,"Classe : ",",,,,,,,,,,,,,,,,,,,,,,,,,,,,,,,,,,,,,,"]
[]
[null,"Versements",null,"Signatures"]
[null,"Demandé","Reçu","Parent","Enseignant"]
["participation volontaire"]
["participation volontaire"]
["participation volontaire"]
[]
[null,"Autres versements",null,"Signatures"]
[null,"Demandé","Reçu","Parent","Enseignant"]

{"sheet":"6","index":15,"n_rows":5,"n_cols":4,"rows_kept":5,"cut":false,"hidden":false,"merged":[[0,0,0,3],[2,0,2,3],[3,0,3,3]]}
["INVENTAIRE DES BIENS ACQUIS PAR LA COOPERATIVE SCOLAIRE"]
[]
[]
["N'oubliez pas de faire une photocopie de la facture d'achat à ranger avec ce tableau"]
["Date de l'achat\n(ou de l'inventaire)","Nature de l'achat","Prix d'achat\nT.T.C","Observations : lieu de rangement, classe ou usage collectif, etc."]